BEGIN:VCALENDAR
VERSION:2.0
PRODID:-//Westminster Chapel - ECPv6.15.13.1//NONSGML v1.0//EN
CALSCALE:GREGORIAN
METHOD:PUBLISH
X-WR-CALNAME:Westminster Chapel
X-ORIGINAL-URL:https://westminsterchapelpca.ca
X-WR-CALDESC:Events for Westminster Chapel
REFRESH-INTERVAL;VALUE=DURATION:PT1H
X-Robots-Tag:noindex
X-PUBLISHED-TTL:PT1H
BEGIN:VTIMEZONE
TZID:America/Edmonton
BEGIN:DAYLIGHT
TZOFFSETFROM:-0700
TZOFFSETTO:-0600
TZNAME:MDT
DTSTART:20230312T090000
END:DAYLIGHT
BEGIN:STANDARD
TZOFFSETFROM:-0600
TZOFFSETTO:-0700
TZNAME:MST
DTSTART:20231105T080000
END:STANDARD
BEGIN:DAYLIGHT
TZOFFSETFROM:-0700
TZOFFSETTO:-0600
TZNAME:MDT
DTSTART:20240310T090000
END:DAYLIGHT
BEGIN:STANDARD
TZOFFSETFROM:-0600
TZOFFSETTO:-0700
TZNAME:MST
DTSTART:20241103T080000
END:STANDARD
BEGIN:DAYLIGHT
TZOFFSETFROM:-0700
TZOFFSETTO:-0600
TZNAME:MDT
DTSTART:20250309T090000
END:DAYLIGHT
BEGIN:STANDARD
TZOFFSETFROM:-0600
TZOFFSETTO:-0700
TZNAME:MST
DTSTART:20251102T080000
END:STANDARD
END:VTIMEZONE
BEGIN:VEVENT
DTSTART;TZID=America/Edmonton:20240915T103000
DTEND;TZID=America/Edmonton:20240915T113000
DTSTAMP:20260422T123049
CREATED:20240517T030649Z
LAST-MODIFIED:20240913T171344Z
UID:10002200-1726396200-1726399800@westminsterchapelpca.ca
SUMMARY:Church Picnic Service
DESCRIPTION:Pastor Adam Harris \nPsalm 19 \nGod’s Two Books \nToday\, Sept 15th we are joining for an outdoor service with a BBQ lunch at the Rotary Picnic Shelter (Giffen Road North – behind the northside Walmart and beside the outdoor soccer fields). Coffee 10 am\, Service 10:30 am\, followed by lunch\, fellowship and games! Hamburgers\, hotdogs and drinks will be provided. A-K bring a salad\, L-Z bring a dessert – Reminder no nuts please! Please bring lawn chairs and your favourite lawn game! Any questions please ask the Hospitality Committee.
URL:https://westminsterchapelpca.ca/event/am-worship-66/
LOCATION:Rotary Picnic Shelter\, 2801 30 Ave. North\, Lethbridge\, Alberta\, Canada
CATEGORIES:Worship Services
GEO:49.730729;-112.7992599
X-APPLE-STRUCTURED-LOCATION;VALUE=URI;X-ADDRESS=Rotary Picnic Shelter 2801 30 Ave. North Lethbridge Alberta Canada;X-APPLE-RADIUS=500;X-TITLE=2801 30 Ave. North:geo:-112.7992599,49.730729
END:VEVENT
END:VCALENDAR