BEGIN:VCALENDAR
VERSION:2.0
PRODID:-//Westminster Chapel - ECPv6.15.13.1//NONSGML v1.0//EN
CALSCALE:GREGORIAN
METHOD:PUBLISH
X-ORIGINAL-URL:https://westminsterchapelpca.ca
X-WR-CALDESC:Events for Westminster Chapel
REFRESH-INTERVAL;VALUE=DURATION:PT1H
X-Robots-Tag:noindex
X-PUBLISHED-TTL:PT1H
BEGIN:VTIMEZONE
TZID:America/Edmonton
BEGIN:DAYLIGHT
TZOFFSETFROM:-0700
TZOFFSETTO:-0600
TZNAME:MDT
DTSTART:20240310T090000
END:DAYLIGHT
BEGIN:STANDARD
TZOFFSETFROM:-0600
TZOFFSETTO:-0700
TZNAME:MST
DTSTART:20241103T080000
END:STANDARD
BEGIN:DAYLIGHT
TZOFFSETFROM:-0700
TZOFFSETTO:-0600
TZNAME:MDT
DTSTART:20250309T090000
END:DAYLIGHT
BEGIN:STANDARD
TZOFFSETFROM:-0600
TZOFFSETTO:-0700
TZNAME:MST
DTSTART:20251102T080000
END:STANDARD
BEGIN:DAYLIGHT
TZOFFSETFROM:-0700
TZOFFSETTO:-0600
TZNAME:MDT
DTSTART:20260308T090000
END:DAYLIGHT
BEGIN:STANDARD
TZOFFSETFROM:-0600
TZOFFSETTO:-0700
TZNAME:MST
DTSTART:20261101T080000
END:STANDARD
END:VTIMEZONE
BEGIN:VEVENT
DTSTART;TZID=America/Edmonton:20250208T130000
DTEND;TZID=America/Edmonton:20250208T163000
DTSTAMP:20260422T013821
CREATED:20250131T142127Z
LAST-MODIFIED:20250131T230835Z
UID:10004228-1739019600-1739032200@westminsterchapelpca.ca
SUMMARY:Sledding and Games Afternoon
DESCRIPTION:Saturday\, February 8th. Sugar Bowl at 1PM followed by games at 2:30PM in the church basement. Please bring your favourite board games and a snack to share! If there is no snow\, games will start at 2PM.
URL:https://westminsterchapelpca.ca/event/sledding-and-games-afternoon/
LOCATION:Westminister Chapel\, 329 19th Street North Lethbridge\, Alberta\, Lethbridge\, Alberta\, T1J-4A4\, Canada
CATEGORIES:Fellowship
GEO:49.6931758;-112.814634
X-APPLE-STRUCTURED-LOCATION;VALUE=URI;X-ADDRESS=Westminister Chapel 329 19th Street North Lethbridge Alberta Lethbridge Alberta T1J-4A4 Canada;X-APPLE-RADIUS=500;X-TITLE=329 19th Street North Lethbridge\, Alberta:geo:-112.814634,49.6931758
END:VEVENT
END:VCALENDAR