BEGIN:VCALENDAR
VERSION:2.0
PRODID:-//Westminster Chapel - ECPv6.15.13.1//NONSGML v1.0//EN
CALSCALE:GREGORIAN
METHOD:PUBLISH
X-WR-CALNAME:Westminster Chapel
X-ORIGINAL-URL:https://westminsterchapelpca.ca
X-WR-CALDESC:Events for Westminster Chapel
REFRESH-INTERVAL;VALUE=DURATION:PT1H
X-Robots-Tag:noindex
X-PUBLISHED-TTL:PT1H
BEGIN:VTIMEZONE
TZID:America/Edmonton
BEGIN:DAYLIGHT
TZOFFSETFROM:-0700
TZOFFSETTO:-0600
TZNAME:MDT
DTSTART:20240310T090000
END:DAYLIGHT
BEGIN:STANDARD
TZOFFSETFROM:-0600
TZOFFSETTO:-0700
TZNAME:MST
DTSTART:20241103T080000
END:STANDARD
BEGIN:DAYLIGHT
TZOFFSETFROM:-0700
TZOFFSETTO:-0600
TZNAME:MDT
DTSTART:20250309T090000
END:DAYLIGHT
BEGIN:STANDARD
TZOFFSETFROM:-0600
TZOFFSETTO:-0700
TZNAME:MST
DTSTART:20251102T080000
END:STANDARD
BEGIN:DAYLIGHT
TZOFFSETFROM:-0700
TZOFFSETTO:-0600
TZNAME:MDT
DTSTART:20260308T090000
END:DAYLIGHT
BEGIN:STANDARD
TZOFFSETFROM:-0600
TZOFFSETTO:-0700
TZNAME:MST
DTSTART:20261101T080000
END:STANDARD
END:VTIMEZONE
BEGIN:VEVENT
DTSTART;TZID=America/Edmonton:20250831T103000
DTEND;TZID=America/Edmonton:20250831T120000
DTSTAMP:20260421T122242
CREATED:20250828T014740Z
LAST-MODIFIED:20250829T034535Z
UID:10004492-1756636200-1756641600@westminsterchapelpca.ca
SUMMARY:AM Worship
DESCRIPTION:Pastor Brock Pavier \nLuke 13:10-17 \nA Demonstration of the Sabbath Principle
URL:https://westminsterchapelpca.ca/event/am-worship-118-4/
LOCATION:Westminister Chapel\, 329 19th Street North Lethbridge\, Alberta\, Lethbridge\, Alberta\, T1J-4A4\, Canada
GEO:49.6931758;-112.814634
X-APPLE-STRUCTURED-LOCATION;VALUE=URI;X-ADDRESS=Westminister Chapel 329 19th Street North Lethbridge Alberta Lethbridge Alberta T1J-4A4 Canada;X-APPLE-RADIUS=500;X-TITLE=329 19th Street North Lethbridge\, Alberta:geo:-112.814634,49.6931758
END:VEVENT
BEGIN:VEVENT
DTSTART;TZID=America/Edmonton:20250824T163000
DTEND;TZID=America/Edmonton:20250824T173000
DTSTAMP:20260421T122242
CREATED:20250820T165738Z
LAST-MODIFIED:20250820T165802Z
UID:10004761-1756053000-1756056600@westminsterchapelpca.ca
SUMMARY:PM Worship
DESCRIPTION:Elder Greg Johnson \nPsalm 24 \nThe King of Glory
URL:https://westminsterchapelpca.ca/event/pm-worship-102/
LOCATION:Westminister Chapel\, 329 19th Street North Lethbridge\, Alberta\, Lethbridge\, Alberta\, T1J-4A4\, Canada
CATEGORIES:Worship Services
GEO:49.6931758;-112.814634
X-APPLE-STRUCTURED-LOCATION;VALUE=URI;X-ADDRESS=Westminister Chapel 329 19th Street North Lethbridge Alberta Lethbridge Alberta T1J-4A4 Canada;X-APPLE-RADIUS=500;X-TITLE=329 19th Street North Lethbridge\, Alberta:geo:-112.814634,49.6931758
END:VEVENT
BEGIN:VEVENT
DTSTART;TZID=America/Edmonton:20250824T103000
DTEND;TZID=America/Edmonton:20250824T120000
DTSTAMP:20260421T122242
CREATED:20250820T165622Z
LAST-MODIFIED:20250820T165704Z
UID:10004491-1756031400-1756036800@westminsterchapelpca.ca
SUMMARY:AM Worship
DESCRIPTION:Elder Paul Mandry \nJohn 1:1-18 \nKnowing the Real Christ
URL:https://westminsterchapelpca.ca/event/am-worship-130/
LOCATION:Westminister Chapel\, 329 19th Street North Lethbridge\, Alberta\, Lethbridge\, Alberta\, T1J-4A4\, Canada
GEO:49.6931758;-112.814634
X-APPLE-STRUCTURED-LOCATION;VALUE=URI;X-ADDRESS=Westminister Chapel 329 19th Street North Lethbridge Alberta Lethbridge Alberta T1J-4A4 Canada;X-APPLE-RADIUS=500;X-TITLE=329 19th Street North Lethbridge\, Alberta:geo:-112.814634,49.6931758
END:VEVENT
BEGIN:VEVENT
DTSTART;TZID=America/Edmonton:20250817T163000
DTEND;TZID=America/Edmonton:20250817T173000
DTSTAMP:20260421T122242
CREATED:20250814T043338Z
LAST-MODIFIED:20250814T211242Z
UID:10004760-1755448200-1755451800@westminsterchapelpca.ca
SUMMARY:PM Worship
DESCRIPTION:Pastor Adam Harris \nGenesis 41 \nGod’s Man Exalted
URL:https://westminsterchapelpca.ca/event/pm-worship-101/
LOCATION:Westminister Chapel\, 329 19th Street North Lethbridge\, Alberta\, Lethbridge\, Alberta\, T1J-4A4\, Canada
CATEGORIES:Worship Services
GEO:49.6931758;-112.814634
X-APPLE-STRUCTURED-LOCATION;VALUE=URI;X-ADDRESS=Westminister Chapel 329 19th Street North Lethbridge Alberta Lethbridge Alberta T1J-4A4 Canada;X-APPLE-RADIUS=500;X-TITLE=329 19th Street North Lethbridge\, Alberta:geo:-112.814634,49.6931758
END:VEVENT
BEGIN:VEVENT
DTSTART;TZID=America/Edmonton:20250817T103000
DTEND;TZID=America/Edmonton:20250817T120000
DTSTAMP:20260421T122242
CREATED:20250814T043144Z
LAST-MODIFIED:20250814T043303Z
UID:10004490-1755426600-1755432000@westminsterchapelpca.ca
SUMMARY:AM Worship
DESCRIPTION:Pastor Adam Harris \nEzra 9:1-10:4 \nRebuilding and the Pursuit of Holiness
URL:https://westminsterchapelpca.ca/event/am-worship-129/
LOCATION:Westminister Chapel\, 329 19th Street North Lethbridge\, Alberta\, Lethbridge\, Alberta\, T1J-4A4\, Canada
GEO:49.6931758;-112.814634
X-APPLE-STRUCTURED-LOCATION;VALUE=URI;X-ADDRESS=Westminister Chapel 329 19th Street North Lethbridge Alberta Lethbridge Alberta T1J-4A4 Canada;X-APPLE-RADIUS=500;X-TITLE=329 19th Street North Lethbridge\, Alberta:geo:-112.814634,49.6931758
END:VEVENT
BEGIN:VEVENT
DTSTART;TZID=America/Edmonton:20250810T163000
DTEND;TZID=America/Edmonton:20250810T173000
DTSTAMP:20260421T122242
CREATED:20250807T040801Z
LAST-MODIFIED:20250807T041023Z
UID:10003037-1754843400-1754847000@westminsterchapelpca.ca
SUMMARY:PM Worship
DESCRIPTION:Pastor Adam Harris \nGenesis 40 \nDreams\, Dungeons\, and Delayed Deliverance
URL:https://westminsterchapelpca.ca/event/sunday-pm-worship-28-2022-05-22-4-7/
LOCATION:Westminister Chapel\, 329 19th Street North Lethbridge\, Alberta\, Lethbridge\, Alberta\, T1J-4A4\, Canada
CATEGORIES:Worship Services
GEO:49.6931758;-112.814634
X-APPLE-STRUCTURED-LOCATION;VALUE=URI;X-ADDRESS=Westminister Chapel 329 19th Street North Lethbridge Alberta Lethbridge Alberta T1J-4A4 Canada;X-APPLE-RADIUS=500;X-TITLE=329 19th Street North Lethbridge\, Alberta:geo:-112.814634,49.6931758
END:VEVENT
BEGIN:VEVENT
DTSTART;TZID=America/Edmonton:20250810T103000
DTEND;TZID=America/Edmonton:20250810T120000
DTSTAMP:20260421T122242
CREATED:20250804T203834Z
LAST-MODIFIED:20250807T040330Z
UID:10004489-1754821800-1754827200@westminsterchapelpca.ca
SUMMARY:AM Worship
DESCRIPTION:Intern Isaiah Spivey \nPhilippians 2:1-11 \nChristian Humility
URL:https://westminsterchapelpca.ca/event/am-worship-128/
LOCATION:Westminister Chapel\, 329 19th Street North Lethbridge\, Alberta\, Lethbridge\, Alberta\, T1J-4A4\, Canada
GEO:49.6931758;-112.814634
X-APPLE-STRUCTURED-LOCATION;VALUE=URI;X-ADDRESS=Westminister Chapel 329 19th Street North Lethbridge Alberta Lethbridge Alberta T1J-4A4 Canada;X-APPLE-RADIUS=500;X-TITLE=329 19th Street North Lethbridge\, Alberta:geo:-112.814634,49.6931758
END:VEVENT
BEGIN:VEVENT
DTSTART;TZID=America/Edmonton:20250803T120000
DTEND;TZID=America/Edmonton:20250803T150000
DTSTAMP:20260421T122242
CREATED:20250301T000214Z
LAST-MODIFIED:20260101T042008Z
UID:10004242-1754222400-1754233200@westminsterchapelpca.ca
SUMMARY:Fellowship Sunday
DESCRIPTION:Potluck lunch after the morning service\, typically held in the basement of the church. All are welcome!
URL:https://westminsterchapelpca.ca/event/community-groups-8/2025-08-03/
LOCATION:Westminister Chapel\, 329 19th Street North Lethbridge\, Alberta\, Lethbridge\, Alberta\, T1J-4A4\, Canada
CATEGORIES:Fellowship
GEO:49.6931758;-112.814634
X-APPLE-STRUCTURED-LOCATION;VALUE=URI;X-ADDRESS=Westminister Chapel 329 19th Street North Lethbridge Alberta Lethbridge Alberta T1J-4A4 Canada;X-APPLE-RADIUS=500;X-TITLE=329 19th Street North Lethbridge\, Alberta:geo:-112.814634,49.6931758
END:VEVENT
BEGIN:VEVENT
DTSTART;TZID=America/Edmonton:20250803T103000
DTEND;TZID=America/Edmonton:20250803T120000
DTSTAMP:20260421T122242
CREATED:20250801T171538Z
LAST-MODIFIED:20250801T171624Z
UID:10004488-1754217000-1754222400@westminsterchapelpca.ca
SUMMARY:AM Worship
DESCRIPTION:Pastor Adam Harris \nEzra 7:1-10 \nRebuilding through Godly Leadership
URL:https://westminsterchapelpca.ca/event/am-worship-127/
LOCATION:Westminister Chapel\, 329 19th Street North Lethbridge\, Alberta\, Lethbridge\, Alberta\, T1J-4A4\, Canada
GEO:49.6931758;-112.814634
X-APPLE-STRUCTURED-LOCATION;VALUE=URI;X-ADDRESS=Westminister Chapel 329 19th Street North Lethbridge Alberta Lethbridge Alberta T1J-4A4 Canada;X-APPLE-RADIUS=500;X-TITLE=329 19th Street North Lethbridge\, Alberta:geo:-112.814634,49.6931758
END:VEVENT
BEGIN:VEVENT
DTSTART;TZID=America/Edmonton:20250727T163000
DTEND;TZID=America/Edmonton:20250727T173000
DTSTAMP:20260421T122242
CREATED:20250725T023804Z
LAST-MODIFIED:20250725T023828Z
UID:10003036-1753633800-1753637400@westminsterchapelpca.ca
SUMMARY:PM Worship
DESCRIPTION:Intern Isaiah Spivey Psalm 121 The LORD Your Keeper
URL:https://westminsterchapelpca.ca/event/pm-worship-100/
LOCATION:Westminister Chapel\, 329 19th Street North Lethbridge\, Alberta\, Lethbridge\, Alberta\, T1J-4A4\, Canada
CATEGORIES:Worship Services
GEO:49.6931758;-112.814634
X-APPLE-STRUCTURED-LOCATION;VALUE=URI;X-ADDRESS=Westminister Chapel 329 19th Street North Lethbridge Alberta Lethbridge Alberta T1J-4A4 Canada;X-APPLE-RADIUS=500;X-TITLE=329 19th Street North Lethbridge\, Alberta:geo:-112.814634,49.6931758
END:VEVENT
BEGIN:VEVENT
DTSTART;TZID=America/Edmonton:20250727T103000
DTEND;TZID=America/Edmonton:20250727T120000
DTSTAMP:20260421T122242
CREATED:20250725T023729Z
LAST-MODIFIED:20250725T023758Z
UID:10004487-1753612200-1753617600@westminsterchapelpca.ca
SUMMARY:AM Worship
DESCRIPTION:Pastor Adam Harris Ezra 6:15-22 Rebuilding with Joyful Generosity
URL:https://westminsterchapelpca.ca/event/am-worship-126/
LOCATION:Westminister Chapel\, 329 19th Street North Lethbridge\, Alberta\, Lethbridge\, Alberta\, T1J-4A4\, Canada
GEO:49.6931758;-112.814634
X-APPLE-STRUCTURED-LOCATION;VALUE=URI;X-ADDRESS=Westminister Chapel 329 19th Street North Lethbridge Alberta Lethbridge Alberta T1J-4A4 Canada;X-APPLE-RADIUS=500;X-TITLE=329 19th Street North Lethbridge\, Alberta:geo:-112.814634,49.6931758
END:VEVENT
BEGIN:VEVENT
DTSTART;TZID=America/Edmonton:20250723T190000
DTEND;TZID=America/Edmonton:20250723T210000
DTSTAMP:20260421T122242
CREATED:20250425T185402Z
LAST-MODIFIED:20250503T020256Z
UID:10004304-1753297200-1753304400@westminsterchapelpca.ca
SUMMARY:Prayer Meeting and Hymn Sing
DESCRIPTION:
URL:https://westminsterchapelpca.ca/event/prayer-meeting-and-hymn-sing-2/2025-07-23/
LOCATION:Westminister Chapel\, 329 19th Street North Lethbridge\, Alberta\, Lethbridge\, Alberta\, T1J-4A4\, Canada
CATEGORIES:Prayer
GEO:49.6931758;-112.814634
X-APPLE-STRUCTURED-LOCATION;VALUE=URI;X-ADDRESS=Westminister Chapel 329 19th Street North Lethbridge Alberta Lethbridge Alberta T1J-4A4 Canada;X-APPLE-RADIUS=500;X-TITLE=329 19th Street North Lethbridge\, Alberta:geo:-112.814634,49.6931758
END:VEVENT
BEGIN:VEVENT
DTSTART;TZID=America/Edmonton:20250720T163000
DTEND;TZID=America/Edmonton:20250720T173000
DTSTAMP:20260421T122242
CREATED:20250718T022819Z
LAST-MODIFIED:20250718T022842Z
UID:10003035-1753029000-1753032600@westminsterchapelpca.ca
SUMMARY:PM Worship
DESCRIPTION:Intern Isaiah Spivey \nPsalm 103 \nSo Great is His Steadfast Love
URL:https://westminsterchapelpca.ca/event/pm-worship-99/
LOCATION:Westminister Chapel\, 329 19th Street North Lethbridge\, Alberta\, Lethbridge\, Alberta\, T1J-4A4\, Canada
CATEGORIES:Worship Services
GEO:49.6931758;-112.814634
X-APPLE-STRUCTURED-LOCATION;VALUE=URI;X-ADDRESS=Westminister Chapel 329 19th Street North Lethbridge Alberta Lethbridge Alberta T1J-4A4 Canada;X-APPLE-RADIUS=500;X-TITLE=329 19th Street North Lethbridge\, Alberta:geo:-112.814634,49.6931758
END:VEVENT
BEGIN:VEVENT
DTSTART;TZID=America/Edmonton:20250720T103000
DTEND;TZID=America/Edmonton:20250720T120000
DTSTAMP:20260421T122242
CREATED:20250718T022753Z
LAST-MODIFIED:20250718T022814Z
UID:10004486-1753007400-1753012800@westminsterchapelpca.ca
SUMMARY:AM Worship
DESCRIPTION:Pastor Adam Harris \nEzra 4:1-5 \nRebuilding in the Face of Opposition
URL:https://westminsterchapelpca.ca/event/am-worship-125/
LOCATION:Westminister Chapel\, 329 19th Street North Lethbridge\, Alberta\, Lethbridge\, Alberta\, T1J-4A4\, Canada
GEO:49.6931758;-112.814634
X-APPLE-STRUCTURED-LOCATION;VALUE=URI;X-ADDRESS=Westminister Chapel 329 19th Street North Lethbridge Alberta Lethbridge Alberta T1J-4A4 Canada;X-APPLE-RADIUS=500;X-TITLE=329 19th Street North Lethbridge\, Alberta:geo:-112.814634,49.6931758
END:VEVENT
BEGIN:VEVENT
DTSTART;TZID=America/Edmonton:20250713T163000
DTEND;TZID=America/Edmonton:20250713T173000
DTSTAMP:20260421T122242
CREATED:20250711T024846Z
LAST-MODIFIED:20250711T024911Z
UID:10003034-1752424200-1752427800@westminsterchapelpca.ca
SUMMARY:PM Worship
DESCRIPTION:Intern Isaiah Spivey \nPsalm 67 \nThe Worship of the Nations
URL:https://westminsterchapelpca.ca/event/pm-worship-98/
LOCATION:Westminister Chapel\, 329 19th Street North Lethbridge\, Alberta\, Lethbridge\, Alberta\, T1J-4A4\, Canada
CATEGORIES:Worship Services
GEO:49.6931758;-112.814634
X-APPLE-STRUCTURED-LOCATION;VALUE=URI;X-ADDRESS=Westminister Chapel 329 19th Street North Lethbridge Alberta Lethbridge Alberta T1J-4A4 Canada;X-APPLE-RADIUS=500;X-TITLE=329 19th Street North Lethbridge\, Alberta:geo:-112.814634,49.6931758
END:VEVENT
BEGIN:VEVENT
DTSTART;TZID=America/Edmonton:20250713T103000
DTEND;TZID=America/Edmonton:20250713T120000
DTSTAMP:20260421T122242
CREATED:20250711T024751Z
LAST-MODIFIED:20250711T024839Z
UID:10004485-1752402600-1752408000@westminsterchapelpca.ca
SUMMARY:AM Worship
DESCRIPTION:Pastor Adam Harris \nEzra 3:1-13 \nRebuilding for the Purpose of Worship
URL:https://westminsterchapelpca.ca/event/am-worship-124/
LOCATION:Westminister Chapel\, 329 19th Street North Lethbridge\, Alberta\, Lethbridge\, Alberta\, T1J-4A4\, Canada
GEO:49.6931758;-112.814634
X-APPLE-STRUCTURED-LOCATION;VALUE=URI;X-ADDRESS=Westminister Chapel 329 19th Street North Lethbridge Alberta Lethbridge Alberta T1J-4A4 Canada;X-APPLE-RADIUS=500;X-TITLE=329 19th Street North Lethbridge\, Alberta:geo:-112.814634,49.6931758
END:VEVENT
BEGIN:VEVENT
DTSTART;TZID=America/Edmonton:20250706T120000
DTEND;TZID=America/Edmonton:20250706T150000
DTSTAMP:20260421T122242
CREATED:20250627T185420Z
LAST-MODIFIED:20250627T185420Z
UID:10004241-1751803200-1751814000@westminsterchapelpca.ca
SUMMARY:Community Groups
DESCRIPTION:Please join us\, July 6th after the morning service for Community Group Sunday at Henderson Park (meet by the main park). Please bring your own picnic lunch\, drinks and chairs.
URL:https://westminsterchapelpca.ca/event/community-groups-8-2/
LOCATION:Westminister Chapel\, 329 19th Street North Lethbridge\, Alberta\, Lethbridge\, Alberta\, T1J-4A4\, Canada
CATEGORIES:Fellowship
GEO:49.6931758;-112.814634
X-APPLE-STRUCTURED-LOCATION;VALUE=URI;X-ADDRESS=Westminister Chapel 329 19th Street North Lethbridge Alberta Lethbridge Alberta T1J-4A4 Canada;X-APPLE-RADIUS=500;X-TITLE=329 19th Street North Lethbridge\, Alberta:geo:-112.814634,49.6931758
END:VEVENT
BEGIN:VEVENT
DTSTART;TZID=America/Edmonton:20250706T103000
DTEND;TZID=America/Edmonton:20250706T120000
DTSTAMP:20260421T122242
CREATED:20250703T211634Z
LAST-MODIFIED:20250703T211715Z
UID:10004484-1751797800-1751803200@westminsterchapelpca.ca
SUMMARY:AM Worship
DESCRIPTION:Pastor Adam Harris \nEzra 1:1-5 \nRebuilding under God’s Sovereignty
URL:https://westminsterchapelpca.ca/event/am-worship-123/
LOCATION:Westminister Chapel\, 329 19th Street North Lethbridge\, Alberta\, Lethbridge\, Alberta\, T1J-4A4\, Canada
GEO:49.6931758;-112.814634
X-APPLE-STRUCTURED-LOCATION;VALUE=URI;X-ADDRESS=Westminister Chapel 329 19th Street North Lethbridge Alberta Lethbridge Alberta T1J-4A4 Canada;X-APPLE-RADIUS=500;X-TITLE=329 19th Street North Lethbridge\, Alberta:geo:-112.814634,49.6931758
END:VEVENT
BEGIN:VEVENT
DTSTART;TZID=America/Edmonton:20250705T080000
DTEND;TZID=America/Edmonton:20250705T170000
DTSTAMP:20260421T122242
CREATED:20250613T032636Z
LAST-MODIFIED:20250613T032714Z
UID:10004744-1751702400-1751734800@westminsterchapelpca.ca
SUMMARY:Seniors Outing Crowsnest Pass
DESCRIPTION:
URL:https://westminsterchapelpca.ca/event/seniors-outing-crowsnest-pass/
LOCATION:Westminister Chapel\, 329 19th Street North Lethbridge\, Alberta\, Lethbridge\, Alberta\, T1J-4A4\, Canada
GEO:49.6931758;-112.814634
X-APPLE-STRUCTURED-LOCATION;VALUE=URI;X-ADDRESS=Westminister Chapel 329 19th Street North Lethbridge Alberta Lethbridge Alberta T1J-4A4 Canada;X-APPLE-RADIUS=500;X-TITLE=329 19th Street North Lethbridge\, Alberta:geo:-112.814634,49.6931758
END:VEVENT
BEGIN:VEVENT
DTSTART;TZID=America/Edmonton:20250629T163000
DTEND;TZID=America/Edmonton:20250629T173000
DTSTAMP:20260421T122242
CREATED:20250627T185107Z
LAST-MODIFIED:20250627T185141Z
UID:10003033-1751214600-1751218200@westminsterchapelpca.ca
SUMMARY:PM Worship
DESCRIPTION:Intern Isaiah Spivey \nPsalm 13 \nFrom Suffering to Song
URL:https://westminsterchapelpca.ca/event/pm-worship-97/
LOCATION:Westminister Chapel\, 329 19th Street North Lethbridge\, Alberta\, Lethbridge\, Alberta\, T1J-4A4\, Canada
CATEGORIES:Worship Services
GEO:49.6931758;-112.814634
X-APPLE-STRUCTURED-LOCATION;VALUE=URI;X-ADDRESS=Westminister Chapel 329 19th Street North Lethbridge Alberta Lethbridge Alberta T1J-4A4 Canada;X-APPLE-RADIUS=500;X-TITLE=329 19th Street North Lethbridge\, Alberta:geo:-112.814634,49.6931758
END:VEVENT
BEGIN:VEVENT
DTSTART;TZID=America/Edmonton:20250629T103000
DTEND;TZID=America/Edmonton:20250629T120000
DTSTAMP:20260421T122242
CREATED:20250627T185022Z
LAST-MODIFIED:20250627T185059Z
UID:10004483-1751193000-1751198400@westminsterchapelpca.ca
SUMMARY:AM Worship
DESCRIPTION:Pastor Adam Harris \nMark 16:9-20 \nThe End of the Matter
URL:https://westminsterchapelpca.ca/event/am-worship-122/
LOCATION:Westminister Chapel\, 329 19th Street North Lethbridge\, Alberta\, Lethbridge\, Alberta\, T1J-4A4\, Canada
GEO:49.6931758;-112.814634
X-APPLE-STRUCTURED-LOCATION;VALUE=URI;X-ADDRESS=Westminister Chapel 329 19th Street North Lethbridge Alberta Lethbridge Alberta T1J-4A4 Canada;X-APPLE-RADIUS=500;X-TITLE=329 19th Street North Lethbridge\, Alberta:geo:-112.814634,49.6931758
END:VEVENT
BEGIN:VEVENT
DTSTART;TZID=America/Edmonton:20250625T190000
DTEND;TZID=America/Edmonton:20250625T210000
DTSTAMP:20260421T122242
CREATED:20250425T185402Z
LAST-MODIFIED:20250503T020256Z
UID:10004303-1750878000-1750885200@westminsterchapelpca.ca
SUMMARY:Prayer Meeting and Hymn Sing
DESCRIPTION:
URL:https://westminsterchapelpca.ca/event/prayer-meeting-and-hymn-sing-2/2025-06-25/
LOCATION:Westminister Chapel\, 329 19th Street North Lethbridge\, Alberta\, Lethbridge\, Alberta\, T1J-4A4\, Canada
CATEGORIES:Prayer
GEO:49.6931758;-112.814634
X-APPLE-STRUCTURED-LOCATION;VALUE=URI;X-ADDRESS=Westminister Chapel 329 19th Street North Lethbridge Alberta Lethbridge Alberta T1J-4A4 Canada;X-APPLE-RADIUS=500;X-TITLE=329 19th Street North Lethbridge\, Alberta:geo:-112.814634,49.6931758
END:VEVENT
BEGIN:VEVENT
DTSTART;TZID=America/Edmonton:20250622T163000
DTEND;TZID=America/Edmonton:20250622T173000
DTSTAMP:20260421T122242
CREATED:20250619T201645Z
LAST-MODIFIED:20250619T201724Z
UID:10003032-1750609800-1750613400@westminsterchapelpca.ca
SUMMARY:PM Worship
DESCRIPTION:Pastor Nigel Wheeler \nNehemiah 6:3 \nOvercoming Opposition to a Great Work
URL:https://westminsterchapelpca.ca/event/pm-worship-96/
LOCATION:Westminister Chapel\, 329 19th Street North Lethbridge\, Alberta\, Lethbridge\, Alberta\, T1J-4A4\, Canada
CATEGORIES:Worship Services
GEO:49.6931758;-112.814634
X-APPLE-STRUCTURED-LOCATION;VALUE=URI;X-ADDRESS=Westminister Chapel 329 19th Street North Lethbridge Alberta Lethbridge Alberta T1J-4A4 Canada;X-APPLE-RADIUS=500;X-TITLE=329 19th Street North Lethbridge\, Alberta:geo:-112.814634,49.6931758
END:VEVENT
BEGIN:VEVENT
DTSTART;TZID=America/Edmonton:20250622T103000
DTEND;TZID=America/Edmonton:20250622T120000
DTSTAMP:20260421T122242
CREATED:20250619T201506Z
LAST-MODIFIED:20250619T201633Z
UID:10004482-1750588200-1750593600@westminsterchapelpca.ca
SUMMARY:AM Worship
DESCRIPTION:Intern Isaiah Spivey \n1 Corinthians 13 \nThe Mark of the Believer
URL:https://westminsterchapelpca.ca/event/am-worship-121/
LOCATION:Westminister Chapel\, 329 19th Street North Lethbridge\, Alberta\, Lethbridge\, Alberta\, T1J-4A4\, Canada
GEO:49.6931758;-112.814634
X-APPLE-STRUCTURED-LOCATION;VALUE=URI;X-ADDRESS=Westminister Chapel 329 19th Street North Lethbridge Alberta Lethbridge Alberta T1J-4A4 Canada;X-APPLE-RADIUS=500;X-TITLE=329 19th Street North Lethbridge\, Alberta:geo:-112.814634,49.6931758
END:VEVENT
BEGIN:VEVENT
DTSTART;TZID=America/Edmonton:20250615T163000
DTEND;TZID=America/Edmonton:20250615T173000
DTSTAMP:20260421T122242
CREATED:20250613T032437Z
LAST-MODIFIED:20250613T032515Z
UID:10003031-1750005000-1750008600@westminsterchapelpca.ca
SUMMARY:PM Worship
DESCRIPTION:Intern Isaiah Spivey \nPsalm 8 \nMankind Crowned
URL:https://westminsterchapelpca.ca/event/pm-worship-95/
LOCATION:Westminister Chapel\, 329 19th Street North Lethbridge\, Alberta\, Lethbridge\, Alberta\, T1J-4A4\, Canada
CATEGORIES:Worship Services
GEO:49.6931758;-112.814634
X-APPLE-STRUCTURED-LOCATION;VALUE=URI;X-ADDRESS=Westminister Chapel 329 19th Street North Lethbridge Alberta Lethbridge Alberta T1J-4A4 Canada;X-APPLE-RADIUS=500;X-TITLE=329 19th Street North Lethbridge\, Alberta:geo:-112.814634,49.6931758
END:VEVENT
BEGIN:VEVENT
DTSTART;TZID=America/Edmonton:20250615T103000
DTEND;TZID=America/Edmonton:20250615T120000
DTSTAMP:20260421T122242
CREATED:20250613T032400Z
LAST-MODIFIED:20250613T032431Z
UID:10004481-1749983400-1749988800@westminsterchapelpca.ca
SUMMARY:AM Worship
DESCRIPTION:Pastor Adam Harris \nMark 16:1-8 \nThe Empty Tomb
URL:https://westminsterchapelpca.ca/event/am-worship-120/
LOCATION:Westminister Chapel\, 329 19th Street North Lethbridge\, Alberta\, Lethbridge\, Alberta\, T1J-4A4\, Canada
GEO:49.6931758;-112.814634
X-APPLE-STRUCTURED-LOCATION;VALUE=URI;X-ADDRESS=Westminister Chapel 329 19th Street North Lethbridge Alberta Lethbridge Alberta T1J-4A4 Canada;X-APPLE-RADIUS=500;X-TITLE=329 19th Street North Lethbridge\, Alberta:geo:-112.814634,49.6931758
END:VEVENT
BEGIN:VEVENT
DTSTART;TZID=America/Edmonton:20250608T163000
DTEND;TZID=America/Edmonton:20250608T173000
DTSTAMP:20260421T122242
CREATED:20250606T012427Z
LAST-MODIFIED:20250606T012457Z
UID:10003030-1749400200-1749403800@westminsterchapelpca.ca
SUMMARY:PM Worship
DESCRIPTION:Intern Isaiah Spivey \nPsalm 1 \nThe Two Ways
URL:https://westminsterchapelpca.ca/event/pm-worship-94/
LOCATION:Westminister Chapel\, 329 19th Street North Lethbridge\, Alberta\, Lethbridge\, Alberta\, T1J-4A4\, Canada
CATEGORIES:Worship Services
GEO:49.6931758;-112.814634
X-APPLE-STRUCTURED-LOCATION;VALUE=URI;X-ADDRESS=Westminister Chapel 329 19th Street North Lethbridge Alberta Lethbridge Alberta T1J-4A4 Canada;X-APPLE-RADIUS=500;X-TITLE=329 19th Street North Lethbridge\, Alberta:geo:-112.814634,49.6931758
END:VEVENT
BEGIN:VEVENT
DTSTART;TZID=America/Edmonton:20250608T103000
DTEND;TZID=America/Edmonton:20250608T120000
DTSTAMP:20260421T122242
CREATED:20250606T012342Z
LAST-MODIFIED:20250606T012416Z
UID:10004480-1749378600-1749384000@westminsterchapelpca.ca
SUMMARY:AM Worship
DESCRIPTION:Pastor Adam Harris \nMark 15:42-47 \nThe Burial of Christ
URL:https://westminsterchapelpca.ca/event/am-worship-119/
LOCATION:Westminister Chapel\, 329 19th Street North Lethbridge\, Alberta\, Lethbridge\, Alberta\, T1J-4A4\, Canada
GEO:49.6931758;-112.814634
X-APPLE-STRUCTURED-LOCATION;VALUE=URI;X-ADDRESS=Westminister Chapel 329 19th Street North Lethbridge Alberta Lethbridge Alberta T1J-4A4 Canada;X-APPLE-RADIUS=500;X-TITLE=329 19th Street North Lethbridge\, Alberta:geo:-112.814634,49.6931758
END:VEVENT
BEGIN:VEVENT
DTSTART;TZID=America/Edmonton:20250604T190000
DTEND;TZID=America/Edmonton:20250604T210000
DTSTAMP:20260421T122242
CREATED:20250503T020056Z
LAST-MODIFIED:20250503T020056Z
UID:10004301-1749063600-1749070800@westminsterchapelpca.ca
SUMMARY:Mens' Bible Study
DESCRIPTION:
URL:https://westminsterchapelpca.ca/event/mens-bible-study-2-2/
LOCATION:Westminister Chapel\, 329 19th Street North Lethbridge\, Alberta\, Lethbridge\, Alberta\, T1J-4A4\, Canada
CATEGORIES:Bible Study
GEO:49.6931758;-112.814634
X-APPLE-STRUCTURED-LOCATION;VALUE=URI;X-ADDRESS=Westminister Chapel 329 19th Street North Lethbridge Alberta Lethbridge Alberta T1J-4A4 Canada;X-APPLE-RADIUS=500;X-TITLE=329 19th Street North Lethbridge\, Alberta:geo:-112.814634,49.6931758
END:VEVENT
BEGIN:VEVENT
DTSTART;TZID=America/Edmonton:20250601T120000
DTEND;TZID=America/Edmonton:20250601T150000
DTSTAMP:20260421T122242
CREATED:20250301T000214Z
LAST-MODIFIED:20260101T042008Z
UID:10004240-1748779200-1748790000@westminsterchapelpca.ca
SUMMARY:Fellowship Sunday
DESCRIPTION:Potluck lunch after the morning service\, typically held in the basement of the church. All are welcome!
URL:https://westminsterchapelpca.ca/event/community-groups-8/2025-06-01/
LOCATION:Westminister Chapel\, 329 19th Street North Lethbridge\, Alberta\, Lethbridge\, Alberta\, T1J-4A4\, Canada
CATEGORIES:Fellowship
GEO:49.6931758;-112.814634
X-APPLE-STRUCTURED-LOCATION;VALUE=URI;X-ADDRESS=Westminister Chapel 329 19th Street North Lethbridge Alberta Lethbridge Alberta T1J-4A4 Canada;X-APPLE-RADIUS=500;X-TITLE=329 19th Street North Lethbridge\, Alberta:geo:-112.814634,49.6931758
END:VEVENT
END:VCALENDAR