BEGIN:VCALENDAR
VERSION:2.0
PRODID:-//Westminster Chapel - ECPv6.15.13.1//NONSGML v1.0//EN
CALSCALE:GREGORIAN
METHOD:PUBLISH
X-WR-CALNAME:Westminster Chapel
X-ORIGINAL-URL:https://westminsterchapelpca.ca
X-WR-CALDESC:Events for Westminster Chapel
REFRESH-INTERVAL;VALUE=DURATION:PT1H
X-Robots-Tag:noindex
X-PUBLISHED-TTL:PT1H
BEGIN:VTIMEZONE
TZID:America/Edmonton
BEGIN:DAYLIGHT
TZOFFSETFROM:-0700
TZOFFSETTO:-0600
TZNAME:MDT
DTSTART:20240310T090000
END:DAYLIGHT
BEGIN:STANDARD
TZOFFSETFROM:-0600
TZOFFSETTO:-0700
TZNAME:MST
DTSTART:20241103T080000
END:STANDARD
BEGIN:DAYLIGHT
TZOFFSETFROM:-0700
TZOFFSETTO:-0600
TZNAME:MDT
DTSTART:20250309T090000
END:DAYLIGHT
BEGIN:STANDARD
TZOFFSETFROM:-0600
TZOFFSETTO:-0700
TZNAME:MST
DTSTART:20251102T080000
END:STANDARD
BEGIN:DAYLIGHT
TZOFFSETFROM:-0700
TZOFFSETTO:-0600
TZNAME:MDT
DTSTART:20260308T090000
END:DAYLIGHT
BEGIN:STANDARD
TZOFFSETFROM:-0600
TZOFFSETTO:-0700
TZNAME:MST
DTSTART:20261101T080000
END:STANDARD
END:VTIMEZONE
BEGIN:VEVENT
DTSTART;TZID=America/Edmonton:20250601T103000
DTEND;TZID=America/Edmonton:20250601T120000
DTSTAMP:20260421T161546
CREATED:20250529T172853Z
LAST-MODIFIED:20250529T172853Z
UID:10004479-1748773800-1748779200@westminsterchapelpca.ca
SUMMARY:AM Worship
DESCRIPTION:Pastor Adam Harris \nMark 15:33-41 \nThe Death of Christ
URL:https://westminsterchapelpca.ca/event/am-worship-118-2/
LOCATION:Westminister Chapel\, 329 19th Street North Lethbridge\, Alberta\, Lethbridge\, Alberta\, T1J-4A4\, Canada
GEO:49.6931758;-112.814634
X-APPLE-STRUCTURED-LOCATION;VALUE=URI;X-ADDRESS=Westminister Chapel 329 19th Street North Lethbridge Alberta Lethbridge Alberta T1J-4A4 Canada;X-APPLE-RADIUS=500;X-TITLE=329 19th Street North Lethbridge\, Alberta:geo:-112.814634,49.6931758
END:VEVENT
BEGIN:VEVENT
DTSTART;TZID=America/Edmonton:20250528T190000
DTEND;TZID=America/Edmonton:20250528T210000
DTSTAMP:20260421T161546
CREATED:20250425T185402Z
LAST-MODIFIED:20250503T020256Z
UID:10004302-1748458800-1748466000@westminsterchapelpca.ca
SUMMARY:Prayer Meeting and Hymn Sing
DESCRIPTION:
URL:https://westminsterchapelpca.ca/event/prayer-meeting-and-hymn-sing-2/2025-05-28/
LOCATION:Westminister Chapel\, 329 19th Street North Lethbridge\, Alberta\, Lethbridge\, Alberta\, T1J-4A4\, Canada
CATEGORIES:Prayer
GEO:49.6931758;-112.814634
X-APPLE-STRUCTURED-LOCATION;VALUE=URI;X-ADDRESS=Westminister Chapel 329 19th Street North Lethbridge Alberta Lethbridge Alberta T1J-4A4 Canada;X-APPLE-RADIUS=500;X-TITLE=329 19th Street North Lethbridge\, Alberta:geo:-112.814634,49.6931758
END:VEVENT
BEGIN:VEVENT
DTSTART;TZID=America/Edmonton:20250525T163000
DTEND;TZID=America/Edmonton:20250525T173000
DTSTAMP:20260421T161546
CREATED:20250523T014314Z
LAST-MODIFIED:20250523T014412Z
UID:10003029-1748190600-1748194200@westminsterchapelpca.ca
SUMMARY:PM Worship
DESCRIPTION:Pastor Adam Harris \nGenesis 39 \nUps and Downs
URL:https://westminsterchapelpca.ca/event/pm-worship-93/
LOCATION:Westminister Chapel\, 329 19th Street North Lethbridge\, Alberta\, Lethbridge\, Alberta\, T1J-4A4\, Canada
CATEGORIES:Worship Services
GEO:49.6931758;-112.814634
X-APPLE-STRUCTURED-LOCATION;VALUE=URI;X-ADDRESS=Westminister Chapel 329 19th Street North Lethbridge Alberta Lethbridge Alberta T1J-4A4 Canada;X-APPLE-RADIUS=500;X-TITLE=329 19th Street North Lethbridge\, Alberta:geo:-112.814634,49.6931758
END:VEVENT
BEGIN:VEVENT
DTSTART;TZID=America/Edmonton:20250518T163000
DTEND;TZID=America/Edmonton:20250518T173000
DTSTAMP:20260421T161546
CREATED:20250515T193705Z
LAST-MODIFIED:20250515T193737Z
UID:10003028-1747585800-1747589400@westminsterchapelpca.ca
SUMMARY:PM Worship
DESCRIPTION:Pastor Adam Harris \nGenesis 38 \nPiercing Judah
URL:https://westminsterchapelpca.ca/event/pm-worship-92/
LOCATION:Westminister Chapel\, 329 19th Street North Lethbridge\, Alberta\, Lethbridge\, Alberta\, T1J-4A4\, Canada
CATEGORIES:Worship Services
GEO:49.6931758;-112.814634
X-APPLE-STRUCTURED-LOCATION;VALUE=URI;X-ADDRESS=Westminister Chapel 329 19th Street North Lethbridge Alberta Lethbridge Alberta T1J-4A4 Canada;X-APPLE-RADIUS=500;X-TITLE=329 19th Street North Lethbridge\, Alberta:geo:-112.814634,49.6931758
END:VEVENT
BEGIN:VEVENT
DTSTART;TZID=America/Edmonton:20250511T163000
DTEND;TZID=America/Edmonton:20250511T173000
DTSTAMP:20260421T161546
CREATED:20250509T162950Z
LAST-MODIFIED:20250509T163039Z
UID:10003027-1746981000-1746984600@westminsterchapelpca.ca
SUMMARY:PM Worship
DESCRIPTION:Pastor Brock Pavier \nPsalm 79 \nAll We Like Sheep
URL:https://westminsterchapelpca.ca/event/pm-worship-91/
LOCATION:Westminister Chapel\, 329 19th Street North Lethbridge\, Alberta\, Lethbridge\, Alberta\, T1J-4A4\, Canada
CATEGORIES:Worship Services
GEO:49.6931758;-112.814634
X-APPLE-STRUCTURED-LOCATION;VALUE=URI;X-ADDRESS=Westminister Chapel 329 19th Street North Lethbridge Alberta Lethbridge Alberta T1J-4A4 Canada;X-APPLE-RADIUS=500;X-TITLE=329 19th Street North Lethbridge\, Alberta:geo:-112.814634,49.6931758
END:VEVENT
BEGIN:VEVENT
DTSTART;TZID=America/Edmonton:20250511T093000
DTEND;TZID=America/Edmonton:20250511T101500
DTSTAMP:20260421T161546
CREATED:20250425T185111Z
LAST-MODIFIED:20250425T185111Z
UID:10004293-1746955800-1746958500@westminsterchapelpca.ca
SUMMARY:Sunday School
DESCRIPTION:
URL:https://westminsterchapelpca.ca/event/sunday-school-7/2025-05-11/
LOCATION:Westminister Chapel\, 329 19th Street North Lethbridge\, Alberta\, Lethbridge\, Alberta\, T1J-4A4\, Canada
CATEGORIES:Sunday School
GEO:49.6931758;-112.814634
X-APPLE-STRUCTURED-LOCATION;VALUE=URI;X-ADDRESS=Westminister Chapel 329 19th Street North Lethbridge Alberta Lethbridge Alberta T1J-4A4 Canada;X-APPLE-RADIUS=500;X-TITLE=329 19th Street North Lethbridge\, Alberta:geo:-112.814634,49.6931758
END:VEVENT
BEGIN:VEVENT
DTSTART;TZID=America/Edmonton:20250507T190000
DTEND;TZID=America/Edmonton:20250507T210000
DTSTAMP:20260421T161546
CREATED:20250503T015902Z
LAST-MODIFIED:20250503T015946Z
UID:10004056-1746644400-1746651600@westminsterchapelpca.ca
SUMMARY:Mens' Bible Study
DESCRIPTION:
URL:https://westminsterchapelpca.ca/event/mens-bible-study-3/
LOCATION:Westminister Chapel\, 329 19th Street North Lethbridge\, Alberta\, Lethbridge\, Alberta\, T1J-4A4\, Canada
CATEGORIES:Bible Study
GEO:49.6931758;-112.814634
X-APPLE-STRUCTURED-LOCATION;VALUE=URI;X-ADDRESS=Westminister Chapel 329 19th Street North Lethbridge Alberta Lethbridge Alberta T1J-4A4 Canada;X-APPLE-RADIUS=500;X-TITLE=329 19th Street North Lethbridge\, Alberta:geo:-112.814634,49.6931758
END:VEVENT
BEGIN:VEVENT
DTSTART;TZID=America/Edmonton:20250507T094500
DTEND;TZID=America/Edmonton:20250507T114500
DTSTAMP:20260421T161546
CREATED:20250425T184142Z
LAST-MODIFIED:20250425T184142Z
UID:10004047-1746611100-1746618300@westminsterchapelpca.ca
SUMMARY:Ladies Wednesday Morning Bible Study
DESCRIPTION:10-11:45am\, coffee ready at 9:45am. We will be studying ‘When Strivings Cease’; Replacing the Gospel of Self-Improvement with the Gospel of Life-Transforming Grace\, by Ruth Chou Simons. Please contact Marian for a study guide.
URL:https://westminsterchapelpca.ca/event/ladies-wednesday-morning-bible-study-5/2025-05-07/
LOCATION:Westminister Chapel\, 329 19th Street North Lethbridge\, Alberta\, Lethbridge\, Alberta\, T1J-4A4\, Canada
CATEGORIES:Bible Study
GEO:49.6931758;-112.814634
X-APPLE-STRUCTURED-LOCATION;VALUE=URI;X-ADDRESS=Westminister Chapel 329 19th Street North Lethbridge Alberta Lethbridge Alberta T1J-4A4 Canada;X-APPLE-RADIUS=500;X-TITLE=329 19th Street North Lethbridge\, Alberta:geo:-112.814634,49.6931758
END:VEVENT
BEGIN:VEVENT
DTSTART;TZID=America/Edmonton:20250504T120000
DTEND;TZID=America/Edmonton:20250504T150000
DTSTAMP:20260421T161546
CREATED:20250301T000214Z
LAST-MODIFIED:20260101T042008Z
UID:10004239-1746360000-1746370800@westminsterchapelpca.ca
SUMMARY:Fellowship Sunday
DESCRIPTION:Potluck lunch after the morning service\, typically held in the basement of the church. All are welcome!
URL:https://westminsterchapelpca.ca/event/community-groups-8/2025-05-04/
LOCATION:Westminister Chapel\, 329 19th Street North Lethbridge\, Alberta\, Lethbridge\, Alberta\, T1J-4A4\, Canada
CATEGORIES:Fellowship
GEO:49.6931758;-112.814634
X-APPLE-STRUCTURED-LOCATION;VALUE=URI;X-ADDRESS=Westminister Chapel 329 19th Street North Lethbridge Alberta Lethbridge Alberta T1J-4A4 Canada;X-APPLE-RADIUS=500;X-TITLE=329 19th Street North Lethbridge\, Alberta:geo:-112.814634,49.6931758
END:VEVENT
BEGIN:VEVENT
DTSTART;TZID=America/Edmonton:20250503T090000
DTEND;TZID=America/Edmonton:20250503T140000
DTSTAMP:20260421T161546
CREATED:20250425T175412Z
LAST-MODIFIED:20250425T175412Z
UID:10004271-1746262800-1746280800@westminsterchapelpca.ca
SUMMARY:Quilting
DESCRIPTION:We will be continuing on the quilts for our refugee family. If you plan to attend please let Martha know.
URL:https://westminsterchapelpca.ca/event/quilting-6/
LOCATION:Westminister Chapel\, 329 19th Street North Lethbridge\, Alberta\, Lethbridge\, Alberta\, T1J-4A4\, Canada
GEO:49.6931758;-112.814634
X-APPLE-STRUCTURED-LOCATION;VALUE=URI;X-ADDRESS=Westminister Chapel 329 19th Street North Lethbridge Alberta Lethbridge Alberta T1J-4A4 Canada;X-APPLE-RADIUS=500;X-TITLE=329 19th Street North Lethbridge\, Alberta:geo:-112.814634,49.6931758
END:VEVENT
BEGIN:VEVENT
DTSTART;TZID=America/Edmonton:20250430T094500
DTEND;TZID=America/Edmonton:20250430T114500
DTSTAMP:20260421T161546
CREATED:20250425T184142Z
LAST-MODIFIED:20250425T184142Z
UID:10004046-1746006300-1746013500@westminsterchapelpca.ca
SUMMARY:Ladies Wednesday Morning Bible Study
DESCRIPTION:10-11:45am\, coffee ready at 9:45am. We will be studying ‘When Strivings Cease’; Replacing the Gospel of Self-Improvement with the Gospel of Life-Transforming Grace\, by Ruth Chou Simons. Please contact Marian for a study guide.
URL:https://westminsterchapelpca.ca/event/ladies-wednesday-morning-bible-study-5/2025-04-30/
LOCATION:Westminister Chapel\, 329 19th Street North Lethbridge\, Alberta\, Lethbridge\, Alberta\, T1J-4A4\, Canada
CATEGORIES:Bible Study
GEO:49.6931758;-112.814634
X-APPLE-STRUCTURED-LOCATION;VALUE=URI;X-ADDRESS=Westminister Chapel 329 19th Street North Lethbridge Alberta Lethbridge Alberta T1J-4A4 Canada;X-APPLE-RADIUS=500;X-TITLE=329 19th Street North Lethbridge\, Alberta:geo:-112.814634,49.6931758
END:VEVENT
BEGIN:VEVENT
DTSTART;TZID=America/Edmonton:20250427T163000
DTEND;TZID=America/Edmonton:20250427T173000
DTSTAMP:20260421T161546
CREATED:20250426T192053Z
LAST-MODIFIED:20250426T192132Z
UID:10002691-1745771400-1745775000@westminsterchapelpca.ca
SUMMARY:PM Worship
DESCRIPTION:Pastor Brock Pavier \nPsalm 16 \nDesire Shapes Destiny
URL:https://westminsterchapelpca.ca/event/pm-worship-90/
LOCATION:Westminister Chapel\, 329 19th Street North Lethbridge\, Alberta\, Lethbridge\, Alberta\, T1J-4A4\, Canada
CATEGORIES:Worship Services
GEO:49.6931758;-112.814634
X-APPLE-STRUCTURED-LOCATION;VALUE=URI;X-ADDRESS=Westminister Chapel 329 19th Street North Lethbridge Alberta Lethbridge Alberta T1J-4A4 Canada;X-APPLE-RADIUS=500;X-TITLE=329 19th Street North Lethbridge\, Alberta:geo:-112.814634,49.6931758
END:VEVENT
BEGIN:VEVENT
DTSTART;TZID=America/Edmonton:20250427T093000
DTEND;TZID=America/Edmonton:20250427T101500
DTSTAMP:20260421T161546
CREATED:20250425T185111Z
LAST-MODIFIED:20250425T185111Z
UID:10004294-1745746200-1745748900@westminsterchapelpca.ca
SUMMARY:Sunday School
DESCRIPTION:
URL:https://westminsterchapelpca.ca/event/sunday-school-7/2025-04-27/
LOCATION:Westminister Chapel\, 329 19th Street North Lethbridge\, Alberta\, Lethbridge\, Alberta\, T1J-4A4\, Canada
CATEGORIES:Sunday School
GEO:49.6931758;-112.814634
X-APPLE-STRUCTURED-LOCATION;VALUE=URI;X-ADDRESS=Westminister Chapel 329 19th Street North Lethbridge Alberta Lethbridge Alberta T1J-4A4 Canada;X-APPLE-RADIUS=500;X-TITLE=329 19th Street North Lethbridge\, Alberta:geo:-112.814634,49.6931758
END:VEVENT
BEGIN:VEVENT
DTSTART;TZID=America/Edmonton:20250423T190000
DTEND;TZID=America/Edmonton:20250423T210000
DTSTAMP:20260421T161546
CREATED:20250425T185402Z
LAST-MODIFIED:20250503T020256Z
UID:10004070-1745434800-1745442000@westminsterchapelpca.ca
SUMMARY:Prayer Meeting and Hymn Sing
DESCRIPTION:
URL:https://westminsterchapelpca.ca/event/prayer-meeting-and-hymn-sing-2/2025-04-23/
LOCATION:Westminister Chapel\, 329 19th Street North Lethbridge\, Alberta\, Lethbridge\, Alberta\, T1J-4A4\, Canada
CATEGORIES:Prayer
GEO:49.6931758;-112.814634
X-APPLE-STRUCTURED-LOCATION;VALUE=URI;X-ADDRESS=Westminister Chapel 329 19th Street North Lethbridge Alberta Lethbridge Alberta T1J-4A4 Canada;X-APPLE-RADIUS=500;X-TITLE=329 19th Street North Lethbridge\, Alberta:geo:-112.814634,49.6931758
END:VEVENT
BEGIN:VEVENT
DTSTART;TZID=America/Edmonton:20250420T163000
DTEND;TZID=America/Edmonton:20250420T173000
DTSTAMP:20260421T161546
CREATED:20250419T173057Z
LAST-MODIFIED:20250419T173211Z
UID:10002689-1745166600-1745170200@westminsterchapelpca.ca
SUMMARY:PM Worship
DESCRIPTION:Pastor Adam Harris \nExodus 14 \nThe Shadow of Easter
URL:https://westminsterchapelpca.ca/event/pm-worship-89/
LOCATION:Westminister Chapel\, 329 19th Street North Lethbridge\, Alberta\, Lethbridge\, Alberta\, T1J-4A4\, Canada
CATEGORIES:Worship Services
GEO:49.6931758;-112.814634
X-APPLE-STRUCTURED-LOCATION;VALUE=URI;X-ADDRESS=Westminister Chapel 329 19th Street North Lethbridge Alberta Lethbridge Alberta T1J-4A4 Canada;X-APPLE-RADIUS=500;X-TITLE=329 19th Street North Lethbridge\, Alberta:geo:-112.814634,49.6931758
END:VEVENT
BEGIN:VEVENT
DTSTART;TZID=America/Edmonton:20250416T094500
DTEND;TZID=America/Edmonton:20250416T114500
DTSTAMP:20260421T161546
CREATED:20240913T171725Z
LAST-MODIFIED:20240913T173002Z
UID:10004044-1744796700-1744803900@westminsterchapelpca.ca
SUMMARY:Ladies Wednesday Morning Bible Study
DESCRIPTION:10-11:45am\, coffee ready at 9:45am. We will be studying ‘When Strivings Cease’; Replacing the Gospel of Self-Improvement with the Gospel of Life-Transforming Grace\, by Ruth Chou Simons. Please contact Marian for a study guide.
URL:https://westminsterchapelpca.ca/event/ladies-wednesday-morning-bible-study/2025-04-16/
LOCATION:Westminister Chapel\, 329 19th Street North Lethbridge\, Alberta\, Lethbridge\, Alberta\, T1J-4A4\, Canada
CATEGORIES:Bible Study
GEO:49.6931758;-112.814634
X-APPLE-STRUCTURED-LOCATION;VALUE=URI;X-ADDRESS=Westminister Chapel 329 19th Street North Lethbridge Alberta Lethbridge Alberta T1J-4A4 Canada;X-APPLE-RADIUS=500;X-TITLE=329 19th Street North Lethbridge\, Alberta:geo:-112.814634,49.6931758
END:VEVENT
BEGIN:VEVENT
DTSTART;TZID=America/Edmonton:20250413T163000
DTEND;TZID=America/Edmonton:20250413T173000
DTSTAMP:20260421T161546
CREATED:20250410T185736Z
LAST-MODIFIED:20250410T190206Z
UID:10002686-1744561800-1744565400@westminsterchapelpca.ca
SUMMARY:PM Worship
DESCRIPTION:Pastor Ryan Case \nRomans 1:18-32. \nThe Wrath of God Revealed
URL:https://westminsterchapelpca.ca/event/pm-worship-88/
LOCATION:Westminister Chapel\, 329 19th Street North Lethbridge\, Alberta\, Lethbridge\, Alberta\, T1J-4A4\, Canada
CATEGORIES:Worship Services
GEO:49.6931758;-112.814634
X-APPLE-STRUCTURED-LOCATION;VALUE=URI;X-ADDRESS=Westminister Chapel 329 19th Street North Lethbridge Alberta Lethbridge Alberta T1J-4A4 Canada;X-APPLE-RADIUS=500;X-TITLE=329 19th Street North Lethbridge\, Alberta:geo:-112.814634,49.6931758
END:VEVENT
BEGIN:VEVENT
DTSTART;TZID=America/Edmonton:20250413T093000
DTEND;TZID=America/Edmonton:20250413T101500
DTSTAMP:20260421T161546
CREATED:20250405T161721Z
LAST-MODIFIED:20250405T161721Z
UID:10004266-1744536600-1744539300@westminsterchapelpca.ca
SUMMARY:Sunday School
DESCRIPTION:
URL:https://westminsterchapelpca.ca/event/sunday-school-6/
LOCATION:Westminister Chapel\, 329 19th Street North Lethbridge\, Alberta\, Lethbridge\, Alberta\, T1J-4A4\, Canada
GEO:49.6931758;-112.814634
X-APPLE-STRUCTURED-LOCATION;VALUE=URI;X-ADDRESS=Westminister Chapel 329 19th Street North Lethbridge Alberta Lethbridge Alberta T1J-4A4 Canada;X-APPLE-RADIUS=500;X-TITLE=329 19th Street North Lethbridge\, Alberta:geo:-112.814634,49.6931758
END:VEVENT
BEGIN:VEVENT
DTSTART;TZID=America/Edmonton:20250412T080000
DTEND;TZID=America/Edmonton:20250412T170000
DTSTAMP:20260421T161546
CREATED:20250319T200419Z
LAST-MODIFIED:20250319T200419Z
UID:10004260-1744444800-1744477200@westminsterchapelpca.ca
SUMMARY:Bridal Shower
DESCRIPTION:
URL:https://westminsterchapelpca.ca/event/bridal-shower/
LOCATION:Westminister Chapel\, 329 19th Street North Lethbridge\, Alberta\, Lethbridge\, Alberta\, T1J-4A4\, Canada
GEO:49.6931758;-112.814634
X-APPLE-STRUCTURED-LOCATION;VALUE=URI;X-ADDRESS=Westminister Chapel 329 19th Street North Lethbridge Alberta Lethbridge Alberta T1J-4A4 Canada;X-APPLE-RADIUS=500;X-TITLE=329 19th Street North Lethbridge\, Alberta:geo:-112.814634,49.6931758
END:VEVENT
BEGIN:VEVENT
DTSTART;TZID=America/Edmonton:20250409T094500
DTEND;TZID=America/Edmonton:20250409T114500
DTSTAMP:20260421T161546
CREATED:20240913T171725Z
LAST-MODIFIED:20240913T173002Z
UID:10004043-1744191900-1744199100@westminsterchapelpca.ca
SUMMARY:Ladies Wednesday Morning Bible Study
DESCRIPTION:10-11:45am\, coffee ready at 9:45am. We will be studying ‘When Strivings Cease’; Replacing the Gospel of Self-Improvement with the Gospel of Life-Transforming Grace\, by Ruth Chou Simons. Please contact Marian for a study guide.
URL:https://westminsterchapelpca.ca/event/ladies-wednesday-morning-bible-study/2025-04-09/
LOCATION:Westminister Chapel\, 329 19th Street North Lethbridge\, Alberta\, Lethbridge\, Alberta\, T1J-4A4\, Canada
CATEGORIES:Bible Study
GEO:49.6931758;-112.814634
X-APPLE-STRUCTURED-LOCATION;VALUE=URI;X-ADDRESS=Westminister Chapel 329 19th Street North Lethbridge Alberta Lethbridge Alberta T1J-4A4 Canada;X-APPLE-RADIUS=500;X-TITLE=329 19th Street North Lethbridge\, Alberta:geo:-112.814634,49.6931758
END:VEVENT
BEGIN:VEVENT
DTSTART;TZID=America/Edmonton:20250406T120000
DTEND;TZID=America/Edmonton:20250406T150000
DTSTAMP:20260421T161546
CREATED:20250301T000214Z
LAST-MODIFIED:20260101T042008Z
UID:10004238-1743940800-1743951600@westminsterchapelpca.ca
SUMMARY:Fellowship Sunday
DESCRIPTION:Potluck lunch after the morning service\, typically held in the basement of the church. All are welcome!
URL:https://westminsterchapelpca.ca/event/community-groups-8/2025-04-06/
LOCATION:Westminister Chapel\, 329 19th Street North Lethbridge\, Alberta\, Lethbridge\, Alberta\, T1J-4A4\, Canada
CATEGORIES:Fellowship
GEO:49.6931758;-112.814634
X-APPLE-STRUCTURED-LOCATION;VALUE=URI;X-ADDRESS=Westminister Chapel 329 19th Street North Lethbridge Alberta Lethbridge Alberta T1J-4A4 Canada;X-APPLE-RADIUS=500;X-TITLE=329 19th Street North Lethbridge\, Alberta:geo:-112.814634,49.6931758
END:VEVENT
BEGIN:VEVENT
DTSTART;TZID=America/Edmonton:20250402T190000
DTEND;TZID=America/Edmonton:20250402T210000
DTSTAMP:20260421T161546
CREATED:20240913T172534Z
LAST-MODIFIED:20240913T173024Z
UID:10004055-1743620400-1743627600@westminsterchapelpca.ca
SUMMARY:Mens' Bible Study
DESCRIPTION:
URL:https://westminsterchapelpca.ca/event/mens-bible-study/2025-04-02/
LOCATION:Westminister Chapel\, 329 19th Street North Lethbridge\, Alberta\, Lethbridge\, Alberta\, T1J-4A4\, Canada
CATEGORIES:Bible Study
GEO:49.6931758;-112.814634
X-APPLE-STRUCTURED-LOCATION;VALUE=URI;X-ADDRESS=Westminister Chapel 329 19th Street North Lethbridge Alberta Lethbridge Alberta T1J-4A4 Canada;X-APPLE-RADIUS=500;X-TITLE=329 19th Street North Lethbridge\, Alberta:geo:-112.814634,49.6931758
END:VEVENT
BEGIN:VEVENT
DTSTART;TZID=America/Edmonton:20250402T094500
DTEND;TZID=America/Edmonton:20250402T114500
DTSTAMP:20260421T161546
CREATED:20240913T171725Z
LAST-MODIFIED:20240913T173002Z
UID:10004042-1743587100-1743594300@westminsterchapelpca.ca
SUMMARY:Ladies Wednesday Morning Bible Study
DESCRIPTION:10-11:45am\, coffee ready at 9:45am. We will be studying ‘When Strivings Cease’; Replacing the Gospel of Self-Improvement with the Gospel of Life-Transforming Grace\, by Ruth Chou Simons. Please contact Marian for a study guide.
URL:https://westminsterchapelpca.ca/event/ladies-wednesday-morning-bible-study/2025-04-02/
LOCATION:Westminister Chapel\, 329 19th Street North Lethbridge\, Alberta\, Lethbridge\, Alberta\, T1J-4A4\, Canada
CATEGORIES:Bible Study
GEO:49.6931758;-112.814634
X-APPLE-STRUCTURED-LOCATION;VALUE=URI;X-ADDRESS=Westminister Chapel 329 19th Street North Lethbridge Alberta Lethbridge Alberta T1J-4A4 Canada;X-APPLE-RADIUS=500;X-TITLE=329 19th Street North Lethbridge\, Alberta:geo:-112.814634,49.6931758
END:VEVENT
BEGIN:VEVENT
DTSTART;TZID=America/Edmonton:20250330T163000
DTEND;TZID=America/Edmonton:20250330T173000
DTSTAMP:20260421T161546
CREATED:20250329T180434Z
LAST-MODIFIED:20250329T180758Z
UID:10002684-1743352200-1743355800@westminsterchapelpca.ca
SUMMARY:PM Worship
DESCRIPTION:Pastor Adam Harris \nGenesis 37 \nA Colourful Conspiracy
URL:https://westminsterchapelpca.ca/event/pm-worship-87/
LOCATION:Westminister Chapel\, 329 19th Street North Lethbridge\, Alberta\, Lethbridge\, Alberta\, T1J-4A4\, Canada
CATEGORIES:Worship Services
GEO:49.6931758;-112.814634
X-APPLE-STRUCTURED-LOCATION;VALUE=URI;X-ADDRESS=Westminister Chapel 329 19th Street North Lethbridge Alberta Lethbridge Alberta T1J-4A4 Canada;X-APPLE-RADIUS=500;X-TITLE=329 19th Street North Lethbridge\, Alberta:geo:-112.814634,49.6931758
END:VEVENT
BEGIN:VEVENT
DTSTART;TZID=America/Edmonton:20250330T093000
DTEND;TZID=America/Edmonton:20250330T101500
DTSTAMP:20260421T161546
CREATED:20240913T171203Z
LAST-MODIFIED:20240913T171203Z
UID:10004010-1743327000-1743329700@westminsterchapelpca.ca
SUMMARY:Sunday School
DESCRIPTION:
URL:https://westminsterchapelpca.ca/event/sunday-school-4/2025-03-30/
LOCATION:Westminister Chapel\, 329 19th Street North Lethbridge\, Alberta\, Lethbridge\, Alberta\, T1J-4A4\, Canada
CATEGORIES:Sunday School
GEO:49.6931758;-112.814634
X-APPLE-STRUCTURED-LOCATION;VALUE=URI;X-ADDRESS=Westminister Chapel 329 19th Street North Lethbridge Alberta Lethbridge Alberta T1J-4A4 Canada;X-APPLE-RADIUS=500;X-TITLE=329 19th Street North Lethbridge\, Alberta:geo:-112.814634,49.6931758
END:VEVENT
BEGIN:VEVENT
DTSTART;TZID=America/Edmonton:20250326T190000
DTEND;TZID=America/Edmonton:20250326T210000
DTSTAMP:20260421T161546
CREATED:20240913T172921Z
LAST-MODIFIED:20240913T172921Z
UID:10004069-1743015600-1743022800@westminsterchapelpca.ca
SUMMARY:Prayer Meeting and Hymn Sing
DESCRIPTION:
URL:https://westminsterchapelpca.ca/event/prayer-meeting-and-hymn-sing/2025-03-26/
LOCATION:Westminister Chapel\, 329 19th Street North Lethbridge\, Alberta\, Lethbridge\, Alberta\, T1J-4A4\, Canada
CATEGORIES:Prayer
GEO:49.6931758;-112.814634
X-APPLE-STRUCTURED-LOCATION;VALUE=URI;X-ADDRESS=Westminister Chapel 329 19th Street North Lethbridge Alberta Lethbridge Alberta T1J-4A4 Canada;X-APPLE-RADIUS=500;X-TITLE=329 19th Street North Lethbridge\, Alberta:geo:-112.814634,49.6931758
END:VEVENT
BEGIN:VEVENT
DTSTART;TZID=America/Edmonton:20250326T094500
DTEND;TZID=America/Edmonton:20250326T114500
DTSTAMP:20260421T161546
CREATED:20240913T171725Z
LAST-MODIFIED:20240913T173002Z
UID:10004041-1742982300-1742989500@westminsterchapelpca.ca
SUMMARY:Ladies Wednesday Morning Bible Study
DESCRIPTION:10-11:45am\, coffee ready at 9:45am. We will be studying ‘When Strivings Cease’; Replacing the Gospel of Self-Improvement with the Gospel of Life-Transforming Grace\, by Ruth Chou Simons. Please contact Marian for a study guide.
URL:https://westminsterchapelpca.ca/event/ladies-wednesday-morning-bible-study/2025-03-26/
LOCATION:Westminister Chapel\, 329 19th Street North Lethbridge\, Alberta\, Lethbridge\, Alberta\, T1J-4A4\, Canada
CATEGORIES:Bible Study
GEO:49.6931758;-112.814634
X-APPLE-STRUCTURED-LOCATION;VALUE=URI;X-ADDRESS=Westminister Chapel 329 19th Street North Lethbridge Alberta Lethbridge Alberta T1J-4A4 Canada;X-APPLE-RADIUS=500;X-TITLE=329 19th Street North Lethbridge\, Alberta:geo:-112.814634,49.6931758
END:VEVENT
BEGIN:VEVENT
DTSTART;TZID=America/Edmonton:20250323T163000
DTEND;TZID=America/Edmonton:20250323T173000
DTSTAMP:20260421T161546
CREATED:20250320T190516Z
LAST-MODIFIED:20250320T191129Z
UID:10002679-1742747400-1742751000@westminsterchapelpca.ca
SUMMARY:PM Worship
DESCRIPTION:Pastor Adam Harris \nGenesis 36 \nCastles in the Sand
URL:https://westminsterchapelpca.ca/event/pm-worship-86/
LOCATION:Westminister Chapel\, 329 19th Street North Lethbridge\, Alberta\, Lethbridge\, Alberta\, T1J-4A4\, Canada
CATEGORIES:Worship Services
GEO:49.6931758;-112.814634
X-APPLE-STRUCTURED-LOCATION;VALUE=URI;X-ADDRESS=Westminister Chapel 329 19th Street North Lethbridge Alberta Lethbridge Alberta T1J-4A4 Canada;X-APPLE-RADIUS=500;X-TITLE=329 19th Street North Lethbridge\, Alberta:geo:-112.814634,49.6931758
END:VEVENT
BEGIN:VEVENT
DTSTART;TZID=America/Edmonton:20250323T093000
DTEND;TZID=America/Edmonton:20250323T101500
DTSTAMP:20260421T161546
CREATED:20240913T171203Z
LAST-MODIFIED:20240913T171203Z
UID:10004009-1742722200-1742724900@westminsterchapelpca.ca
SUMMARY:Sunday School
DESCRIPTION:
URL:https://westminsterchapelpca.ca/event/sunday-school-4/2025-03-23/
LOCATION:Westminister Chapel\, 329 19th Street North Lethbridge\, Alberta\, Lethbridge\, Alberta\, T1J-4A4\, Canada
CATEGORIES:Sunday School
GEO:49.6931758;-112.814634
X-APPLE-STRUCTURED-LOCATION;VALUE=URI;X-ADDRESS=Westminister Chapel 329 19th Street North Lethbridge Alberta Lethbridge Alberta T1J-4A4 Canada;X-APPLE-RADIUS=500;X-TITLE=329 19th Street North Lethbridge\, Alberta:geo:-112.814634,49.6931758
END:VEVENT
BEGIN:VEVENT
DTSTART;TZID=America/Edmonton:20250319T094500
DTEND;TZID=America/Edmonton:20250319T114500
DTSTAMP:20260421T161546
CREATED:20240913T171725Z
LAST-MODIFIED:20240913T173002Z
UID:10004040-1742377500-1742384700@westminsterchapelpca.ca
SUMMARY:Ladies Wednesday Morning Bible Study
DESCRIPTION:10-11:45am\, coffee ready at 9:45am. We will be studying ‘When Strivings Cease’; Replacing the Gospel of Self-Improvement with the Gospel of Life-Transforming Grace\, by Ruth Chou Simons. Please contact Marian for a study guide.
URL:https://westminsterchapelpca.ca/event/ladies-wednesday-morning-bible-study/2025-03-19/
LOCATION:Westminister Chapel\, 329 19th Street North Lethbridge\, Alberta\, Lethbridge\, Alberta\, T1J-4A4\, Canada
CATEGORIES:Bible Study
GEO:49.6931758;-112.814634
X-APPLE-STRUCTURED-LOCATION;VALUE=URI;X-ADDRESS=Westminister Chapel 329 19th Street North Lethbridge Alberta Lethbridge Alberta T1J-4A4 Canada;X-APPLE-RADIUS=500;X-TITLE=329 19th Street North Lethbridge\, Alberta:geo:-112.814634,49.6931758
END:VEVENT
END:VCALENDAR