BEGIN:VCALENDAR
VERSION:2.0
PRODID:-//Westminster Chapel - ECPv6.15.13.1//NONSGML v1.0//EN
CALSCALE:GREGORIAN
METHOD:PUBLISH
X-ORIGINAL-URL:https://westminsterchapelpca.ca
X-WR-CALDESC:Events for Westminster Chapel
REFRESH-INTERVAL;VALUE=DURATION:PT1H
X-Robots-Tag:noindex
X-PUBLISHED-TTL:PT1H
BEGIN:VTIMEZONE
TZID:America/Edmonton
BEGIN:DAYLIGHT
TZOFFSETFROM:-0700
TZOFFSETTO:-0600
TZNAME:MDT
DTSTART:20230312T090000
END:DAYLIGHT
BEGIN:STANDARD
TZOFFSETFROM:-0600
TZOFFSETTO:-0700
TZNAME:MST
DTSTART:20231105T080000
END:STANDARD
BEGIN:DAYLIGHT
TZOFFSETFROM:-0700
TZOFFSETTO:-0600
TZNAME:MDT
DTSTART:20240310T090000
END:DAYLIGHT
BEGIN:STANDARD
TZOFFSETFROM:-0600
TZOFFSETTO:-0700
TZNAME:MST
DTSTART:20241103T080000
END:STANDARD
BEGIN:DAYLIGHT
TZOFFSETFROM:-0700
TZOFFSETTO:-0600
TZNAME:MDT
DTSTART:20250309T090000
END:DAYLIGHT
BEGIN:STANDARD
TZOFFSETFROM:-0600
TZOFFSETTO:-0700
TZNAME:MST
DTSTART:20251102T080000
END:STANDARD
END:VTIMEZONE
BEGIN:VEVENT
DTSTART;TZID=America/Edmonton:20241222T163000
DTEND;TZID=America/Edmonton:20241222T173000
DTSTAMP:20260422T014926
CREATED:20241220T202020Z
LAST-MODIFIED:20241220T202249Z
UID:10001872-1734885000-1734888600@westminsterchapelpca.ca
SUMMARY:PM Worship
DESCRIPTION:Pastor Adam Harris \nLuke 2:25-35 \nThe Light of Truth
URL:https://westminsterchapelpca.ca/event/pm-worship-76/
LOCATION:Westminister Chapel\, 329 19th Street North Lethbridge\, Alberta\, Lethbridge\, Alberta\, T1J-4A4\, Canada
CATEGORIES:Worship Services
GEO:49.6931758;-112.814634
X-APPLE-STRUCTURED-LOCATION;VALUE=URI;X-ADDRESS=Westminister Chapel 329 19th Street North Lethbridge Alberta Lethbridge Alberta T1J-4A4 Canada;X-APPLE-RADIUS=500;X-TITLE=329 19th Street North Lethbridge\, Alberta:geo:-112.814634,49.6931758
END:VEVENT
BEGIN:VEVENT
DTSTART;TZID=America/Edmonton:20241222T093000
DTEND;TZID=America/Edmonton:20241222T101500
DTSTAMP:20260422T014926
CREATED:20240913T171203Z
LAST-MODIFIED:20240913T171203Z
UID:10003999-1734859800-1734862500@westminsterchapelpca.ca
SUMMARY:Sunday School
DESCRIPTION:
URL:https://westminsterchapelpca.ca/event/sunday-school-4/2024-12-22/
LOCATION:Westminister Chapel\, 329 19th Street North Lethbridge\, Alberta\, Lethbridge\, Alberta\, T1J-4A4\, Canada
CATEGORIES:Sunday School
GEO:49.6931758;-112.814634
X-APPLE-STRUCTURED-LOCATION;VALUE=URI;X-ADDRESS=Westminister Chapel 329 19th Street North Lethbridge Alberta Lethbridge Alberta T1J-4A4 Canada;X-APPLE-RADIUS=500;X-TITLE=329 19th Street North Lethbridge\, Alberta:geo:-112.814634,49.6931758
END:VEVENT
BEGIN:VEVENT
DTSTART;TZID=America/Edmonton:20241218T094500
DTEND;TZID=America/Edmonton:20241218T114500
DTSTAMP:20260422T014926
CREATED:20240913T171725Z
LAST-MODIFIED:20240913T173002Z
UID:10004027-1734515100-1734522300@westminsterchapelpca.ca
SUMMARY:Ladies Wednesday Morning Bible Study
DESCRIPTION:10-11:45am\, coffee ready at 9:45am. We will be studying ‘When Strivings Cease’; Replacing the Gospel of Self-Improvement with the Gospel of Life-Transforming Grace\, by Ruth Chou Simons. Please contact Marian for a study guide.
URL:https://westminsterchapelpca.ca/event/ladies-wednesday-morning-bible-study/2024-12-18/
LOCATION:Westminister Chapel\, 329 19th Street North Lethbridge\, Alberta\, Lethbridge\, Alberta\, T1J-4A4\, Canada
CATEGORIES:Bible Study
GEO:49.6931758;-112.814634
X-APPLE-STRUCTURED-LOCATION;VALUE=URI;X-ADDRESS=Westminister Chapel 329 19th Street North Lethbridge Alberta Lethbridge Alberta T1J-4A4 Canada;X-APPLE-RADIUS=500;X-TITLE=329 19th Street North Lethbridge\, Alberta:geo:-112.814634,49.6931758
END:VEVENT
BEGIN:VEVENT
DTSTART;TZID=America/Edmonton:20241215T163000
DTEND;TZID=America/Edmonton:20241215T173000
DTSTAMP:20260422T014926
CREATED:20241213T144626Z
LAST-MODIFIED:20241213T144653Z
UID:10001871-1734280200-1734283800@westminsterchapelpca.ca
SUMMARY:PM Worship
DESCRIPTION:Pastor Adam Harris \n1 John 1:1-5 \nThe Light of Purity
URL:https://westminsterchapelpca.ca/event/pm-worship-75/
LOCATION:Westminister Chapel\, 329 19th Street North Lethbridge\, Alberta\, Lethbridge\, Alberta\, T1J-4A4\, Canada
CATEGORIES:Worship Services
GEO:49.6931758;-112.814634
X-APPLE-STRUCTURED-LOCATION;VALUE=URI;X-ADDRESS=Westminister Chapel 329 19th Street North Lethbridge Alberta Lethbridge Alberta T1J-4A4 Canada;X-APPLE-RADIUS=500;X-TITLE=329 19th Street North Lethbridge\, Alberta:geo:-112.814634,49.6931758
END:VEVENT
BEGIN:VEVENT
DTSTART;TZID=America/Edmonton:20241215T093000
DTEND;TZID=America/Edmonton:20241215T101500
DTSTAMP:20260422T014926
CREATED:20240913T171203Z
LAST-MODIFIED:20240913T171203Z
UID:10003998-1734255000-1734257700@westminsterchapelpca.ca
SUMMARY:Sunday School
DESCRIPTION:
URL:https://westminsterchapelpca.ca/event/sunday-school-4/2024-12-15/
LOCATION:Westminister Chapel\, 329 19th Street North Lethbridge\, Alberta\, Lethbridge\, Alberta\, T1J-4A4\, Canada
CATEGORIES:Sunday School
GEO:49.6931758;-112.814634
X-APPLE-STRUCTURED-LOCATION;VALUE=URI;X-ADDRESS=Westminister Chapel 329 19th Street North Lethbridge Alberta Lethbridge Alberta T1J-4A4 Canada;X-APPLE-RADIUS=500;X-TITLE=329 19th Street North Lethbridge\, Alberta:geo:-112.814634,49.6931758
END:VEVENT
BEGIN:VEVENT
DTSTART;TZID=America/Edmonton:20241213T180000
DTEND;TZID=America/Edmonton:20241213T210000
DTSTAMP:20260422T014926
CREATED:20241122T205710Z
LAST-MODIFIED:20241122T205710Z
UID:10004204-1734112800-1734123600@westminsterchapelpca.ca
SUMMARY:Youth Christmas Party
DESCRIPTION:A Christmas party Dec. 13 @6pm at the Winkelaars. Please bring an appetizer to share.
URL:https://westminsterchapelpca.ca/event/youth-christmas-party/
LOCATION:Westminister Chapel\, 329 19th Street North Lethbridge\, Alberta\, Lethbridge\, Alberta\, T1J-4A4\, Canada
GEO:49.6931758;-112.814634
X-APPLE-STRUCTURED-LOCATION;VALUE=URI;X-ADDRESS=Westminister Chapel 329 19th Street North Lethbridge Alberta Lethbridge Alberta T1J-4A4 Canada;X-APPLE-RADIUS=500;X-TITLE=329 19th Street North Lethbridge\, Alberta:geo:-112.814634,49.6931758
END:VEVENT
BEGIN:VEVENT
DTSTART;TZID=America/Edmonton:20241211T094500
DTEND;TZID=America/Edmonton:20241211T114500
DTSTAMP:20260422T014926
CREATED:20240913T171725Z
LAST-MODIFIED:20240913T173002Z
UID:10004026-1733910300-1733917500@westminsterchapelpca.ca
SUMMARY:Ladies Wednesday Morning Bible Study
DESCRIPTION:10-11:45am\, coffee ready at 9:45am. We will be studying ‘When Strivings Cease’; Replacing the Gospel of Self-Improvement with the Gospel of Life-Transforming Grace\, by Ruth Chou Simons. Please contact Marian for a study guide.
URL:https://westminsterchapelpca.ca/event/ladies-wednesday-morning-bible-study/2024-12-11/
LOCATION:Westminister Chapel\, 329 19th Street North Lethbridge\, Alberta\, Lethbridge\, Alberta\, T1J-4A4\, Canada
CATEGORIES:Bible Study
GEO:49.6931758;-112.814634
X-APPLE-STRUCTURED-LOCATION;VALUE=URI;X-ADDRESS=Westminister Chapel 329 19th Street North Lethbridge Alberta Lethbridge Alberta T1J-4A4 Canada;X-APPLE-RADIUS=500;X-TITLE=329 19th Street North Lethbridge\, Alberta:geo:-112.814634,49.6931758
END:VEVENT
BEGIN:VEVENT
DTSTART;TZID=America/Edmonton:20241210T190000
DTEND;TZID=America/Edmonton:20241210T220000
DTSTAMP:20260422T014926
CREATED:20230119T215238Z
LAST-MODIFIED:20230119T215238Z
UID:10002638-1733857200-1733868000@westminsterchapelpca.ca
SUMMARY:Session Meeting
DESCRIPTION:
URL:https://westminsterchapelpca.ca/event/session-meeting/2024-12-10/
LOCATION:Westminister Chapel\, 329 19th Street North Lethbridge\, Alberta\, Lethbridge\, Alberta\, T1J-4A4\, Canada
GEO:49.6931758;-112.814634
X-APPLE-STRUCTURED-LOCATION;VALUE=URI;X-ADDRESS=Westminister Chapel 329 19th Street North Lethbridge Alberta Lethbridge Alberta T1J-4A4 Canada;X-APPLE-RADIUS=500;X-TITLE=329 19th Street North Lethbridge\, Alberta:geo:-112.814634,49.6931758
END:VEVENT
BEGIN:VEVENT
DTSTART;TZID=America/Edmonton:20241208T163000
DTEND;TZID=America/Edmonton:20241208T173000
DTSTAMP:20260422T014926
CREATED:20241207T155459Z
LAST-MODIFIED:20241207T155556Z
UID:10001870-1733675400-1733679000@westminsterchapelpca.ca
SUMMARY:PM Worship
DESCRIPTION:Pastor Tom Albaugh \nJohn 1: 1-14 \nThe Gospel Faces the Darkness
URL:https://westminsterchapelpca.ca/event/pm-worship-74/
LOCATION:Westminister Chapel\, 329 19th Street North Lethbridge\, Alberta\, Lethbridge\, Alberta\, T1J-4A4\, Canada
CATEGORIES:Worship Services
GEO:49.6931758;-112.814634
X-APPLE-STRUCTURED-LOCATION;VALUE=URI;X-ADDRESS=Westminister Chapel 329 19th Street North Lethbridge Alberta Lethbridge Alberta T1J-4A4 Canada;X-APPLE-RADIUS=500;X-TITLE=329 19th Street North Lethbridge\, Alberta:geo:-112.814634,49.6931758
END:VEVENT
BEGIN:VEVENT
DTSTART;TZID=America/Edmonton:20241208T093000
DTEND;TZID=America/Edmonton:20241208T101500
DTSTAMP:20260422T014926
CREATED:20240913T171203Z
LAST-MODIFIED:20240913T171203Z
UID:10003997-1733650200-1733652900@westminsterchapelpca.ca
SUMMARY:Sunday School
DESCRIPTION:
URL:https://westminsterchapelpca.ca/event/sunday-school-4/2024-12-08/
LOCATION:Westminister Chapel\, 329 19th Street North Lethbridge\, Alberta\, Lethbridge\, Alberta\, T1J-4A4\, Canada
CATEGORIES:Sunday School
GEO:49.6931758;-112.814634
X-APPLE-STRUCTURED-LOCATION;VALUE=URI;X-ADDRESS=Westminister Chapel 329 19th Street North Lethbridge Alberta Lethbridge Alberta T1J-4A4 Canada;X-APPLE-RADIUS=500;X-TITLE=329 19th Street North Lethbridge\, Alberta:geo:-112.814634,49.6931758
END:VEVENT
BEGIN:VEVENT
DTSTART;TZID=America/Edmonton:20241207T133000
DTEND;TZID=America/Edmonton:20241207T163000
DTSTAMP:20260422T014926
CREATED:20241114T190557Z
LAST-MODIFIED:20241114T192519Z
UID:10004201-1733578200-1733589000@westminsterchapelpca.ca
SUMMARY:Winter Wonderland
DESCRIPTION:Come and join an exciting afternoon of sweet and competing fun! Calling all builders\, engineers\, architects\, designers\, crafters\, creators\, decorators\, dreamers\, chocolate lovers\, candy enthusiasts…EVERYONE! Join us for some sweet competing fun Saturday\, December 7th from 1:30 – 4:30 PM as we design\, build\, decorate\, and sculpt some extraordinary creative fun winter wonderland scenes. Please RSVP to Tanya or Steph by December 1.
URL:https://westminsterchapelpca.ca/event/winter-wonderland/
LOCATION:Westminister Chapel\, 329 19th Street North Lethbridge\, Alberta\, Lethbridge\, Alberta\, T1J-4A4\, Canada
GEO:49.6931758;-112.814634
X-APPLE-STRUCTURED-LOCATION;VALUE=URI;X-ADDRESS=Westminister Chapel 329 19th Street North Lethbridge Alberta Lethbridge Alberta T1J-4A4 Canada;X-APPLE-RADIUS=500;X-TITLE=329 19th Street North Lethbridge\, Alberta:geo:-112.814634,49.6931758
END:VEVENT
BEGIN:VEVENT
DTSTART;TZID=America/Edmonton:20241204T190000
DTEND;TZID=America/Edmonton:20241204T210000
DTSTAMP:20260422T014926
CREATED:20240913T172534Z
LAST-MODIFIED:20240913T173024Z
UID:10004051-1733338800-1733346000@westminsterchapelpca.ca
SUMMARY:Mens' Bible Study
DESCRIPTION:
URL:https://westminsterchapelpca.ca/event/mens-bible-study/2024-12-04/
LOCATION:Westminister Chapel\, 329 19th Street North Lethbridge\, Alberta\, Lethbridge\, Alberta\, T1J-4A4\, Canada
CATEGORIES:Bible Study
GEO:49.6931758;-112.814634
X-APPLE-STRUCTURED-LOCATION;VALUE=URI;X-ADDRESS=Westminister Chapel 329 19th Street North Lethbridge Alberta Lethbridge Alberta T1J-4A4 Canada;X-APPLE-RADIUS=500;X-TITLE=329 19th Street North Lethbridge\, Alberta:geo:-112.814634,49.6931758
END:VEVENT
BEGIN:VEVENT
DTSTART;TZID=America/Edmonton:20241204T094500
DTEND;TZID=America/Edmonton:20241204T114500
DTSTAMP:20260422T014926
CREATED:20240913T171725Z
LAST-MODIFIED:20240913T173002Z
UID:10004025-1733305500-1733312700@westminsterchapelpca.ca
SUMMARY:Ladies Wednesday Morning Bible Study
DESCRIPTION:10-11:45am\, coffee ready at 9:45am. We will be studying ‘When Strivings Cease’; Replacing the Gospel of Self-Improvement with the Gospel of Life-Transforming Grace\, by Ruth Chou Simons. Please contact Marian for a study guide.
URL:https://westminsterchapelpca.ca/event/ladies-wednesday-morning-bible-study/2024-12-04/
LOCATION:Westminister Chapel\, 329 19th Street North Lethbridge\, Alberta\, Lethbridge\, Alberta\, T1J-4A4\, Canada
CATEGORIES:Bible Study
GEO:49.6931758;-112.814634
X-APPLE-STRUCTURED-LOCATION;VALUE=URI;X-ADDRESS=Westminister Chapel 329 19th Street North Lethbridge Alberta Lethbridge Alberta T1J-4A4 Canada;X-APPLE-RADIUS=500;X-TITLE=329 19th Street North Lethbridge\, Alberta:geo:-112.814634,49.6931758
END:VEVENT
BEGIN:VEVENT
DTSTART;TZID=America/Edmonton:20241127T190000
DTEND;TZID=America/Edmonton:20241127T210000
DTSTAMP:20260422T014926
CREATED:20240913T172921Z
LAST-MODIFIED:20240913T172921Z
UID:10004065-1732734000-1732741200@westminsterchapelpca.ca
SUMMARY:Prayer Meeting and Hymn Sing
DESCRIPTION:
URL:https://westminsterchapelpca.ca/event/prayer-meeting-and-hymn-sing/2024-11-27/
LOCATION:Westminister Chapel\, 329 19th Street North Lethbridge\, Alberta\, Lethbridge\, Alberta\, T1J-4A4\, Canada
CATEGORIES:Prayer
GEO:49.6931758;-112.814634
X-APPLE-STRUCTURED-LOCATION;VALUE=URI;X-ADDRESS=Westminister Chapel 329 19th Street North Lethbridge Alberta Lethbridge Alberta T1J-4A4 Canada;X-APPLE-RADIUS=500;X-TITLE=329 19th Street North Lethbridge\, Alberta:geo:-112.814634,49.6931758
END:VEVENT
BEGIN:VEVENT
DTSTART;TZID=America/Edmonton:20241127T094500
DTEND;TZID=America/Edmonton:20241127T114500
DTSTAMP:20260422T014926
CREATED:20241126T022645Z
LAST-MODIFIED:20241126T022645Z
UID:10004024-1732700700-1732707900@westminsterchapelpca.ca
SUMMARY:Ladies Wednesday Morning Bible Study
DESCRIPTION:10-11:45am\, coffee ready at 9:45am. We will be studying ‘When Strivings Cease’; Replacing the Gospel of Self-Improvement with the Gospel of Life-Transforming Grace\, by Ruth Chou Simons. Please contact Marian for a study guide.
URL:https://westminsterchapelpca.ca/event/ladies-wednesday-morning-bible-study-3/
LOCATION:Westminister Chapel\, 329 19th Street North Lethbridge\, Alberta\, Lethbridge\, Alberta\, T1J-4A4\, Canada
CATEGORIES:Bible Study
GEO:49.6931758;-112.814634
X-APPLE-STRUCTURED-LOCATION;VALUE=URI;X-ADDRESS=Westminister Chapel 329 19th Street North Lethbridge Alberta Lethbridge Alberta T1J-4A4 Canada;X-APPLE-RADIUS=500;X-TITLE=329 19th Street North Lethbridge\, Alberta:geo:-112.814634,49.6931758
END:VEVENT
BEGIN:VEVENT
DTSTART;TZID=America/Edmonton:20241124T163000
DTEND;TZID=America/Edmonton:20241124T173000
DTSTAMP:20260422T014926
CREATED:20241122T205356Z
LAST-MODIFIED:20241122T205525Z
UID:10001868-1732465800-1732469400@westminsterchapelpca.ca
SUMMARY:PM Worship
DESCRIPTION:Pastor Adam Harris \nGenesis 32 \nWrestling with God
URL:https://westminsterchapelpca.ca/event/pm-worship-73/
LOCATION:Westminister Chapel\, 329 19th Street North Lethbridge\, Alberta\, Lethbridge\, Alberta\, T1J-4A4\, Canada
CATEGORIES:Worship Services
GEO:49.6931758;-112.814634
X-APPLE-STRUCTURED-LOCATION;VALUE=URI;X-ADDRESS=Westminister Chapel 329 19th Street North Lethbridge Alberta Lethbridge Alberta T1J-4A4 Canada;X-APPLE-RADIUS=500;X-TITLE=329 19th Street North Lethbridge\, Alberta:geo:-112.814634,49.6931758
END:VEVENT
BEGIN:VEVENT
DTSTART;TZID=America/Edmonton:20241124T093000
DTEND;TZID=America/Edmonton:20241124T101500
DTSTAMP:20260422T014926
CREATED:20240913T171203Z
LAST-MODIFIED:20240913T171203Z
UID:10003996-1732440600-1732443300@westminsterchapelpca.ca
SUMMARY:Sunday School
DESCRIPTION:
URL:https://westminsterchapelpca.ca/event/sunday-school-4/2024-11-24/
LOCATION:Westminister Chapel\, 329 19th Street North Lethbridge\, Alberta\, Lethbridge\, Alberta\, T1J-4A4\, Canada
CATEGORIES:Sunday School
GEO:49.6931758;-112.814634
X-APPLE-STRUCTURED-LOCATION;VALUE=URI;X-ADDRESS=Westminister Chapel 329 19th Street North Lethbridge Alberta Lethbridge Alberta T1J-4A4 Canada;X-APPLE-RADIUS=500;X-TITLE=329 19th Street North Lethbridge\, Alberta:geo:-112.814634,49.6931758
END:VEVENT
BEGIN:VEVENT
DTSTART;TZID=America/Edmonton:20241120T094500
DTEND;TZID=America/Edmonton:20241120T114500
DTSTAMP:20260422T014926
CREATED:20240913T171725Z
LAST-MODIFIED:20240913T173002Z
UID:10004023-1732095900-1732103100@westminsterchapelpca.ca
SUMMARY:Ladies Wednesday Morning Bible Study
DESCRIPTION:10-11:45am\, coffee ready at 9:45am. We will be studying ‘When Strivings Cease’; Replacing the Gospel of Self-Improvement with the Gospel of Life-Transforming Grace\, by Ruth Chou Simons. Please contact Marian for a study guide.
URL:https://westminsterchapelpca.ca/event/ladies-wednesday-morning-bible-study/2024-11-20/
LOCATION:Westminister Chapel\, 329 19th Street North Lethbridge\, Alberta\, Lethbridge\, Alberta\, T1J-4A4\, Canada
CATEGORIES:Bible Study
GEO:49.6931758;-112.814634
X-APPLE-STRUCTURED-LOCATION;VALUE=URI;X-ADDRESS=Westminister Chapel 329 19th Street North Lethbridge Alberta Lethbridge Alberta T1J-4A4 Canada;X-APPLE-RADIUS=500;X-TITLE=329 19th Street North Lethbridge\, Alberta:geo:-112.814634,49.6931758
END:VEVENT
BEGIN:VEVENT
DTSTART;TZID=America/Edmonton:20241117T163000
DTEND;TZID=America/Edmonton:20241117T173000
DTSTAMP:20260422T014926
CREATED:20241114T190333Z
LAST-MODIFIED:20241114T190402Z
UID:10001867-1731861000-1731864600@westminsterchapelpca.ca
SUMMARY:PM Worship
DESCRIPTION:Pastor Adam Harris \nGenesis 31:22-55 \nTough Talks
URL:https://westminsterchapelpca.ca/event/pm-worship-72/
LOCATION:Westminister Chapel\, 329 19th Street North Lethbridge\, Alberta\, Lethbridge\, Alberta\, T1J-4A4\, Canada
CATEGORIES:Worship Services
GEO:49.6931758;-112.814634
X-APPLE-STRUCTURED-LOCATION;VALUE=URI;X-ADDRESS=Westminister Chapel 329 19th Street North Lethbridge Alberta Lethbridge Alberta T1J-4A4 Canada;X-APPLE-RADIUS=500;X-TITLE=329 19th Street North Lethbridge\, Alberta:geo:-112.814634,49.6931758
END:VEVENT
BEGIN:VEVENT
DTSTART;TZID=America/Edmonton:20241117T093000
DTEND;TZID=America/Edmonton:20241117T101500
DTSTAMP:20260422T014926
CREATED:20240913T171203Z
LAST-MODIFIED:20240913T171203Z
UID:10003995-1731835800-1731838500@westminsterchapelpca.ca
SUMMARY:Sunday School
DESCRIPTION:
URL:https://westminsterchapelpca.ca/event/sunday-school-4/2024-11-17/
LOCATION:Westminister Chapel\, 329 19th Street North Lethbridge\, Alberta\, Lethbridge\, Alberta\, T1J-4A4\, Canada
CATEGORIES:Sunday School
GEO:49.6931758;-112.814634
X-APPLE-STRUCTURED-LOCATION;VALUE=URI;X-ADDRESS=Westminister Chapel 329 19th Street North Lethbridge Alberta Lethbridge Alberta T1J-4A4 Canada;X-APPLE-RADIUS=500;X-TITLE=329 19th Street North Lethbridge\, Alberta:geo:-112.814634,49.6931758
END:VEVENT
BEGIN:VEVENT
DTSTART;TZID=America/Edmonton:20241113T094500
DTEND;TZID=America/Edmonton:20241113T114500
DTSTAMP:20260422T014926
CREATED:20240913T171725Z
LAST-MODIFIED:20240913T173002Z
UID:10004022-1731491100-1731498300@westminsterchapelpca.ca
SUMMARY:Ladies Wednesday Morning Bible Study
DESCRIPTION:10-11:45am\, coffee ready at 9:45am. We will be studying ‘When Strivings Cease’; Replacing the Gospel of Self-Improvement with the Gospel of Life-Transforming Grace\, by Ruth Chou Simons. Please contact Marian for a study guide.
URL:https://westminsterchapelpca.ca/event/ladies-wednesday-morning-bible-study/2024-11-13/
LOCATION:Westminister Chapel\, 329 19th Street North Lethbridge\, Alberta\, Lethbridge\, Alberta\, T1J-4A4\, Canada
CATEGORIES:Bible Study
GEO:49.6931758;-112.814634
X-APPLE-STRUCTURED-LOCATION;VALUE=URI;X-ADDRESS=Westminister Chapel 329 19th Street North Lethbridge Alberta Lethbridge Alberta T1J-4A4 Canada;X-APPLE-RADIUS=500;X-TITLE=329 19th Street North Lethbridge\, Alberta:geo:-112.814634,49.6931758
END:VEVENT
BEGIN:VEVENT
DTSTART;TZID=America/Edmonton:20241112T190000
DTEND;TZID=America/Edmonton:20241112T220000
DTSTAMP:20260422T014926
CREATED:20230119T215238Z
LAST-MODIFIED:20230119T215238Z
UID:10002637-1731438000-1731448800@westminsterchapelpca.ca
SUMMARY:Session Meeting
DESCRIPTION:
URL:https://westminsterchapelpca.ca/event/session-meeting/2024-11-12/
LOCATION:Westminister Chapel\, 329 19th Street North Lethbridge\, Alberta\, Lethbridge\, Alberta\, T1J-4A4\, Canada
GEO:49.6931758;-112.814634
X-APPLE-STRUCTURED-LOCATION;VALUE=URI;X-ADDRESS=Westminister Chapel 329 19th Street North Lethbridge Alberta Lethbridge Alberta T1J-4A4 Canada;X-APPLE-RADIUS=500;X-TITLE=329 19th Street North Lethbridge\, Alberta:geo:-112.814634,49.6931758
END:VEVENT
BEGIN:VEVENT
DTSTART;TZID=America/Edmonton:20241110T163000
DTEND;TZID=America/Edmonton:20241110T173000
DTSTAMP:20260422T014926
CREATED:20241108T215443Z
LAST-MODIFIED:20241108T215633Z
UID:10001866-1731256200-1731259800@westminsterchapelpca.ca
SUMMARY:PM Worship
DESCRIPTION:Pastor Adam Harris \nGenesis 30:25-31:21 \nLeaving Laban
URL:https://westminsterchapelpca.ca/event/pm-worship-71/
LOCATION:Westminister Chapel\, 329 19th Street North Lethbridge\, Alberta\, Lethbridge\, Alberta\, T1J-4A4\, Canada
CATEGORIES:Worship Services
GEO:49.6931758;-112.814634
X-APPLE-STRUCTURED-LOCATION;VALUE=URI;X-ADDRESS=Westminister Chapel 329 19th Street North Lethbridge Alberta Lethbridge Alberta T1J-4A4 Canada;X-APPLE-RADIUS=500;X-TITLE=329 19th Street North Lethbridge\, Alberta:geo:-112.814634,49.6931758
END:VEVENT
BEGIN:VEVENT
DTSTART;TZID=America/Edmonton:20241110T093000
DTEND;TZID=America/Edmonton:20241110T101500
DTSTAMP:20260422T014926
CREATED:20240913T171203Z
LAST-MODIFIED:20240913T171203Z
UID:10003994-1731231000-1731233700@westminsterchapelpca.ca
SUMMARY:Sunday School
DESCRIPTION:
URL:https://westminsterchapelpca.ca/event/sunday-school-4/2024-11-10/
LOCATION:Westminister Chapel\, 329 19th Street North Lethbridge\, Alberta\, Lethbridge\, Alberta\, T1J-4A4\, Canada
CATEGORIES:Sunday School
GEO:49.6931758;-112.814634
X-APPLE-STRUCTURED-LOCATION;VALUE=URI;X-ADDRESS=Westminister Chapel 329 19th Street North Lethbridge Alberta Lethbridge Alberta T1J-4A4 Canada;X-APPLE-RADIUS=500;X-TITLE=329 19th Street North Lethbridge\, Alberta:geo:-112.814634,49.6931758
END:VEVENT
BEGIN:VEVENT
DTSTART;TZID=America/Edmonton:20241106T190000
DTEND;TZID=America/Edmonton:20241106T210000
DTSTAMP:20260422T014926
CREATED:20240913T172534Z
LAST-MODIFIED:20240913T173024Z
UID:10004050-1730919600-1730926800@westminsterchapelpca.ca
SUMMARY:Mens' Bible Study
DESCRIPTION:
URL:https://westminsterchapelpca.ca/event/mens-bible-study/2024-11-06/
LOCATION:Westminister Chapel\, 329 19th Street North Lethbridge\, Alberta\, Lethbridge\, Alberta\, T1J-4A4\, Canada
CATEGORIES:Bible Study
GEO:49.6931758;-112.814634
X-APPLE-STRUCTURED-LOCATION;VALUE=URI;X-ADDRESS=Westminister Chapel 329 19th Street North Lethbridge Alberta Lethbridge Alberta T1J-4A4 Canada;X-APPLE-RADIUS=500;X-TITLE=329 19th Street North Lethbridge\, Alberta:geo:-112.814634,49.6931758
END:VEVENT
BEGIN:VEVENT
DTSTART;TZID=America/Edmonton:20241106T094500
DTEND;TZID=America/Edmonton:20241106T114500
DTSTAMP:20260422T014926
CREATED:20240913T171725Z
LAST-MODIFIED:20240913T173002Z
UID:10004021-1730886300-1730893500@westminsterchapelpca.ca
SUMMARY:Ladies Wednesday Morning Bible Study
DESCRIPTION:10-11:45am\, coffee ready at 9:45am. We will be studying ‘When Strivings Cease’; Replacing the Gospel of Self-Improvement with the Gospel of Life-Transforming Grace\, by Ruth Chou Simons. Please contact Marian for a study guide.
URL:https://westminsterchapelpca.ca/event/ladies-wednesday-morning-bible-study/2024-11-06/
LOCATION:Westminister Chapel\, 329 19th Street North Lethbridge\, Alberta\, Lethbridge\, Alberta\, T1J-4A4\, Canada
CATEGORIES:Bible Study
GEO:49.6931758;-112.814634
X-APPLE-STRUCTURED-LOCATION;VALUE=URI;X-ADDRESS=Westminister Chapel 329 19th Street North Lethbridge Alberta Lethbridge Alberta T1J-4A4 Canada;X-APPLE-RADIUS=500;X-TITLE=329 19th Street North Lethbridge\, Alberta:geo:-112.814634,49.6931758
END:VEVENT
BEGIN:VEVENT
DTSTART;TZID=America/Edmonton:20241030T094500
DTEND;TZID=America/Edmonton:20241030T114500
DTSTAMP:20260422T014926
CREATED:20240913T171725Z
LAST-MODIFIED:20240913T173002Z
UID:10004020-1730281500-1730288700@westminsterchapelpca.ca
SUMMARY:Ladies Wednesday Morning Bible Study
DESCRIPTION:10-11:45am\, coffee ready at 9:45am. We will be studying ‘When Strivings Cease’; Replacing the Gospel of Self-Improvement with the Gospel of Life-Transforming Grace\, by Ruth Chou Simons. Please contact Marian for a study guide.
URL:https://westminsterchapelpca.ca/event/ladies-wednesday-morning-bible-study/2024-10-30/
LOCATION:Westminister Chapel\, 329 19th Street North Lethbridge\, Alberta\, Lethbridge\, Alberta\, T1J-4A4\, Canada
CATEGORIES:Bible Study
GEO:49.6931758;-112.814634
X-APPLE-STRUCTURED-LOCATION;VALUE=URI;X-ADDRESS=Westminister Chapel 329 19th Street North Lethbridge Alberta Lethbridge Alberta T1J-4A4 Canada;X-APPLE-RADIUS=500;X-TITLE=329 19th Street North Lethbridge\, Alberta:geo:-112.814634,49.6931758
END:VEVENT
BEGIN:VEVENT
DTSTART;TZID=America/Edmonton:20241027T163000
DTEND;TZID=America/Edmonton:20241027T173000
DTSTAMP:20260422T014926
CREATED:20241025T174229Z
LAST-MODIFIED:20241025T174808Z
UID:10001864-1730046600-1730050200@westminsterchapelpca.ca
SUMMARY:PM Worship
DESCRIPTION:Pastor Adam Harris \nGenesis 29:31-30:24 \nMarital Mayhem
URL:https://westminsterchapelpca.ca/event/pm-worship-70/
LOCATION:Westminister Chapel\, 329 19th Street North Lethbridge\, Alberta\, Lethbridge\, Alberta\, T1J-4A4\, Canada
CATEGORIES:Worship Services
GEO:49.6931758;-112.814634
X-APPLE-STRUCTURED-LOCATION;VALUE=URI;X-ADDRESS=Westminister Chapel 329 19th Street North Lethbridge Alberta Lethbridge Alberta T1J-4A4 Canada;X-APPLE-RADIUS=500;X-TITLE=329 19th Street North Lethbridge\, Alberta:geo:-112.814634,49.6931758
END:VEVENT
BEGIN:VEVENT
DTSTART;TZID=America/Edmonton:20241027T093000
DTEND;TZID=America/Edmonton:20241027T101500
DTSTAMP:20260422T014926
CREATED:20240913T171203Z
LAST-MODIFIED:20240913T171203Z
UID:10003993-1730021400-1730024100@westminsterchapelpca.ca
SUMMARY:Sunday School
DESCRIPTION:
URL:https://westminsterchapelpca.ca/event/sunday-school-4/2024-10-27/
LOCATION:Westminister Chapel\, 329 19th Street North Lethbridge\, Alberta\, Lethbridge\, Alberta\, T1J-4A4\, Canada
CATEGORIES:Sunday School
GEO:49.6931758;-112.814634
X-APPLE-STRUCTURED-LOCATION;VALUE=URI;X-ADDRESS=Westminister Chapel 329 19th Street North Lethbridge Alberta Lethbridge Alberta T1J-4A4 Canada;X-APPLE-RADIUS=500;X-TITLE=329 19th Street North Lethbridge\, Alberta:geo:-112.814634,49.6931758
END:VEVENT
BEGIN:VEVENT
DTSTART;TZID=America/Edmonton:20241023T190000
DTEND;TZID=America/Edmonton:20241023T210000
DTSTAMP:20260422T014926
CREATED:20240913T172921Z
LAST-MODIFIED:20240913T172921Z
UID:10004064-1729710000-1729717200@westminsterchapelpca.ca
SUMMARY:Prayer Meeting and Hymn Sing
DESCRIPTION:
URL:https://westminsterchapelpca.ca/event/prayer-meeting-and-hymn-sing/2024-10-23/
LOCATION:Westminister Chapel\, 329 19th Street North Lethbridge\, Alberta\, Lethbridge\, Alberta\, T1J-4A4\, Canada
CATEGORIES:Prayer
GEO:49.6931758;-112.814634
X-APPLE-STRUCTURED-LOCATION;VALUE=URI;X-ADDRESS=Westminister Chapel 329 19th Street North Lethbridge Alberta Lethbridge Alberta T1J-4A4 Canada;X-APPLE-RADIUS=500;X-TITLE=329 19th Street North Lethbridge\, Alberta:geo:-112.814634,49.6931758
END:VEVENT
END:VCALENDAR