BEGIN:VCALENDAR
VERSION:2.0
PRODID:-//Westminster Chapel - ECPv6.15.13.1//NONSGML v1.0//EN
CALSCALE:GREGORIAN
METHOD:PUBLISH
X-ORIGINAL-URL:https://westminsterchapelpca.ca
X-WR-CALDESC:Events for Westminster Chapel
REFRESH-INTERVAL;VALUE=DURATION:PT1H
X-Robots-Tag:noindex
X-PUBLISHED-TTL:PT1H
BEGIN:VTIMEZONE
TZID:America/Edmonton
BEGIN:DAYLIGHT
TZOFFSETFROM:-0700
TZOFFSETTO:-0600
TZNAME:MDT
DTSTART:20230312T090000
END:DAYLIGHT
BEGIN:STANDARD
TZOFFSETFROM:-0600
TZOFFSETTO:-0700
TZNAME:MST
DTSTART:20231105T080000
END:STANDARD
BEGIN:DAYLIGHT
TZOFFSETFROM:-0700
TZOFFSETTO:-0600
TZNAME:MDT
DTSTART:20240310T090000
END:DAYLIGHT
BEGIN:STANDARD
TZOFFSETFROM:-0600
TZOFFSETTO:-0700
TZNAME:MST
DTSTART:20241103T080000
END:STANDARD
BEGIN:DAYLIGHT
TZOFFSETFROM:-0700
TZOFFSETTO:-0600
TZNAME:MDT
DTSTART:20250309T090000
END:DAYLIGHT
BEGIN:STANDARD
TZOFFSETFROM:-0600
TZOFFSETTO:-0700
TZNAME:MST
DTSTART:20251102T080000
END:STANDARD
END:VTIMEZONE
BEGIN:VEVENT
DTSTART;TZID=America/Edmonton:20241113T094500
DTEND;TZID=America/Edmonton:20241113T114500
DTSTAMP:20260422T044716
CREATED:20240913T171725Z
LAST-MODIFIED:20240913T173002Z
UID:10004022-1731491100-1731498300@westminsterchapelpca.ca
SUMMARY:Ladies Wednesday Morning Bible Study
DESCRIPTION:10-11:45am\, coffee ready at 9:45am. We will be studying ‘When Strivings Cease’; Replacing the Gospel of Self-Improvement with the Gospel of Life-Transforming Grace\, by Ruth Chou Simons. Please contact Marian for a study guide.
URL:https://westminsterchapelpca.ca/event/ladies-wednesday-morning-bible-study/2024-11-13/
LOCATION:Westminister Chapel\, 329 19th Street North Lethbridge\, Alberta\, Lethbridge\, Alberta\, T1J-4A4\, Canada
CATEGORIES:Bible Study
GEO:49.6931758;-112.814634
X-APPLE-STRUCTURED-LOCATION;VALUE=URI;X-ADDRESS=Westminister Chapel 329 19th Street North Lethbridge Alberta Lethbridge Alberta T1J-4A4 Canada;X-APPLE-RADIUS=500;X-TITLE=329 19th Street North Lethbridge\, Alberta:geo:-112.814634,49.6931758
END:VEVENT
BEGIN:VEVENT
DTSTART;TZID=America/Edmonton:20241112T190000
DTEND;TZID=America/Edmonton:20241112T220000
DTSTAMP:20260422T044716
CREATED:20230119T215238Z
LAST-MODIFIED:20230119T215238Z
UID:10002637-1731438000-1731448800@westminsterchapelpca.ca
SUMMARY:Session Meeting
DESCRIPTION:
URL:https://westminsterchapelpca.ca/event/session-meeting/2024-11-12/
LOCATION:Westminister Chapel\, 329 19th Street North Lethbridge\, Alberta\, Lethbridge\, Alberta\, T1J-4A4\, Canada
GEO:49.6931758;-112.814634
X-APPLE-STRUCTURED-LOCATION;VALUE=URI;X-ADDRESS=Westminister Chapel 329 19th Street North Lethbridge Alberta Lethbridge Alberta T1J-4A4 Canada;X-APPLE-RADIUS=500;X-TITLE=329 19th Street North Lethbridge\, Alberta:geo:-112.814634,49.6931758
END:VEVENT
BEGIN:VEVENT
DTSTART;TZID=America/Edmonton:20241110T163000
DTEND;TZID=America/Edmonton:20241110T173000
DTSTAMP:20260422T044716
CREATED:20241108T215443Z
LAST-MODIFIED:20241108T215633Z
UID:10001866-1731256200-1731259800@westminsterchapelpca.ca
SUMMARY:PM Worship
DESCRIPTION:Pastor Adam Harris \nGenesis 30:25-31:21 \nLeaving Laban
URL:https://westminsterchapelpca.ca/event/pm-worship-71/
LOCATION:Westminister Chapel\, 329 19th Street North Lethbridge\, Alberta\, Lethbridge\, Alberta\, T1J-4A4\, Canada
CATEGORIES:Worship Services
GEO:49.6931758;-112.814634
X-APPLE-STRUCTURED-LOCATION;VALUE=URI;X-ADDRESS=Westminister Chapel 329 19th Street North Lethbridge Alberta Lethbridge Alberta T1J-4A4 Canada;X-APPLE-RADIUS=500;X-TITLE=329 19th Street North Lethbridge\, Alberta:geo:-112.814634,49.6931758
END:VEVENT
BEGIN:VEVENT
DTSTART;TZID=America/Edmonton:20241110T093000
DTEND;TZID=America/Edmonton:20241110T101500
DTSTAMP:20260422T044716
CREATED:20240913T171203Z
LAST-MODIFIED:20240913T171203Z
UID:10003994-1731231000-1731233700@westminsterchapelpca.ca
SUMMARY:Sunday School
DESCRIPTION:
URL:https://westminsterchapelpca.ca/event/sunday-school-4/2024-11-10/
LOCATION:Westminister Chapel\, 329 19th Street North Lethbridge\, Alberta\, Lethbridge\, Alberta\, T1J-4A4\, Canada
CATEGORIES:Sunday School
GEO:49.6931758;-112.814634
X-APPLE-STRUCTURED-LOCATION;VALUE=URI;X-ADDRESS=Westminister Chapel 329 19th Street North Lethbridge Alberta Lethbridge Alberta T1J-4A4 Canada;X-APPLE-RADIUS=500;X-TITLE=329 19th Street North Lethbridge\, Alberta:geo:-112.814634,49.6931758
END:VEVENT
BEGIN:VEVENT
DTSTART;TZID=America/Edmonton:20241106T190000
DTEND;TZID=America/Edmonton:20241106T210000
DTSTAMP:20260422T044716
CREATED:20240913T172534Z
LAST-MODIFIED:20240913T173024Z
UID:10004050-1730919600-1730926800@westminsterchapelpca.ca
SUMMARY:Mens' Bible Study
DESCRIPTION:
URL:https://westminsterchapelpca.ca/event/mens-bible-study/2024-11-06/
LOCATION:Westminister Chapel\, 329 19th Street North Lethbridge\, Alberta\, Lethbridge\, Alberta\, T1J-4A4\, Canada
CATEGORIES:Bible Study
GEO:49.6931758;-112.814634
X-APPLE-STRUCTURED-LOCATION;VALUE=URI;X-ADDRESS=Westminister Chapel 329 19th Street North Lethbridge Alberta Lethbridge Alberta T1J-4A4 Canada;X-APPLE-RADIUS=500;X-TITLE=329 19th Street North Lethbridge\, Alberta:geo:-112.814634,49.6931758
END:VEVENT
BEGIN:VEVENT
DTSTART;TZID=America/Edmonton:20241106T094500
DTEND;TZID=America/Edmonton:20241106T114500
DTSTAMP:20260422T044716
CREATED:20240913T171725Z
LAST-MODIFIED:20240913T173002Z
UID:10004021-1730886300-1730893500@westminsterchapelpca.ca
SUMMARY:Ladies Wednesday Morning Bible Study
DESCRIPTION:10-11:45am\, coffee ready at 9:45am. We will be studying ‘When Strivings Cease’; Replacing the Gospel of Self-Improvement with the Gospel of Life-Transforming Grace\, by Ruth Chou Simons. Please contact Marian for a study guide.
URL:https://westminsterchapelpca.ca/event/ladies-wednesday-morning-bible-study/2024-11-06/
LOCATION:Westminister Chapel\, 329 19th Street North Lethbridge\, Alberta\, Lethbridge\, Alberta\, T1J-4A4\, Canada
CATEGORIES:Bible Study
GEO:49.6931758;-112.814634
X-APPLE-STRUCTURED-LOCATION;VALUE=URI;X-ADDRESS=Westminister Chapel 329 19th Street North Lethbridge Alberta Lethbridge Alberta T1J-4A4 Canada;X-APPLE-RADIUS=500;X-TITLE=329 19th Street North Lethbridge\, Alberta:geo:-112.814634,49.6931758
END:VEVENT
BEGIN:VEVENT
DTSTART;TZID=America/Edmonton:20241030T094500
DTEND;TZID=America/Edmonton:20241030T114500
DTSTAMP:20260422T044716
CREATED:20240913T171725Z
LAST-MODIFIED:20240913T173002Z
UID:10004020-1730281500-1730288700@westminsterchapelpca.ca
SUMMARY:Ladies Wednesday Morning Bible Study
DESCRIPTION:10-11:45am\, coffee ready at 9:45am. We will be studying ‘When Strivings Cease’; Replacing the Gospel of Self-Improvement with the Gospel of Life-Transforming Grace\, by Ruth Chou Simons. Please contact Marian for a study guide.
URL:https://westminsterchapelpca.ca/event/ladies-wednesday-morning-bible-study/2024-10-30/
LOCATION:Westminister Chapel\, 329 19th Street North Lethbridge\, Alberta\, Lethbridge\, Alberta\, T1J-4A4\, Canada
CATEGORIES:Bible Study
GEO:49.6931758;-112.814634
X-APPLE-STRUCTURED-LOCATION;VALUE=URI;X-ADDRESS=Westminister Chapel 329 19th Street North Lethbridge Alberta Lethbridge Alberta T1J-4A4 Canada;X-APPLE-RADIUS=500;X-TITLE=329 19th Street North Lethbridge\, Alberta:geo:-112.814634,49.6931758
END:VEVENT
BEGIN:VEVENT
DTSTART;TZID=America/Edmonton:20241027T163000
DTEND;TZID=America/Edmonton:20241027T173000
DTSTAMP:20260422T044716
CREATED:20241025T174229Z
LAST-MODIFIED:20241025T174808Z
UID:10001864-1730046600-1730050200@westminsterchapelpca.ca
SUMMARY:PM Worship
DESCRIPTION:Pastor Adam Harris \nGenesis 29:31-30:24 \nMarital Mayhem
URL:https://westminsterchapelpca.ca/event/pm-worship-70/
LOCATION:Westminister Chapel\, 329 19th Street North Lethbridge\, Alberta\, Lethbridge\, Alberta\, T1J-4A4\, Canada
CATEGORIES:Worship Services
GEO:49.6931758;-112.814634
X-APPLE-STRUCTURED-LOCATION;VALUE=URI;X-ADDRESS=Westminister Chapel 329 19th Street North Lethbridge Alberta Lethbridge Alberta T1J-4A4 Canada;X-APPLE-RADIUS=500;X-TITLE=329 19th Street North Lethbridge\, Alberta:geo:-112.814634,49.6931758
END:VEVENT
BEGIN:VEVENT
DTSTART;TZID=America/Edmonton:20241027T093000
DTEND;TZID=America/Edmonton:20241027T101500
DTSTAMP:20260422T044716
CREATED:20240913T171203Z
LAST-MODIFIED:20240913T171203Z
UID:10003993-1730021400-1730024100@westminsterchapelpca.ca
SUMMARY:Sunday School
DESCRIPTION:
URL:https://westminsterchapelpca.ca/event/sunday-school-4/2024-10-27/
LOCATION:Westminister Chapel\, 329 19th Street North Lethbridge\, Alberta\, Lethbridge\, Alberta\, T1J-4A4\, Canada
CATEGORIES:Sunday School
GEO:49.6931758;-112.814634
X-APPLE-STRUCTURED-LOCATION;VALUE=URI;X-ADDRESS=Westminister Chapel 329 19th Street North Lethbridge Alberta Lethbridge Alberta T1J-4A4 Canada;X-APPLE-RADIUS=500;X-TITLE=329 19th Street North Lethbridge\, Alberta:geo:-112.814634,49.6931758
END:VEVENT
BEGIN:VEVENT
DTSTART;TZID=America/Edmonton:20241023T190000
DTEND;TZID=America/Edmonton:20241023T210000
DTSTAMP:20260422T044716
CREATED:20240913T172921Z
LAST-MODIFIED:20240913T172921Z
UID:10004064-1729710000-1729717200@westminsterchapelpca.ca
SUMMARY:Prayer Meeting and Hymn Sing
DESCRIPTION:
URL:https://westminsterchapelpca.ca/event/prayer-meeting-and-hymn-sing/2024-10-23/
LOCATION:Westminister Chapel\, 329 19th Street North Lethbridge\, Alberta\, Lethbridge\, Alberta\, T1J-4A4\, Canada
CATEGORIES:Prayer
GEO:49.6931758;-112.814634
X-APPLE-STRUCTURED-LOCATION;VALUE=URI;X-ADDRESS=Westminister Chapel 329 19th Street North Lethbridge Alberta Lethbridge Alberta T1J-4A4 Canada;X-APPLE-RADIUS=500;X-TITLE=329 19th Street North Lethbridge\, Alberta:geo:-112.814634,49.6931758
END:VEVENT
BEGIN:VEVENT
DTSTART;TZID=America/Edmonton:20241023T094500
DTEND;TZID=America/Edmonton:20241023T114500
DTSTAMP:20260422T044716
CREATED:20240913T171725Z
LAST-MODIFIED:20240913T173002Z
UID:10004019-1729676700-1729683900@westminsterchapelpca.ca
SUMMARY:Ladies Wednesday Morning Bible Study
DESCRIPTION:10-11:45am\, coffee ready at 9:45am. We will be studying ‘When Strivings Cease’; Replacing the Gospel of Self-Improvement with the Gospel of Life-Transforming Grace\, by Ruth Chou Simons. Please contact Marian for a study guide.
URL:https://westminsterchapelpca.ca/event/ladies-wednesday-morning-bible-study/2024-10-23/
LOCATION:Westminister Chapel\, 329 19th Street North Lethbridge\, Alberta\, Lethbridge\, Alberta\, T1J-4A4\, Canada
CATEGORIES:Bible Study
GEO:49.6931758;-112.814634
X-APPLE-STRUCTURED-LOCATION;VALUE=URI;X-ADDRESS=Westminister Chapel 329 19th Street North Lethbridge Alberta Lethbridge Alberta T1J-4A4 Canada;X-APPLE-RADIUS=500;X-TITLE=329 19th Street North Lethbridge\, Alberta:geo:-112.814634,49.6931758
END:VEVENT
BEGIN:VEVENT
DTSTART;TZID=America/Edmonton:20241020T163000
DTEND;TZID=America/Edmonton:20241020T173000
DTSTAMP:20260422T044716
CREATED:20241018T145120Z
LAST-MODIFIED:20241018T145151Z
UID:10001863-1729441800-1729445400@westminsterchapelpca.ca
SUMMARY:PM Worship
DESCRIPTION:Pastor Cameron Fraser \nMatthew 25: 31-46 \nThese My Brothers (and Sisters)
URL:https://westminsterchapelpca.ca/event/pm-worship-69/
LOCATION:Westminister Chapel\, 329 19th Street North Lethbridge\, Alberta\, Lethbridge\, Alberta\, T1J-4A4\, Canada
CATEGORIES:Worship Services
GEO:49.6931758;-112.814634
X-APPLE-STRUCTURED-LOCATION;VALUE=URI;X-ADDRESS=Westminister Chapel 329 19th Street North Lethbridge Alberta Lethbridge Alberta T1J-4A4 Canada;X-APPLE-RADIUS=500;X-TITLE=329 19th Street North Lethbridge\, Alberta:geo:-112.814634,49.6931758
END:VEVENT
BEGIN:VEVENT
DTSTART;TZID=America/Edmonton:20241020T093000
DTEND;TZID=America/Edmonton:20241020T101500
DTSTAMP:20260422T044716
CREATED:20240913T171203Z
LAST-MODIFIED:20240913T171203Z
UID:10003992-1729416600-1729419300@westminsterchapelpca.ca
SUMMARY:Sunday School
DESCRIPTION:
URL:https://westminsterchapelpca.ca/event/sunday-school-4/2024-10-20/
LOCATION:Westminister Chapel\, 329 19th Street North Lethbridge\, Alberta\, Lethbridge\, Alberta\, T1J-4A4\, Canada
CATEGORIES:Sunday School
GEO:49.6931758;-112.814634
X-APPLE-STRUCTURED-LOCATION;VALUE=URI;X-ADDRESS=Westminister Chapel 329 19th Street North Lethbridge Alberta Lethbridge Alberta T1J-4A4 Canada;X-APPLE-RADIUS=500;X-TITLE=329 19th Street North Lethbridge\, Alberta:geo:-112.814634,49.6931758
END:VEVENT
BEGIN:VEVENT
DTSTART;TZID=America/Edmonton:20241018T190000
DTEND;TZID=America/Edmonton:20241018T210000
DTSTAMP:20260422T044716
CREATED:20240920T002113Z
LAST-MODIFIED:20240920T005912Z
UID:10004094-1729278000-1729285200@westminsterchapelpca.ca
SUMMARY:Concert Evening
DESCRIPTION:Come out to Westminster Chapel October 18 at 7pm for a concert held by Jaimie Soles\, Christian singer and songwriter from Grand Prairie. Admission is free with a freewill offering benefitting the Westminster Chapel Youth program. Contact Anna Houweling with any questions.
URL:https://westminsterchapelpca.ca/event/concert-evening/
LOCATION:Westminister Chapel\, 329 19th Street North Lethbridge\, Alberta\, Lethbridge\, Alberta\, T1J-4A4\, Canada
CATEGORIES:Special Event
GEO:49.6931758;-112.814634
X-APPLE-STRUCTURED-LOCATION;VALUE=URI;X-ADDRESS=Westminister Chapel 329 19th Street North Lethbridge Alberta Lethbridge Alberta T1J-4A4 Canada;X-APPLE-RADIUS=500;X-TITLE=329 19th Street North Lethbridge\, Alberta:geo:-112.814634,49.6931758
END:VEVENT
BEGIN:VEVENT
DTSTART;TZID=America/Edmonton:20241016T094500
DTEND;TZID=America/Edmonton:20241016T114500
DTSTAMP:20260422T044716
CREATED:20240913T171725Z
LAST-MODIFIED:20240913T173002Z
UID:10004018-1729071900-1729079100@westminsterchapelpca.ca
SUMMARY:Ladies Wednesday Morning Bible Study
DESCRIPTION:10-11:45am\, coffee ready at 9:45am. We will be studying ‘When Strivings Cease’; Replacing the Gospel of Self-Improvement with the Gospel of Life-Transforming Grace\, by Ruth Chou Simons. Please contact Marian for a study guide.
URL:https://westminsterchapelpca.ca/event/ladies-wednesday-morning-bible-study/2024-10-16/
LOCATION:Westminister Chapel\, 329 19th Street North Lethbridge\, Alberta\, Lethbridge\, Alberta\, T1J-4A4\, Canada
CATEGORIES:Bible Study
GEO:49.6931758;-112.814634
X-APPLE-STRUCTURED-LOCATION;VALUE=URI;X-ADDRESS=Westminister Chapel 329 19th Street North Lethbridge Alberta Lethbridge Alberta T1J-4A4 Canada;X-APPLE-RADIUS=500;X-TITLE=329 19th Street North Lethbridge\, Alberta:geo:-112.814634,49.6931758
END:VEVENT
BEGIN:VEVENT
DTSTART;TZID=America/Edmonton:20241013T163000
DTEND;TZID=America/Edmonton:20241013T173000
DTSTAMP:20260422T044716
CREATED:20241011T174304Z
LAST-MODIFIED:20241011T174358Z
UID:10001862-1728837000-1728840600@westminsterchapelpca.ca
SUMMARY:PM Worship
DESCRIPTION:Pastor Adam Harris \nGenesis 29:1-30 \nThe Deceiver Deceived
URL:https://westminsterchapelpca.ca/event/pm-worship-68/
LOCATION:Westminister Chapel\, 329 19th Street North Lethbridge\, Alberta\, Lethbridge\, Alberta\, T1J-4A4\, Canada
CATEGORIES:Worship Services
GEO:49.6931758;-112.814634
X-APPLE-STRUCTURED-LOCATION;VALUE=URI;X-ADDRESS=Westminister Chapel 329 19th Street North Lethbridge Alberta Lethbridge Alberta T1J-4A4 Canada;X-APPLE-RADIUS=500;X-TITLE=329 19th Street North Lethbridge\, Alberta:geo:-112.814634,49.6931758
END:VEVENT
BEGIN:VEVENT
DTSTART;TZID=America/Edmonton:20241013T093000
DTEND;TZID=America/Edmonton:20241013T101500
DTSTAMP:20260422T044716
CREATED:20240913T171203Z
LAST-MODIFIED:20240913T171203Z
UID:10003991-1728811800-1728814500@westminsterchapelpca.ca
SUMMARY:Sunday School
DESCRIPTION:
URL:https://westminsterchapelpca.ca/event/sunday-school-4/2024-10-13/
LOCATION:Westminister Chapel\, 329 19th Street North Lethbridge\, Alberta\, Lethbridge\, Alberta\, T1J-4A4\, Canada
CATEGORIES:Sunday School
GEO:49.6931758;-112.814634
X-APPLE-STRUCTURED-LOCATION;VALUE=URI;X-ADDRESS=Westminister Chapel 329 19th Street North Lethbridge Alberta Lethbridge Alberta T1J-4A4 Canada;X-APPLE-RADIUS=500;X-TITLE=329 19th Street North Lethbridge\, Alberta:geo:-112.814634,49.6931758
END:VEVENT
BEGIN:VEVENT
DTSTART;TZID=America/Edmonton:20241009T094500
DTEND;TZID=America/Edmonton:20241009T114500
DTSTAMP:20260422T044716
CREATED:20240913T171725Z
LAST-MODIFIED:20240913T173002Z
UID:10004017-1728467100-1728474300@westminsterchapelpca.ca
SUMMARY:Ladies Wednesday Morning Bible Study
DESCRIPTION:10-11:45am\, coffee ready at 9:45am. We will be studying ‘When Strivings Cease’; Replacing the Gospel of Self-Improvement with the Gospel of Life-Transforming Grace\, by Ruth Chou Simons. Please contact Marian for a study guide.
URL:https://westminsterchapelpca.ca/event/ladies-wednesday-morning-bible-study/2024-10-09/
LOCATION:Westminister Chapel\, 329 19th Street North Lethbridge\, Alberta\, Lethbridge\, Alberta\, T1J-4A4\, Canada
CATEGORIES:Bible Study
GEO:49.6931758;-112.814634
X-APPLE-STRUCTURED-LOCATION;VALUE=URI;X-ADDRESS=Westminister Chapel 329 19th Street North Lethbridge Alberta Lethbridge Alberta T1J-4A4 Canada;X-APPLE-RADIUS=500;X-TITLE=329 19th Street North Lethbridge\, Alberta:geo:-112.814634,49.6931758
END:VEVENT
BEGIN:VEVENT
DTSTART;TZID=America/Edmonton:20241008T190000
DTEND;TZID=America/Edmonton:20241008T220000
DTSTAMP:20260422T044716
CREATED:20230119T215238Z
LAST-MODIFIED:20230119T215238Z
UID:10002636-1728414000-1728424800@westminsterchapelpca.ca
SUMMARY:Session Meeting
DESCRIPTION:
URL:https://westminsterchapelpca.ca/event/session-meeting/2024-10-08/
LOCATION:Westminister Chapel\, 329 19th Street North Lethbridge\, Alberta\, Lethbridge\, Alberta\, T1J-4A4\, Canada
GEO:49.6931758;-112.814634
X-APPLE-STRUCTURED-LOCATION;VALUE=URI;X-ADDRESS=Westminister Chapel 329 19th Street North Lethbridge Alberta Lethbridge Alberta T1J-4A4 Canada;X-APPLE-RADIUS=500;X-TITLE=329 19th Street North Lethbridge\, Alberta:geo:-112.814634,49.6931758
END:VEVENT
BEGIN:VEVENT
DTSTART;TZID=America/Edmonton:20241002T190000
DTEND;TZID=America/Edmonton:20241002T210000
DTSTAMP:20260422T044716
CREATED:20240913T172534Z
LAST-MODIFIED:20240913T173024Z
UID:10004049-1727895600-1727902800@westminsterchapelpca.ca
SUMMARY:Mens' Bible Study
DESCRIPTION:
URL:https://westminsterchapelpca.ca/event/mens-bible-study/2024-10-02/
LOCATION:Westminister Chapel\, 329 19th Street North Lethbridge\, Alberta\, Lethbridge\, Alberta\, T1J-4A4\, Canada
CATEGORIES:Bible Study
GEO:49.6931758;-112.814634
X-APPLE-STRUCTURED-LOCATION;VALUE=URI;X-ADDRESS=Westminister Chapel 329 19th Street North Lethbridge Alberta Lethbridge Alberta T1J-4A4 Canada;X-APPLE-RADIUS=500;X-TITLE=329 19th Street North Lethbridge\, Alberta:geo:-112.814634,49.6931758
END:VEVENT
BEGIN:VEVENT
DTSTART;TZID=America/Edmonton:20241002T094500
DTEND;TZID=America/Edmonton:20241002T114500
DTSTAMP:20260422T044716
CREATED:20240913T171725Z
LAST-MODIFIED:20240913T173002Z
UID:10004016-1727862300-1727869500@westminsterchapelpca.ca
SUMMARY:Ladies Wednesday Morning Bible Study
DESCRIPTION:10-11:45am\, coffee ready at 9:45am. We will be studying ‘When Strivings Cease’; Replacing the Gospel of Self-Improvement with the Gospel of Life-Transforming Grace\, by Ruth Chou Simons. Please contact Marian for a study guide.
URL:https://westminsterchapelpca.ca/event/ladies-wednesday-morning-bible-study/2024-10-02/
LOCATION:Westminister Chapel\, 329 19th Street North Lethbridge\, Alberta\, Lethbridge\, Alberta\, T1J-4A4\, Canada
CATEGORIES:Bible Study
GEO:49.6931758;-112.814634
X-APPLE-STRUCTURED-LOCATION;VALUE=URI;X-ADDRESS=Westminister Chapel 329 19th Street North Lethbridge Alberta Lethbridge Alberta T1J-4A4 Canada;X-APPLE-RADIUS=500;X-TITLE=329 19th Street North Lethbridge\, Alberta:geo:-112.814634,49.6931758
END:VEVENT
BEGIN:VEVENT
DTSTART;TZID=America/Edmonton:20240929T163000
DTEND;TZID=America/Edmonton:20240929T173000
DTSTAMP:20260422T044716
CREATED:20240927T125237Z
LAST-MODIFIED:20240927T125312Z
UID:10001860-1727627400-1727631000@westminsterchapelpca.ca
SUMMARY:PM Worship
DESCRIPTION:Pastor Bryan Clarke \nHebrews 12:1-2 \nJoy in a Broken World
URL:https://westminsterchapelpca.ca/event/pm-worship-65/
LOCATION:Westminister Chapel\, 329 19th Street North Lethbridge\, Alberta\, Lethbridge\, Alberta\, T1J-4A4\, Canada
CATEGORIES:Worship Services
GEO:49.6931758;-112.814634
X-APPLE-STRUCTURED-LOCATION;VALUE=URI;X-ADDRESS=Westminister Chapel 329 19th Street North Lethbridge Alberta Lethbridge Alberta T1J-4A4 Canada;X-APPLE-RADIUS=500;X-TITLE=329 19th Street North Lethbridge\, Alberta:geo:-112.814634,49.6931758
END:VEVENT
BEGIN:VEVENT
DTSTART;TZID=America/Edmonton:20240929T093000
DTEND;TZID=America/Edmonton:20240929T101500
DTSTAMP:20260422T044716
CREATED:20240913T171203Z
LAST-MODIFIED:20240913T171203Z
UID:10003990-1727602200-1727604900@westminsterchapelpca.ca
SUMMARY:Sunday School
DESCRIPTION:
URL:https://westminsterchapelpca.ca/event/sunday-school-4/2024-09-29/
LOCATION:Westminister Chapel\, 329 19th Street North Lethbridge\, Alberta\, Lethbridge\, Alberta\, T1J-4A4\, Canada
CATEGORIES:Sunday School
GEO:49.6931758;-112.814634
X-APPLE-STRUCTURED-LOCATION;VALUE=URI;X-ADDRESS=Westminister Chapel 329 19th Street North Lethbridge Alberta Lethbridge Alberta T1J-4A4 Canada;X-APPLE-RADIUS=500;X-TITLE=329 19th Street North Lethbridge\, Alberta:geo:-112.814634,49.6931758
END:VEVENT
BEGIN:VEVENT
DTSTART;TZID=America/Edmonton:20240927T190000
DTEND;TZID=America/Edmonton:20240927T200000
DTSTAMP:20260422T044716
CREATED:20240906T180219Z
LAST-MODIFIED:20240926T150158Z
UID:10003984-1727463600-1727467200@westminsterchapelpca.ca
SUMMARY:Worship Service
DESCRIPTION:Western Presbytery Assembly Service.  All are welcome. \nThe Lord’s Supper will be celebrated. \n 
URL:https://westminsterchapelpca.ca/event/worship-service/
LOCATION:Westminister Chapel\, 329 19th Street North Lethbridge\, Alberta\, Lethbridge\, Alberta\, T1J-4A4\, Canada
GEO:49.6931758;-112.814634
X-APPLE-STRUCTURED-LOCATION;VALUE=URI;X-ADDRESS=Westminister Chapel 329 19th Street North Lethbridge Alberta Lethbridge Alberta T1J-4A4 Canada;X-APPLE-RADIUS=500;X-TITLE=329 19th Street North Lethbridge\, Alberta:geo:-112.814634,49.6931758
END:VEVENT
BEGIN:VEVENT
DTSTART;TZID=America/Edmonton:20240927T080000
DTEND;TZID=America/Edmonton:20240927T170000
DTSTAMP:20260422T044716
CREATED:20240906T175932Z
LAST-MODIFIED:20240906T175932Z
UID:10003983-1727424000-1727456400@westminsterchapelpca.ca
SUMMARY:Western Presbytery Meeting
DESCRIPTION:
URL:https://westminsterchapelpca.ca/event/western-presbytery-meeting/
LOCATION:Westminister Chapel\, 329 19th Street North Lethbridge\, Alberta\, Lethbridge\, Alberta\, T1J-4A4\, Canada
GEO:49.6931758;-112.814634
X-APPLE-STRUCTURED-LOCATION;VALUE=URI;X-ADDRESS=Westminister Chapel 329 19th Street North Lethbridge Alberta Lethbridge Alberta T1J-4A4 Canada;X-APPLE-RADIUS=500;X-TITLE=329 19th Street North Lethbridge\, Alberta:geo:-112.814634,49.6931758
END:VEVENT
BEGIN:VEVENT
DTSTART;TZID=America/Edmonton:20240925T094500
DTEND;TZID=America/Edmonton:20240925T114500
DTSTAMP:20260422T044716
CREATED:20240913T171725Z
LAST-MODIFIED:20240913T173002Z
UID:10004015-1727257500-1727264700@westminsterchapelpca.ca
SUMMARY:Ladies Wednesday Morning Bible Study
DESCRIPTION:10-11:45am\, coffee ready at 9:45am. We will be studying ‘When Strivings Cease’; Replacing the Gospel of Self-Improvement with the Gospel of Life-Transforming Grace\, by Ruth Chou Simons. Please contact Marian for a study guide.
URL:https://westminsterchapelpca.ca/event/ladies-wednesday-morning-bible-study/2024-09-25/
LOCATION:Westminister Chapel\, 329 19th Street North Lethbridge\, Alberta\, Lethbridge\, Alberta\, T1J-4A4\, Canada
CATEGORIES:Bible Study
GEO:49.6931758;-112.814634
X-APPLE-STRUCTURED-LOCATION;VALUE=URI;X-ADDRESS=Westminister Chapel 329 19th Street North Lethbridge Alberta Lethbridge Alberta T1J-4A4 Canada;X-APPLE-RADIUS=500;X-TITLE=329 19th Street North Lethbridge\, Alberta:geo:-112.814634,49.6931758
END:VEVENT
BEGIN:VEVENT
DTSTART;TZID=America/Edmonton:20240922T163000
DTEND;TZID=America/Edmonton:20240922T173000
DTSTAMP:20260422T044716
CREATED:20240920T000218Z
LAST-MODIFIED:20240920T000250Z
UID:10001859-1727022600-1727026200@westminsterchapelpca.ca
SUMMARY:PM Worship
DESCRIPTION:Pastor Adam Harris \nGenesis 28:10-22 \nStairway of Grace
URL:https://westminsterchapelpca.ca/event/pm-worship-64/
LOCATION:Westminister Chapel\, 329 19th Street North Lethbridge\, Alberta\, Lethbridge\, Alberta\, T1J-4A4\, Canada
CATEGORIES:Worship Services
GEO:49.6931758;-112.814634
X-APPLE-STRUCTURED-LOCATION;VALUE=URI;X-ADDRESS=Westminister Chapel 329 19th Street North Lethbridge Alberta Lethbridge Alberta T1J-4A4 Canada;X-APPLE-RADIUS=500;X-TITLE=329 19th Street North Lethbridge\, Alberta:geo:-112.814634,49.6931758
END:VEVENT
BEGIN:VEVENT
DTSTART;TZID=America/Edmonton:20240922T093000
DTEND;TZID=America/Edmonton:20240922T101500
DTSTAMP:20260422T044716
CREATED:20240913T171203Z
LAST-MODIFIED:20240913T171203Z
UID:10003989-1726997400-1727000100@westminsterchapelpca.ca
SUMMARY:Sunday School
DESCRIPTION:
URL:https://westminsterchapelpca.ca/event/sunday-school-4/2024-09-22/
LOCATION:Westminister Chapel\, 329 19th Street North Lethbridge\, Alberta\, Lethbridge\, Alberta\, T1J-4A4\, Canada
CATEGORIES:Sunday School
GEO:49.6931758;-112.814634
X-APPLE-STRUCTURED-LOCATION;VALUE=URI;X-ADDRESS=Westminister Chapel 329 19th Street North Lethbridge Alberta Lethbridge Alberta T1J-4A4 Canada;X-APPLE-RADIUS=500;X-TITLE=329 19th Street North Lethbridge\, Alberta:geo:-112.814634,49.6931758
END:VEVENT
BEGIN:VEVENT
DTSTART;TZID=America/Edmonton:20240919T190000
DTEND;TZID=America/Edmonton:20240919T210000
DTSTAMP:20260422T044716
CREATED:20240910T003723Z
LAST-MODIFIED:20240910T003723Z
UID:10003987-1726772400-1726779600@westminsterchapelpca.ca
SUMMARY:Ladies Desert Night
DESCRIPTION:
URL:https://westminsterchapelpca.ca/event/ladies-desert-night/
LOCATION:Westminister Chapel\, 329 19th Street North Lethbridge\, Alberta\, Lethbridge\, Alberta\, T1J-4A4\, Canada
CATEGORIES:Woman's Fellowship
GEO:49.6931758;-112.814634
X-APPLE-STRUCTURED-LOCATION;VALUE=URI;X-ADDRESS=Westminister Chapel 329 19th Street North Lethbridge Alberta Lethbridge Alberta T1J-4A4 Canada;X-APPLE-RADIUS=500;X-TITLE=329 19th Street North Lethbridge\, Alberta:geo:-112.814634,49.6931758
END:VEVENT
BEGIN:VEVENT
DTSTART;TZID=America/Edmonton:20240914T090000
DTEND;TZID=America/Edmonton:20240914T150000
DTSTAMP:20260422T044716
CREATED:20240829T231602Z
LAST-MODIFIED:20240829T231602Z
UID:10003982-1726304400-1726326000@westminsterchapelpca.ca
SUMMARY:Quilting
DESCRIPTION:Quilting Day – The first quilt day of the season will be held Sat. Sept 14 at the church from 9:30-3:00. Anyone interested in participating as we sew quilts for our refugee family is welcome to attend. A delicious lunch will be served at noon. A huge Thank You to Gerard Toeters who so faithfully helped prepare the lunches over the past several years but has decided to step down. Please RSVP for an accurate lunch count. Questions? Contact Martha A.
URL:https://westminsterchapelpca.ca/event/quilting-5/
LOCATION:Westminister Chapel\, 329 19th Street North Lethbridge\, Alberta\, Lethbridge\, Alberta\, T1J-4A4\, Canada
GEO:49.6931758;-112.814634
X-APPLE-STRUCTURED-LOCATION;VALUE=URI;X-ADDRESS=Westminister Chapel 329 19th Street North Lethbridge Alberta Lethbridge Alberta T1J-4A4 Canada;X-APPLE-RADIUS=500;X-TITLE=329 19th Street North Lethbridge\, Alberta:geo:-112.814634,49.6931758
END:VEVENT
END:VCALENDAR