BEGIN:VCALENDAR
VERSION:2.0
PRODID:-//Westminster Chapel - ECPv6.15.13.1//NONSGML v1.0//EN
CALSCALE:GREGORIAN
METHOD:PUBLISH
X-WR-CALNAME:Westminster Chapel
X-ORIGINAL-URL:https://westminsterchapelpca.ca
X-WR-CALDESC:Events for Westminster Chapel
REFRESH-INTERVAL;VALUE=DURATION:PT1H
X-Robots-Tag:noindex
X-PUBLISHED-TTL:PT1H
BEGIN:VTIMEZONE
TZID:America/Edmonton
BEGIN:DAYLIGHT
TZOFFSETFROM:-0700
TZOFFSETTO:-0600
TZNAME:MDT
DTSTART:20230312T090000
END:DAYLIGHT
BEGIN:STANDARD
TZOFFSETFROM:-0600
TZOFFSETTO:-0700
TZNAME:MST
DTSTART:20231105T080000
END:STANDARD
BEGIN:DAYLIGHT
TZOFFSETFROM:-0700
TZOFFSETTO:-0600
TZNAME:MDT
DTSTART:20240310T090000
END:DAYLIGHT
BEGIN:STANDARD
TZOFFSETFROM:-0600
TZOFFSETTO:-0700
TZNAME:MST
DTSTART:20241103T080000
END:STANDARD
BEGIN:DAYLIGHT
TZOFFSETFROM:-0700
TZOFFSETTO:-0600
TZNAME:MDT
DTSTART:20250309T090000
END:DAYLIGHT
BEGIN:STANDARD
TZOFFSETFROM:-0600
TZOFFSETTO:-0700
TZNAME:MST
DTSTART:20251102T080000
END:STANDARD
END:VTIMEZONE
BEGIN:VEVENT
DTSTART;TZID=America/Edmonton:20240910T190000
DTEND;TZID=America/Edmonton:20240910T220000
DTSTAMP:20260422T084610
CREATED:20230119T215238Z
LAST-MODIFIED:20230119T215238Z
UID:10002635-1725994800-1726005600@westminsterchapelpca.ca
SUMMARY:Session Meeting
DESCRIPTION:
URL:https://westminsterchapelpca.ca/event/session-meeting/2024-09-10/
LOCATION:Westminister Chapel\, 329 19th Street North Lethbridge\, Alberta\, Lethbridge\, Alberta\, T1J-4A4\, Canada
GEO:49.6931758;-112.814634
X-APPLE-STRUCTURED-LOCATION;VALUE=URI;X-ADDRESS=Westminister Chapel 329 19th Street North Lethbridge Alberta Lethbridge Alberta T1J-4A4 Canada;X-APPLE-RADIUS=500;X-TITLE=329 19th Street North Lethbridge\, Alberta:geo:-112.814634,49.6931758
END:VEVENT
BEGIN:VEVENT
DTSTART;TZID=America/Edmonton:20240908T163000
DTEND;TZID=America/Edmonton:20240908T173000
DTSTAMP:20260422T084610
CREATED:20240906T180517Z
LAST-MODIFIED:20240906T180557Z
UID:10001857-1725813000-1725816600@westminsterchapelpca.ca
SUMMARY:PM Worship
DESCRIPTION:Pastor Adam Harris \nGenesis 27:41-28:9 \nThe Brothers Grim
URL:https://westminsterchapelpca.ca/event/pm-worship-63/
LOCATION:Westminister Chapel\, 329 19th Street North Lethbridge\, Alberta\, Lethbridge\, Alberta\, T1J-4A4\, Canada
CATEGORIES:Worship Services
GEO:49.6931758;-112.814634
X-APPLE-STRUCTURED-LOCATION;VALUE=URI;X-ADDRESS=Westminister Chapel 329 19th Street North Lethbridge Alberta Lethbridge Alberta T1J-4A4 Canada;X-APPLE-RADIUS=500;X-TITLE=329 19th Street North Lethbridge\, Alberta:geo:-112.814634,49.6931758
END:VEVENT
BEGIN:VEVENT
DTSTART;TZID=America/Edmonton:20240825T163000
DTEND;TZID=America/Edmonton:20240825T173000
DTSTAMP:20260422T084610
CREATED:20240822T163233Z
LAST-MODIFIED:20240822T163440Z
UID:10001855-1724603400-1724607000@westminsterchapelpca.ca
SUMMARY:PM Worship
DESCRIPTION:Pastor Cameron Fraser \nExodus 20:8-11; Deuteronomy5:12-15; Hebrews 4: 1-11 \nA Day to Remember
URL:https://westminsterchapelpca.ca/event/sunday-pm-worship-28-2022-05-22-4-6/
LOCATION:Westminister Chapel\, 329 19th Street North Lethbridge\, Alberta\, Lethbridge\, Alberta\, T1J-4A4\, Canada
CATEGORIES:Worship Services
GEO:49.6931758;-112.814634
X-APPLE-STRUCTURED-LOCATION;VALUE=URI;X-ADDRESS=Westminister Chapel 329 19th Street North Lethbridge Alberta Lethbridge Alberta T1J-4A4 Canada;X-APPLE-RADIUS=500;X-TITLE=329 19th Street North Lethbridge\, Alberta:geo:-112.814634,49.6931758
END:VEVENT
BEGIN:VEVENT
DTSTART;TZID=America/Edmonton:20240818T163000
DTEND;TZID=America/Edmonton:20240818T173000
DTSTAMP:20260422T084610
CREATED:20240817T200121Z
LAST-MODIFIED:20240817T200215Z
UID:10001854-1723998600-1724002200@westminsterchapelpca.ca
SUMMARY:PM Worship
DESCRIPTION:Pastor Adam Harris \nHebrew 12:28-29 \nAcceptable Worship
URL:https://westminsterchapelpca.ca/event/pm-worship-61/
LOCATION:Westminister Chapel\, 329 19th Street North Lethbridge\, Alberta\, Lethbridge\, Alberta\, T1J-4A4\, Canada
CATEGORIES:Worship Services
GEO:49.6931758;-112.814634
X-APPLE-STRUCTURED-LOCATION;VALUE=URI;X-ADDRESS=Westminister Chapel 329 19th Street North Lethbridge Alberta Lethbridge Alberta T1J-4A4 Canada;X-APPLE-RADIUS=500;X-TITLE=329 19th Street North Lethbridge\, Alberta:geo:-112.814634,49.6931758
END:VEVENT
BEGIN:VEVENT
DTSTART;TZID=America/Edmonton:20240813T190000
DTEND;TZID=America/Edmonton:20240813T220000
DTSTAMP:20260422T084610
CREATED:20230119T215238Z
LAST-MODIFIED:20230119T215238Z
UID:10002634-1723575600-1723586400@westminsterchapelpca.ca
SUMMARY:Session Meeting
DESCRIPTION:
URL:https://westminsterchapelpca.ca/event/session-meeting/2024-08-13/
LOCATION:Westminister Chapel\, 329 19th Street North Lethbridge\, Alberta\, Lethbridge\, Alberta\, T1J-4A4\, Canada
GEO:49.6931758;-112.814634
X-APPLE-STRUCTURED-LOCATION;VALUE=URI;X-ADDRESS=Westminister Chapel 329 19th Street North Lethbridge Alberta Lethbridge Alberta T1J-4A4 Canada;X-APPLE-RADIUS=500;X-TITLE=329 19th Street North Lethbridge\, Alberta:geo:-112.814634,49.6931758
END:VEVENT
BEGIN:VEVENT
DTSTART;VALUE=DATE:20240812
DTEND;VALUE=DATE:20240817
DTSTAMP:20260422T084610
CREATED:20240229T203446Z
LAST-MODIFIED:20240229T203446Z
UID:10003648-1723420800-1723852799@westminsterchapelpca.ca
SUMMARY:Operation Artic VBS
DESCRIPTION:Invite friends\, spread the word! \nTo register your children\, follow this link: https://westminsterchapel.myanswers.com/operation-arctic/
URL:https://westminsterchapelpca.ca/event/operation-artic-vbs/
LOCATION:Westminister Chapel\, 329 19th Street North Lethbridge\, Alberta\, Lethbridge\, Alberta\, T1J-4A4\, Canada
GEO:49.6931758;-112.814634
X-APPLE-STRUCTURED-LOCATION;VALUE=URI;X-ADDRESS=Westminister Chapel 329 19th Street North Lethbridge Alberta Lethbridge Alberta T1J-4A4 Canada;X-APPLE-RADIUS=500;X-TITLE=329 19th Street North Lethbridge\, Alberta:geo:-112.814634,49.6931758
END:VEVENT
BEGIN:VEVENT
DTSTART;TZID=America/Edmonton:20240811T163000
DTEND;TZID=America/Edmonton:20240811T173000
DTSTAMP:20260422T084610
CREATED:20240809T020437Z
LAST-MODIFIED:20240809T020515Z
UID:10001853-1723393800-1723397400@westminsterchapelpca.ca
SUMMARY:PM Worship
DESCRIPTION:Pastor Cameron Fraser \nMalachi 3 \nTrue and False Religion
URL:https://westminsterchapelpca.ca/event/pm-worship-60/
LOCATION:Westminister Chapel\, 329 19th Street North Lethbridge\, Alberta\, Lethbridge\, Alberta\, T1J-4A4\, Canada
CATEGORIES:Worship Services
GEO:49.6931758;-112.814634
X-APPLE-STRUCTURED-LOCATION;VALUE=URI;X-ADDRESS=Westminister Chapel 329 19th Street North Lethbridge Alberta Lethbridge Alberta T1J-4A4 Canada;X-APPLE-RADIUS=500;X-TITLE=329 19th Street North Lethbridge\, Alberta:geo:-112.814634,49.6931758
END:VEVENT
BEGIN:VEVENT
DTSTART;TZID=America/Edmonton:20240809T100000
DTEND;TZID=America/Edmonton:20240809T120000
DTSTAMP:20260422T084610
CREATED:20240720T163929Z
LAST-MODIFIED:20240720T163929Z
UID:10003968-1723197600-1723204800@westminsterchapelpca.ca
SUMMARY:Vacation Bible School Prep
DESCRIPTION:Starting at 10 am\, we will be setting up and decorating for VBS\, anyone willing to help is welcome! Many hands make light work! If you have any arctic animal stuffies or wintery/cabin decorations you wouldn’t mind to lend for the week\, please bring them! Questions? Talk to Karen or Cheryl.
URL:https://westminsterchapelpca.ca/event/vacation-bible-school-prep/
LOCATION:Westminister Chapel\, 329 19th Street North Lethbridge\, Alberta\, Lethbridge\, Alberta\, T1J-4A4\, Canada
GEO:49.6931758;-112.814634
X-APPLE-STRUCTURED-LOCATION;VALUE=URI;X-ADDRESS=Westminister Chapel 329 19th Street North Lethbridge Alberta Lethbridge Alberta T1J-4A4 Canada;X-APPLE-RADIUS=500;X-TITLE=329 19th Street North Lethbridge\, Alberta:geo:-112.814634,49.6931758
END:VEVENT
BEGIN:VEVENT
DTSTART;VALUE=DATE:20240805
DTEND;VALUE=DATE:20240810
DTSTAMP:20260422T084610
CREATED:20240413T153504Z
LAST-MODIFIED:20240413T153537Z
UID:10003922-1722816000-1723247999@westminsterchapelpca.ca
SUMMARY:Summit Reformed Youth Conference
DESCRIPTION:  \nSummit Youth Conference: It’s happening August 5-9 for grade 9 graduates to post high school. Theme is “Behold our God.” Registration closes June 10. Due to renovations\, they are capping registration at 450\, so register early to ensure your spot! Contact Anna for more information.  Click here to register.
URL:https://westminsterchapelpca.ca/event/summit-reformed-youth-conference/
LOCATION:Westminister Chapel\, 329 19th Street North Lethbridge\, Alberta\, Lethbridge\, Alberta\, T1J-4A4\, Canada
GEO:49.6931758;-112.814634
X-APPLE-STRUCTURED-LOCATION;VALUE=URI;X-ADDRESS=Westminister Chapel 329 19th Street North Lethbridge Alberta Lethbridge Alberta T1J-4A4 Canada;X-APPLE-RADIUS=500;X-TITLE=329 19th Street North Lethbridge\, Alberta:geo:-112.814634,49.6931758
END:VEVENT
BEGIN:VEVENT
DTSTART;TZID=America/Edmonton:20240804T123000
DTEND;TZID=America/Edmonton:20240804T170000
DTSTAMP:20260422T084610
CREATED:20240517T030553Z
LAST-MODIFIED:20240517T030553Z
UID:10003941-1722774600-1722790800@westminsterchapelpca.ca
SUMMARY:Community Group Legacy Park
DESCRIPTION:Spray Park
URL:https://westminsterchapelpca.ca/event/community-group-legacy-park/
LOCATION:Westminister Chapel\, 329 19th Street North Lethbridge\, Alberta\, Lethbridge\, Alberta\, T1J-4A4\, Canada
GEO:49.6931758;-112.814634
X-APPLE-STRUCTURED-LOCATION;VALUE=URI;X-ADDRESS=Westminister Chapel 329 19th Street North Lethbridge Alberta Lethbridge Alberta T1J-4A4 Canada;X-APPLE-RADIUS=500;X-TITLE=329 19th Street North Lethbridge\, Alberta:geo:-112.814634,49.6931758
END:VEVENT
BEGIN:VEVENT
DTSTART;TZID=America/Edmonton:20240728T163000
DTEND;TZID=America/Edmonton:20240728T173000
DTSTAMP:20260422T084610
CREATED:20240726T003414Z
LAST-MODIFIED:20240726T003507Z
UID:10001851-1722184200-1722187800@westminsterchapelpca.ca
SUMMARY:PM Worship
DESCRIPTION:Pastor Adam Harris \nLuke 16:19-31 \nHeaven & Hell
URL:https://westminsterchapelpca.ca/event/pm-worship-59/
LOCATION:Westminister Chapel\, 329 19th Street North Lethbridge\, Alberta\, Lethbridge\, Alberta\, T1J-4A4\, Canada
CATEGORIES:Worship Services
GEO:49.6931758;-112.814634
X-APPLE-STRUCTURED-LOCATION;VALUE=URI;X-ADDRESS=Westminister Chapel 329 19th Street North Lethbridge Alberta Lethbridge Alberta T1J-4A4 Canada;X-APPLE-RADIUS=500;X-TITLE=329 19th Street North Lethbridge\, Alberta:geo:-112.814634,49.6931758
END:VEVENT
BEGIN:VEVENT
DTSTART;TZID=America/Edmonton:20240721T163000
DTEND;TZID=America/Edmonton:20240721T173000
DTSTAMP:20260422T084610
CREATED:20240720T164032Z
LAST-MODIFIED:20240720T164104Z
UID:10001850-1721579400-1721583000@westminsterchapelpca.ca
SUMMARY:PM Worship
DESCRIPTION:Pastor Adam Harris \nPsalm 19:1-2 & 1 Timothy 6:20-21\nFaith & Science
URL:https://westminsterchapelpca.ca/event/pm-worship-58/
LOCATION:Westminister Chapel\, 329 19th Street North Lethbridge\, Alberta\, Lethbridge\, Alberta\, T1J-4A4\, Canada
CATEGORIES:Worship Services
GEO:49.6931758;-112.814634
X-APPLE-STRUCTURED-LOCATION;VALUE=URI;X-ADDRESS=Westminister Chapel 329 19th Street North Lethbridge Alberta Lethbridge Alberta T1J-4A4 Canada;X-APPLE-RADIUS=500;X-TITLE=329 19th Street North Lethbridge\, Alberta:geo:-112.814634,49.6931758
END:VEVENT
BEGIN:VEVENT
DTSTART;TZID=America/Edmonton:20240714T163000
DTEND;TZID=America/Edmonton:20240714T173000
DTSTAMP:20260422T084610
CREATED:20240712T012130Z
LAST-MODIFIED:20240712T012156Z
UID:10001849-1720974600-1720978200@westminsterchapelpca.ca
SUMMARY:PM Worship
DESCRIPTION:Pastor Cameron Fraser \nJohn 10:1-18 \nThe Perfect Pastor
URL:https://westminsterchapelpca.ca/event/pm-worship-57/
LOCATION:Westminister Chapel\, 329 19th Street North Lethbridge\, Alberta\, Lethbridge\, Alberta\, T1J-4A4\, Canada
CATEGORIES:Worship Services
GEO:49.6931758;-112.814634
X-APPLE-STRUCTURED-LOCATION;VALUE=URI;X-ADDRESS=Westminister Chapel 329 19th Street North Lethbridge Alberta Lethbridge Alberta T1J-4A4 Canada;X-APPLE-RADIUS=500;X-TITLE=329 19th Street North Lethbridge\, Alberta:geo:-112.814634,49.6931758
END:VEVENT
BEGIN:VEVENT
DTSTART;TZID=America/Edmonton:20240713T090000
DTEND;TZID=America/Edmonton:20240713T210000
DTSTAMP:20260422T084610
CREATED:20240628T030048Z
LAST-MODIFIED:20240628T030048Z
UID:10003959-1720861200-1720904400@westminsterchapelpca.ca
SUMMARY:Seniors' Outing
DESCRIPTION:Inviting all seniors to a wonderful day in the gorgeous Crowsnest Pass on July 13th.  We will meet at the church at 9:00 am.  We will fill our bellies with a light lunch and supper at the Tamminga’s Cabin.
URL:https://westminsterchapelpca.ca/event/seniors-outing-2/
LOCATION:Westminister Chapel\, 329 19th Street North Lethbridge\, Alberta\, Lethbridge\, Alberta\, T1J-4A4\, Canada
GEO:49.6931758;-112.814634
X-APPLE-STRUCTURED-LOCATION;VALUE=URI;X-ADDRESS=Westminister Chapel 329 19th Street North Lethbridge Alberta Lethbridge Alberta T1J-4A4 Canada;X-APPLE-RADIUS=500;X-TITLE=329 19th Street North Lethbridge\, Alberta:geo:-112.814634,49.6931758
END:VEVENT
BEGIN:VEVENT
DTSTART;TZID=America/Edmonton:20240709T190000
DTEND;TZID=America/Edmonton:20240709T220000
DTSTAMP:20260422T084610
CREATED:20230119T215238Z
LAST-MODIFIED:20230119T215238Z
UID:10002633-1720551600-1720562400@westminsterchapelpca.ca
SUMMARY:Session Meeting
DESCRIPTION:
URL:https://westminsterchapelpca.ca/event/session-meeting/2024-07-09/
LOCATION:Westminister Chapel\, 329 19th Street North Lethbridge\, Alberta\, Lethbridge\, Alberta\, T1J-4A4\, Canada
GEO:49.6931758;-112.814634
X-APPLE-STRUCTURED-LOCATION;VALUE=URI;X-ADDRESS=Westminister Chapel 329 19th Street North Lethbridge Alberta Lethbridge Alberta T1J-4A4 Canada;X-APPLE-RADIUS=500;X-TITLE=329 19th Street North Lethbridge\, Alberta:geo:-112.814634,49.6931758
END:VEVENT
BEGIN:VEVENT
DTSTART;TZID=America/Edmonton:20240630T163000
DTEND;TZID=America/Edmonton:20240630T173000
DTSTAMP:20260422T084610
CREATED:20240628T025557Z
LAST-MODIFIED:20240628T025659Z
UID:10001847-1719765000-1719768600@westminsterchapelpca.ca
SUMMARY:PM Worship
DESCRIPTION:Adam Harris \nRomans 11:1-36 \nIsrael & The Church
URL:https://westminsterchapelpca.ca/event/pm-worship-56/
LOCATION:Westminister Chapel\, 329 19th Street North Lethbridge\, Alberta\, Lethbridge\, Alberta\, T1J-4A4\, Canada
CATEGORIES:Worship Services
GEO:49.6931758;-112.814634
X-APPLE-STRUCTURED-LOCATION;VALUE=URI;X-ADDRESS=Westminister Chapel 329 19th Street North Lethbridge Alberta Lethbridge Alberta T1J-4A4 Canada;X-APPLE-RADIUS=500;X-TITLE=329 19th Street North Lethbridge\, Alberta:geo:-112.814634,49.6931758
END:VEVENT
BEGIN:VEVENT
DTSTART;TZID=America/Edmonton:20240623T163000
DTEND;TZID=America/Edmonton:20240623T173000
DTSTAMP:20260422T084610
CREATED:20240621T025625Z
LAST-MODIFIED:20240621T025649Z
UID:10001846-1719160200-1719163800@westminsterchapelpca.ca
SUMMARY:PM Worship
DESCRIPTION:Pastor George Koopmans \n2 Peter 3:3-18 \nWhy Pray?
URL:https://westminsterchapelpca.ca/event/pm-worship-55/
LOCATION:Westminister Chapel\, 329 19th Street North Lethbridge\, Alberta\, Lethbridge\, Alberta\, T1J-4A4\, Canada
CATEGORIES:Worship Services
GEO:49.6931758;-112.814634
X-APPLE-STRUCTURED-LOCATION;VALUE=URI;X-ADDRESS=Westminister Chapel 329 19th Street North Lethbridge Alberta Lethbridge Alberta T1J-4A4 Canada;X-APPLE-RADIUS=500;X-TITLE=329 19th Street North Lethbridge\, Alberta:geo:-112.814634,49.6931758
END:VEVENT
BEGIN:VEVENT
DTSTART;TZID=America/Edmonton:20240622T080000
DTEND;TZID=America/Edmonton:20240622T170000
DTSTAMP:20260422T084610
CREATED:20240517T030242Z
LAST-MODIFIED:20240608T010212Z
UID:10003940-1719043200-1719075600@westminsterchapelpca.ca
SUMMARY:Summer Fellowship
DESCRIPTION:Join us Saturday\, June 22nd from 4pm-8pm at Legacy Park (Picnic Shelters located by the East Parking lot – access via Uplands Blvd N) as we kick off summer with fellowship\, food\, games and activities! Food & Drinks will be provided. Please bring your lawn chairs and your favourite lawn game! Any questions or concerns please contact Steph Van Hill or Tanya Koster.
URL:https://westminsterchapelpca.ca/event/summer-kick/
LOCATION:Westminister Chapel\, 329 19th Street North Lethbridge\, Alberta\, Lethbridge\, Alberta\, T1J-4A4\, Canada
CATEGORIES:Fellowship
GEO:49.6931758;-112.814634
X-APPLE-STRUCTURED-LOCATION;VALUE=URI;X-ADDRESS=Westminister Chapel 329 19th Street North Lethbridge Alberta Lethbridge Alberta T1J-4A4 Canada;X-APPLE-RADIUS=500;X-TITLE=329 19th Street North Lethbridge\, Alberta:geo:-112.814634,49.6931758
END:VEVENT
BEGIN:VEVENT
DTSTART;TZID=America/Edmonton:20240616T163000
DTEND;TZID=America/Edmonton:20240616T173000
DTSTAMP:20260422T084610
CREATED:20240614T030707Z
LAST-MODIFIED:20240614T030745Z
UID:10001845-1718555400-1718559000@westminsterchapelpca.ca
SUMMARY:PM Worship
DESCRIPTION:Pastor Adam Harris \nRomans 1:18-32 \nHuman Sexuality
URL:https://westminsterchapelpca.ca/event/pm-worship-54/
LOCATION:Westminister Chapel\, 329 19th Street North Lethbridge\, Alberta\, Lethbridge\, Alberta\, T1J-4A4\, Canada
CATEGORIES:Worship Services
GEO:49.6931758;-112.814634
X-APPLE-STRUCTURED-LOCATION;VALUE=URI;X-ADDRESS=Westminister Chapel 329 19th Street North Lethbridge Alberta Lethbridge Alberta T1J-4A4 Canada;X-APPLE-RADIUS=500;X-TITLE=329 19th Street North Lethbridge\, Alberta:geo:-112.814634,49.6931758
END:VEVENT
BEGIN:VEVENT
DTSTART;TZID=America/Edmonton:20240611T190000
DTEND;TZID=America/Edmonton:20240611T220000
DTSTAMP:20260422T084610
CREATED:20230119T215238Z
LAST-MODIFIED:20230119T215238Z
UID:10002632-1718132400-1718143200@westminsterchapelpca.ca
SUMMARY:Session Meeting
DESCRIPTION:
URL:https://westminsterchapelpca.ca/event/session-meeting/2024-06-11/
LOCATION:Westminister Chapel\, 329 19th Street North Lethbridge\, Alberta\, Lethbridge\, Alberta\, T1J-4A4\, Canada
GEO:49.6931758;-112.814634
X-APPLE-STRUCTURED-LOCATION;VALUE=URI;X-ADDRESS=Westminister Chapel 329 19th Street North Lethbridge Alberta Lethbridge Alberta T1J-4A4 Canada;X-APPLE-RADIUS=500;X-TITLE=329 19th Street North Lethbridge\, Alberta:geo:-112.814634,49.6931758
END:VEVENT
BEGIN:VEVENT
DTSTART;TZID=America/Edmonton:20240609T163000
DTEND;TZID=America/Edmonton:20240609T173000
DTSTAMP:20260422T084610
CREATED:20240607T233206Z
LAST-MODIFIED:20240607T233239Z
UID:10001844-1717950600-1717954200@westminsterchapelpca.ca
SUMMARY:PM Worship
DESCRIPTION:Pastor Cameron Fraser \n1 Corinthians 13 \nImpossible Love
URL:https://westminsterchapelpca.ca/event/pm-worship-53/
LOCATION:Westminister Chapel\, 329 19th Street North Lethbridge\, Alberta\, Lethbridge\, Alberta\, T1J-4A4\, Canada
CATEGORIES:Worship Services
GEO:49.6931758;-112.814634
X-APPLE-STRUCTURED-LOCATION;VALUE=URI;X-ADDRESS=Westminister Chapel 329 19th Street North Lethbridge Alberta Lethbridge Alberta T1J-4A4 Canada;X-APPLE-RADIUS=500;X-TITLE=329 19th Street North Lethbridge\, Alberta:geo:-112.814634,49.6931758
END:VEVENT
BEGIN:VEVENT
DTSTART;TZID=America/Edmonton:20240601T103000
DTEND;TZID=America/Edmonton:20240601T123000
DTSTAMP:20260422T084610
CREATED:20240511T141309Z
LAST-MODIFIED:20240525T144200Z
UID:10003937-1717237800-1717245000@westminsterchapelpca.ca
SUMMARY:Ladies Spring Social
DESCRIPTION:Ladies\, mark your calendars for June 1st and plan to attend the upcoming spring social. The event will take place at the Halverson’s home from 11am-1pm. Join us for a time of food\, fellowship\, fresh air\, and sunshine. \nPlease RSVP to Victoria de Groot by May 29th.
URL:https://westminsterchapelpca.ca/event/ladies-spring-social/
LOCATION:Westminister Chapel\, 329 19th Street North Lethbridge\, Alberta\, Lethbridge\, Alberta\, T1J-4A4\, Canada
CATEGORIES:Woman's Fellowship
GEO:49.6931758;-112.814634
X-APPLE-STRUCTURED-LOCATION;VALUE=URI;X-ADDRESS=Westminister Chapel 329 19th Street North Lethbridge Alberta Lethbridge Alberta T1J-4A4 Canada;X-APPLE-RADIUS=500;X-TITLE=329 19th Street North Lethbridge\, Alberta:geo:-112.814634,49.6931758
END:VEVENT
BEGIN:VEVENT
DTSTART;TZID=America/Edmonton:20240526T163000
DTEND;TZID=America/Edmonton:20240526T173000
DTSTAMP:20260422T084610
CREATED:20240525T144534Z
LAST-MODIFIED:20240525T144621Z
UID:10001842-1716741000-1716744600@westminsterchapelpca.ca
SUMMARY:PM Worship
DESCRIPTION:Pastor George Koopmans \nLuke 24:13-32 \nWe Want to See Jesus
URL:https://westminsterchapelpca.ca/event/pm-worship-52/
LOCATION:Westminister Chapel\, 329 19th Street North Lethbridge\, Alberta\, Lethbridge\, Alberta\, T1J-4A4\, Canada
CATEGORIES:Worship Services
GEO:49.6931758;-112.814634
X-APPLE-STRUCTURED-LOCATION;VALUE=URI;X-ADDRESS=Westminister Chapel 329 19th Street North Lethbridge Alberta Lethbridge Alberta T1J-4A4 Canada;X-APPLE-RADIUS=500;X-TITLE=329 19th Street North Lethbridge\, Alberta:geo:-112.814634,49.6931758
END:VEVENT
BEGIN:VEVENT
DTSTART;TZID=America/Edmonton:20240522T190000
DTEND;TZID=America/Edmonton:20240522T210000
DTSTAMP:20260422T084610
CREATED:20231202T181711Z
LAST-MODIFIED:20231202T181712Z
UID:10003261-1716404400-1716411600@westminsterchapelpca.ca
SUMMARY:Prayer Meeting
DESCRIPTION:Prayer Meeting\nWith devotion & song at the church. Led by Ron H.
URL:https://westminsterchapelpca.ca/event/prayer-meeting-7-2/2024-05-22/
LOCATION:Westminister Chapel\, 329 19th Street North Lethbridge\, Alberta\, Lethbridge\, Alberta\, T1J-4A4\, Canada
CATEGORIES:Prayer
GEO:49.6931758;-112.814634
X-APPLE-STRUCTURED-LOCATION;VALUE=URI;X-ADDRESS=Westminister Chapel 329 19th Street North Lethbridge Alberta Lethbridge Alberta T1J-4A4 Canada;X-APPLE-RADIUS=500;X-TITLE=329 19th Street North Lethbridge\, Alberta:geo:-112.814634,49.6931758
END:VEVENT
BEGIN:VEVENT
DTSTART;TZID=America/Edmonton:20240519T163000
DTEND;TZID=America/Edmonton:20240519T173000
DTSTAMP:20260422T084610
CREATED:20240516T035846Z
LAST-MODIFIED:20240516T035924Z
UID:10001841-1716136200-1716139800@westminsterchapelpca.ca
SUMMARY:PM Worship
DESCRIPTION:Pastor Adam Harris \nGenesis 26:34-27:45 \nThe Stolen Blessing
URL:https://westminsterchapelpca.ca/event/pm-worship-51/
LOCATION:Westminister Chapel\, 329 19th Street North Lethbridge\, Alberta\, Lethbridge\, Alberta\, T1J-4A4\, Canada
CATEGORIES:Worship Services
GEO:49.6931758;-112.814634
X-APPLE-STRUCTURED-LOCATION;VALUE=URI;X-ADDRESS=Westminister Chapel 329 19th Street North Lethbridge Alberta Lethbridge Alberta T1J-4A4 Canada;X-APPLE-RADIUS=500;X-TITLE=329 19th Street North Lethbridge\, Alberta:geo:-112.814634,49.6931758
END:VEVENT
BEGIN:VEVENT
DTSTART;TZID=America/Edmonton:20240515T190000
DTEND;TZID=America/Edmonton:20240515T210000
DTSTAMP:20260422T084610
CREATED:20230922T200136Z
LAST-MODIFIED:20230922T200136Z
UID:10003269-1715799600-1715806800@westminsterchapelpca.ca
SUMMARY:Youth Study
DESCRIPTION:Youth Study\nWestminster Shorter Catechism. Led by Pastor Adam.
URL:https://westminsterchapelpca.ca/event/youth-study/2024-05-15/
LOCATION:Westminister Chapel\, 329 19th Street North Lethbridge\, Alberta\, Lethbridge\, Alberta\, T1J-4A4\, Canada
CATEGORIES:Youth
GEO:49.6931758;-112.814634
X-APPLE-STRUCTURED-LOCATION;VALUE=URI;X-ADDRESS=Westminister Chapel 329 19th Street North Lethbridge Alberta Lethbridge Alberta T1J-4A4 Canada;X-APPLE-RADIUS=500;X-TITLE=329 19th Street North Lethbridge\, Alberta:geo:-112.814634,49.6931758
END:VEVENT
BEGIN:VEVENT
DTSTART;TZID=America/Edmonton:20240514T190000
DTEND;TZID=America/Edmonton:20240514T220000
DTSTAMP:20260422T084610
CREATED:20230119T215238Z
LAST-MODIFIED:20230119T215238Z
UID:10002631-1715713200-1715724000@westminsterchapelpca.ca
SUMMARY:Session Meeting
DESCRIPTION:
URL:https://westminsterchapelpca.ca/event/session-meeting/2024-05-14/
LOCATION:Westminister Chapel\, 329 19th Street North Lethbridge\, Alberta\, Lethbridge\, Alberta\, T1J-4A4\, Canada
GEO:49.6931758;-112.814634
X-APPLE-STRUCTURED-LOCATION;VALUE=URI;X-ADDRESS=Westminister Chapel 329 19th Street North Lethbridge Alberta Lethbridge Alberta T1J-4A4 Canada;X-APPLE-RADIUS=500;X-TITLE=329 19th Street North Lethbridge\, Alberta:geo:-112.814634,49.6931758
END:VEVENT
BEGIN:VEVENT
DTSTART;TZID=America/Edmonton:20240512T163000
DTEND;TZID=America/Edmonton:20240512T173000
DTSTAMP:20260422T084610
CREATED:20240511T140712Z
LAST-MODIFIED:20240511T140754Z
UID:10001840-1715531400-1715535000@westminsterchapelpca.ca
SUMMARY:PM Worship
DESCRIPTION:Pastor Cameron Fraser \nPhilippians 4 \nAlways Rejoice!
URL:https://westminsterchapelpca.ca/event/pm-worship-50/
LOCATION:Westminister Chapel\, 329 19th Street North Lethbridge\, Alberta\, Lethbridge\, Alberta\, T1J-4A4\, Canada
CATEGORIES:Worship Services
GEO:49.6931758;-112.814634
X-APPLE-STRUCTURED-LOCATION;VALUE=URI;X-ADDRESS=Westminister Chapel 329 19th Street North Lethbridge Alberta Lethbridge Alberta T1J-4A4 Canada;X-APPLE-RADIUS=500;X-TITLE=329 19th Street North Lethbridge\, Alberta:geo:-112.814634,49.6931758
END:VEVENT
BEGIN:VEVENT
DTSTART;TZID=America/Edmonton:20240512T093000
DTEND;TZID=America/Edmonton:20240512T101500
DTSTAMP:20260422T084610
CREATED:20240503T213618Z
LAST-MODIFIED:20240503T213618Z
UID:10003933-1715506200-1715508900@westminsterchapelpca.ca
SUMMARY:Sunday School
DESCRIPTION:
URL:https://westminsterchapelpca.ca/event/sunday-school-3/
LOCATION:Westminister Chapel\, 329 19th Street North Lethbridge\, Alberta\, Lethbridge\, Alberta\, T1J-4A4\, Canada
GEO:49.6931758;-112.814634
X-APPLE-STRUCTURED-LOCATION;VALUE=URI;X-ADDRESS=Westminister Chapel 329 19th Street North Lethbridge Alberta Lethbridge Alberta T1J-4A4 Canada;X-APPLE-RADIUS=500;X-TITLE=329 19th Street North Lethbridge\, Alberta:geo:-112.814634,49.6931758
END:VEVENT
BEGIN:VEVENT
DTSTART;TZID=America/Edmonton:20240501T190000
DTEND;TZID=America/Edmonton:20240501T210000
DTSTAMP:20260422T084610
CREATED:20230916T164723Z
LAST-MODIFIED:20230916T164723Z
UID:10003220-1714590000-1714597200@westminsterchapelpca.ca
SUMMARY:Men's Study
DESCRIPTION:7-9pm: Men’s Study \nKnowing Christ by Mark Jones. Led by Pastor Adam.
URL:https://westminsterchapelpca.ca/event/mens-study/2024-05-01/
LOCATION:Westminister Chapel\, 329 19th Street North Lethbridge\, Alberta\, Lethbridge\, Alberta\, T1J-4A4\, Canada
GEO:49.6931758;-112.814634
X-APPLE-STRUCTURED-LOCATION;VALUE=URI;X-ADDRESS=Westminister Chapel 329 19th Street North Lethbridge Alberta Lethbridge Alberta T1J-4A4 Canada;X-APPLE-RADIUS=500;X-TITLE=329 19th Street North Lethbridge\, Alberta:geo:-112.814634,49.6931758
END:VEVENT
END:VCALENDAR