BEGIN:VCALENDAR
VERSION:2.0
PRODID:-//Westminster Chapel - ECPv6.15.13.1//NONSGML v1.0//EN
CALSCALE:GREGORIAN
METHOD:PUBLISH
X-WR-CALNAME:Westminster Chapel
X-ORIGINAL-URL:https://westminsterchapelpca.ca
X-WR-CALDESC:Events for Westminster Chapel
REFRESH-INTERVAL;VALUE=DURATION:PT1H
X-Robots-Tag:noindex
X-PUBLISHED-TTL:PT1H
BEGIN:VTIMEZONE
TZID:America/Edmonton
BEGIN:DAYLIGHT
TZOFFSETFROM:-0700
TZOFFSETTO:-0600
TZNAME:MDT
DTSTART:20230312T090000
END:DAYLIGHT
BEGIN:STANDARD
TZOFFSETFROM:-0600
TZOFFSETTO:-0700
TZNAME:MST
DTSTART:20231105T080000
END:STANDARD
BEGIN:DAYLIGHT
TZOFFSETFROM:-0700
TZOFFSETTO:-0600
TZNAME:MDT
DTSTART:20240310T090000
END:DAYLIGHT
BEGIN:STANDARD
TZOFFSETFROM:-0600
TZOFFSETTO:-0700
TZNAME:MST
DTSTART:20241103T080000
END:STANDARD
BEGIN:DAYLIGHT
TZOFFSETFROM:-0700
TZOFFSETTO:-0600
TZNAME:MDT
DTSTART:20250309T090000
END:DAYLIGHT
BEGIN:STANDARD
TZOFFSETFROM:-0600
TZOFFSETTO:-0700
TZNAME:MST
DTSTART:20251102T080000
END:STANDARD
END:VTIMEZONE
BEGIN:VEVENT
DTSTART;TZID=America/Edmonton:20240609T163000
DTEND;TZID=America/Edmonton:20240609T173000
DTSTAMP:20260422T111407
CREATED:20240607T233206Z
LAST-MODIFIED:20240607T233239Z
UID:10001844-1717950600-1717954200@westminsterchapelpca.ca
SUMMARY:PM Worship
DESCRIPTION:Pastor Cameron Fraser \n1 Corinthians 13 \nImpossible Love
URL:https://westminsterchapelpca.ca/event/pm-worship-53/
LOCATION:Westminister Chapel\, 329 19th Street North Lethbridge\, Alberta\, Lethbridge\, Alberta\, T1J-4A4\, Canada
CATEGORIES:Worship Services
GEO:49.6931758;-112.814634
X-APPLE-STRUCTURED-LOCATION;VALUE=URI;X-ADDRESS=Westminister Chapel 329 19th Street North Lethbridge Alberta Lethbridge Alberta T1J-4A4 Canada;X-APPLE-RADIUS=500;X-TITLE=329 19th Street North Lethbridge\, Alberta:geo:-112.814634,49.6931758
END:VEVENT
BEGIN:VEVENT
DTSTART;TZID=America/Edmonton:20240601T103000
DTEND;TZID=America/Edmonton:20240601T123000
DTSTAMP:20260422T111407
CREATED:20240511T141309Z
LAST-MODIFIED:20240525T144200Z
UID:10003937-1717237800-1717245000@westminsterchapelpca.ca
SUMMARY:Ladies Spring Social
DESCRIPTION:Ladies\, mark your calendars for June 1st and plan to attend the upcoming spring social. The event will take place at the Halverson’s home from 11am-1pm. Join us for a time of food\, fellowship\, fresh air\, and sunshine. \nPlease RSVP to Victoria de Groot by May 29th.
URL:https://westminsterchapelpca.ca/event/ladies-spring-social/
LOCATION:Westminister Chapel\, 329 19th Street North Lethbridge\, Alberta\, Lethbridge\, Alberta\, T1J-4A4\, Canada
CATEGORIES:Woman's Fellowship
GEO:49.6931758;-112.814634
X-APPLE-STRUCTURED-LOCATION;VALUE=URI;X-ADDRESS=Westminister Chapel 329 19th Street North Lethbridge Alberta Lethbridge Alberta T1J-4A4 Canada;X-APPLE-RADIUS=500;X-TITLE=329 19th Street North Lethbridge\, Alberta:geo:-112.814634,49.6931758
END:VEVENT
BEGIN:VEVENT
DTSTART;TZID=America/Edmonton:20240526T163000
DTEND;TZID=America/Edmonton:20240526T173000
DTSTAMP:20260422T111407
CREATED:20240525T144534Z
LAST-MODIFIED:20240525T144621Z
UID:10001842-1716741000-1716744600@westminsterchapelpca.ca
SUMMARY:PM Worship
DESCRIPTION:Pastor George Koopmans \nLuke 24:13-32 \nWe Want to See Jesus
URL:https://westminsterchapelpca.ca/event/pm-worship-52/
LOCATION:Westminister Chapel\, 329 19th Street North Lethbridge\, Alberta\, Lethbridge\, Alberta\, T1J-4A4\, Canada
CATEGORIES:Worship Services
GEO:49.6931758;-112.814634
X-APPLE-STRUCTURED-LOCATION;VALUE=URI;X-ADDRESS=Westminister Chapel 329 19th Street North Lethbridge Alberta Lethbridge Alberta T1J-4A4 Canada;X-APPLE-RADIUS=500;X-TITLE=329 19th Street North Lethbridge\, Alberta:geo:-112.814634,49.6931758
END:VEVENT
BEGIN:VEVENT
DTSTART;TZID=America/Edmonton:20240522T190000
DTEND;TZID=America/Edmonton:20240522T210000
DTSTAMP:20260422T111407
CREATED:20231202T181711Z
LAST-MODIFIED:20231202T181712Z
UID:10003261-1716404400-1716411600@westminsterchapelpca.ca
SUMMARY:Prayer Meeting
DESCRIPTION:Prayer Meeting\nWith devotion & song at the church. Led by Ron H.
URL:https://westminsterchapelpca.ca/event/prayer-meeting-7-2/2024-05-22/
LOCATION:Westminister Chapel\, 329 19th Street North Lethbridge\, Alberta\, Lethbridge\, Alberta\, T1J-4A4\, Canada
CATEGORIES:Prayer
GEO:49.6931758;-112.814634
X-APPLE-STRUCTURED-LOCATION;VALUE=URI;X-ADDRESS=Westminister Chapel 329 19th Street North Lethbridge Alberta Lethbridge Alberta T1J-4A4 Canada;X-APPLE-RADIUS=500;X-TITLE=329 19th Street North Lethbridge\, Alberta:geo:-112.814634,49.6931758
END:VEVENT
BEGIN:VEVENT
DTSTART;TZID=America/Edmonton:20240519T163000
DTEND;TZID=America/Edmonton:20240519T173000
DTSTAMP:20260422T111407
CREATED:20240516T035846Z
LAST-MODIFIED:20240516T035924Z
UID:10001841-1716136200-1716139800@westminsterchapelpca.ca
SUMMARY:PM Worship
DESCRIPTION:Pastor Adam Harris \nGenesis 26:34-27:45 \nThe Stolen Blessing
URL:https://westminsterchapelpca.ca/event/pm-worship-51/
LOCATION:Westminister Chapel\, 329 19th Street North Lethbridge\, Alberta\, Lethbridge\, Alberta\, T1J-4A4\, Canada
CATEGORIES:Worship Services
GEO:49.6931758;-112.814634
X-APPLE-STRUCTURED-LOCATION;VALUE=URI;X-ADDRESS=Westminister Chapel 329 19th Street North Lethbridge Alberta Lethbridge Alberta T1J-4A4 Canada;X-APPLE-RADIUS=500;X-TITLE=329 19th Street North Lethbridge\, Alberta:geo:-112.814634,49.6931758
END:VEVENT
BEGIN:VEVENT
DTSTART;TZID=America/Edmonton:20240515T190000
DTEND;TZID=America/Edmonton:20240515T210000
DTSTAMP:20260422T111407
CREATED:20230922T200136Z
LAST-MODIFIED:20230922T200136Z
UID:10003269-1715799600-1715806800@westminsterchapelpca.ca
SUMMARY:Youth Study
DESCRIPTION:Youth Study\nWestminster Shorter Catechism. Led by Pastor Adam.
URL:https://westminsterchapelpca.ca/event/youth-study/2024-05-15/
LOCATION:Westminister Chapel\, 329 19th Street North Lethbridge\, Alberta\, Lethbridge\, Alberta\, T1J-4A4\, Canada
CATEGORIES:Youth
GEO:49.6931758;-112.814634
X-APPLE-STRUCTURED-LOCATION;VALUE=URI;X-ADDRESS=Westminister Chapel 329 19th Street North Lethbridge Alberta Lethbridge Alberta T1J-4A4 Canada;X-APPLE-RADIUS=500;X-TITLE=329 19th Street North Lethbridge\, Alberta:geo:-112.814634,49.6931758
END:VEVENT
BEGIN:VEVENT
DTSTART;TZID=America/Edmonton:20240514T190000
DTEND;TZID=America/Edmonton:20240514T220000
DTSTAMP:20260422T111407
CREATED:20230119T215238Z
LAST-MODIFIED:20230119T215238Z
UID:10002631-1715713200-1715724000@westminsterchapelpca.ca
SUMMARY:Session Meeting
DESCRIPTION:
URL:https://westminsterchapelpca.ca/event/session-meeting/2024-05-14/
LOCATION:Westminister Chapel\, 329 19th Street North Lethbridge\, Alberta\, Lethbridge\, Alberta\, T1J-4A4\, Canada
GEO:49.6931758;-112.814634
X-APPLE-STRUCTURED-LOCATION;VALUE=URI;X-ADDRESS=Westminister Chapel 329 19th Street North Lethbridge Alberta Lethbridge Alberta T1J-4A4 Canada;X-APPLE-RADIUS=500;X-TITLE=329 19th Street North Lethbridge\, Alberta:geo:-112.814634,49.6931758
END:VEVENT
BEGIN:VEVENT
DTSTART;TZID=America/Edmonton:20240512T163000
DTEND;TZID=America/Edmonton:20240512T173000
DTSTAMP:20260422T111407
CREATED:20240511T140712Z
LAST-MODIFIED:20240511T140754Z
UID:10001840-1715531400-1715535000@westminsterchapelpca.ca
SUMMARY:PM Worship
DESCRIPTION:Pastor Cameron Fraser \nPhilippians 4 \nAlways Rejoice!
URL:https://westminsterchapelpca.ca/event/pm-worship-50/
LOCATION:Westminister Chapel\, 329 19th Street North Lethbridge\, Alberta\, Lethbridge\, Alberta\, T1J-4A4\, Canada
CATEGORIES:Worship Services
GEO:49.6931758;-112.814634
X-APPLE-STRUCTURED-LOCATION;VALUE=URI;X-ADDRESS=Westminister Chapel 329 19th Street North Lethbridge Alberta Lethbridge Alberta T1J-4A4 Canada;X-APPLE-RADIUS=500;X-TITLE=329 19th Street North Lethbridge\, Alberta:geo:-112.814634,49.6931758
END:VEVENT
BEGIN:VEVENT
DTSTART;TZID=America/Edmonton:20240512T093000
DTEND;TZID=America/Edmonton:20240512T101500
DTSTAMP:20260422T111407
CREATED:20240503T213618Z
LAST-MODIFIED:20240503T213618Z
UID:10003933-1715506200-1715508900@westminsterchapelpca.ca
SUMMARY:Sunday School
DESCRIPTION:
URL:https://westminsterchapelpca.ca/event/sunday-school-3/
LOCATION:Westminister Chapel\, 329 19th Street North Lethbridge\, Alberta\, Lethbridge\, Alberta\, T1J-4A4\, Canada
GEO:49.6931758;-112.814634
X-APPLE-STRUCTURED-LOCATION;VALUE=URI;X-ADDRESS=Westminister Chapel 329 19th Street North Lethbridge Alberta Lethbridge Alberta T1J-4A4 Canada;X-APPLE-RADIUS=500;X-TITLE=329 19th Street North Lethbridge\, Alberta:geo:-112.814634,49.6931758
END:VEVENT
BEGIN:VEVENT
DTSTART;TZID=America/Edmonton:20240501T190000
DTEND;TZID=America/Edmonton:20240501T210000
DTSTAMP:20260422T111407
CREATED:20230916T164723Z
LAST-MODIFIED:20230916T164723Z
UID:10003220-1714590000-1714597200@westminsterchapelpca.ca
SUMMARY:Men's Study
DESCRIPTION:7-9pm: Men’s Study \nKnowing Christ by Mark Jones. Led by Pastor Adam.
URL:https://westminsterchapelpca.ca/event/mens-study/2024-05-01/
LOCATION:Westminister Chapel\, 329 19th Street North Lethbridge\, Alberta\, Lethbridge\, Alberta\, T1J-4A4\, Canada
GEO:49.6931758;-112.814634
X-APPLE-STRUCTURED-LOCATION;VALUE=URI;X-ADDRESS=Westminister Chapel 329 19th Street North Lethbridge Alberta Lethbridge Alberta T1J-4A4 Canada;X-APPLE-RADIUS=500;X-TITLE=329 19th Street North Lethbridge\, Alberta:geo:-112.814634,49.6931758
END:VEVENT
BEGIN:VEVENT
DTSTART;TZID=America/Edmonton:20240501T094500
DTEND;TZID=America/Edmonton:20240501T114500
DTSTAMP:20260422T111407
CREATED:20240503T214001Z
LAST-MODIFIED:20240503T214002Z
UID:10003347-1714556700-1714563900@westminsterchapelpca.ca
SUMMARY:Women's Morning Study
DESCRIPTION:Women’s Morning Study – at Westminster. Studying Colossians.  Coffee at 9:45am\, study from 10-11:45. Childcare available. For more info\, contact Marian.
URL:https://westminsterchapelpca.ca/event/womens-morning-study-2/2024-05-01/
LOCATION:Westminister Chapel\, 329 19th Street North Lethbridge\, Alberta\, Lethbridge\, Alberta\, T1J-4A4\, Canada
CATEGORIES:Bible Study,Women
GEO:49.6931758;-112.814634
X-APPLE-STRUCTURED-LOCATION;VALUE=URI;X-ADDRESS=Westminister Chapel 329 19th Street North Lethbridge Alberta Lethbridge Alberta T1J-4A4 Canada;X-APPLE-RADIUS=500;X-TITLE=329 19th Street North Lethbridge\, Alberta:geo:-112.814634,49.6931758
END:VEVENT
BEGIN:VEVENT
DTSTART;TZID=America/Edmonton:20240428T163000
DTEND;TZID=America/Edmonton:20240428T173000
DTSTAMP:20260422T111407
CREATED:20240426T023448Z
LAST-MODIFIED:20240426T023609Z
UID:10001838-1714321800-1714325400@westminsterchapelpca.ca
SUMMARY:PM Worship
DESCRIPTION:Pastor Adam Harris \nGenesis 26:1-33 \nLike Father\, Like Son
URL:https://westminsterchapelpca.ca/event/pm-worship-49/
LOCATION:Westminister Chapel\, 329 19th Street North Lethbridge\, Alberta\, Lethbridge\, Alberta\, T1J-4A4\, Canada
CATEGORIES:Worship Services
GEO:49.6931758;-112.814634
X-APPLE-STRUCTURED-LOCATION;VALUE=URI;X-ADDRESS=Westminister Chapel 329 19th Street North Lethbridge Alberta Lethbridge Alberta T1J-4A4 Canada;X-APPLE-RADIUS=500;X-TITLE=329 19th Street North Lethbridge\, Alberta:geo:-112.814634,49.6931758
END:VEVENT
BEGIN:VEVENT
DTSTART;TZID=America/Edmonton:20240428T093000
DTEND;TZID=America/Edmonton:20240428T101500
DTSTAMP:20260422T111407
CREATED:20240413T153107Z
LAST-MODIFIED:20240503T213514Z
UID:10003663-1714296600-1714299300@westminsterchapelpca.ca
SUMMARY:Sunday School
DESCRIPTION:Sunday classes are offered for Children from Kindergarten ages and up\, and for Adults.
URL:https://westminsterchapelpca.ca/event/sunday-school/2024-04-28/
LOCATION:Westminister Chapel\, 329 19th Street North Lethbridge\, Alberta\, Lethbridge\, Alberta\, T1J-4A4\, Canada
GEO:49.6931758;-112.814634
X-APPLE-STRUCTURED-LOCATION;VALUE=URI;X-ADDRESS=Westminister Chapel 329 19th Street North Lethbridge Alberta Lethbridge Alberta T1J-4A4 Canada;X-APPLE-RADIUS=500;X-TITLE=329 19th Street North Lethbridge\, Alberta:geo:-112.814634,49.6931758
END:VEVENT
BEGIN:VEVENT
DTSTART;TZID=America/Edmonton:20240424T190000
DTEND;TZID=America/Edmonton:20240424T210000
DTSTAMP:20260422T111407
CREATED:20231202T181711Z
LAST-MODIFIED:20231202T181712Z
UID:10003260-1713985200-1713992400@westminsterchapelpca.ca
SUMMARY:Prayer Meeting
DESCRIPTION:Prayer Meeting\nWith devotion & song at the church. Led by Ron H.
URL:https://westminsterchapelpca.ca/event/prayer-meeting-7-2/2024-04-24/
LOCATION:Westminister Chapel\, 329 19th Street North Lethbridge\, Alberta\, Lethbridge\, Alberta\, T1J-4A4\, Canada
CATEGORIES:Prayer
GEO:49.6931758;-112.814634
X-APPLE-STRUCTURED-LOCATION;VALUE=URI;X-ADDRESS=Westminister Chapel 329 19th Street North Lethbridge Alberta Lethbridge Alberta T1J-4A4 Canada;X-APPLE-RADIUS=500;X-TITLE=329 19th Street North Lethbridge\, Alberta:geo:-112.814634,49.6931758
END:VEVENT
BEGIN:VEVENT
DTSTART;TZID=America/Edmonton:20240424T094500
DTEND;TZID=America/Edmonton:20240424T114500
DTSTAMP:20260422T111407
CREATED:20240216T022659Z
LAST-MODIFIED:20240216T022659Z
UID:10003346-1713951900-1713959100@westminsterchapelpca.ca
SUMMARY:Women's Morning Study
DESCRIPTION:Women’s Morning Study – at Westminster. Studying Colossians.  Coffee at 9:45am\, study from 10-11:45. Childcare available. For more info\, contact Marian.
URL:https://westminsterchapelpca.ca/event/womens-morning-study/2024-04-24/
LOCATION:Westminister Chapel\, 329 19th Street North Lethbridge\, Alberta\, Lethbridge\, Alberta\, T1J-4A4\, Canada
CATEGORIES:Bible Study,Women
GEO:49.6931758;-112.814634
X-APPLE-STRUCTURED-LOCATION;VALUE=URI;X-ADDRESS=Westminister Chapel 329 19th Street North Lethbridge Alberta Lethbridge Alberta T1J-4A4 Canada;X-APPLE-RADIUS=500;X-TITLE=329 19th Street North Lethbridge\, Alberta:geo:-112.814634,49.6931758
END:VEVENT
BEGIN:VEVENT
DTSTART;TZID=America/Edmonton:20240421T163000
DTEND;TZID=America/Edmonton:20240421T173000
DTSTAMP:20260422T111407
CREATED:20240413T153818Z
LAST-MODIFIED:20240419T022932Z
UID:10001837-1713717000-1713720600@westminsterchapelpca.ca
SUMMARY:PM Worship
DESCRIPTION:Pastor Adam Harris \nGenesis 25:19-34 \nElection Unfurled
URL:https://westminsterchapelpca.ca/event/pm-worship-47/
LOCATION:Westminister Chapel\, 329 19th Street North Lethbridge\, Alberta\, Lethbridge\, Alberta\, T1J-4A4\, Canada
CATEGORIES:Worship Services
GEO:49.6931758;-112.814634
X-APPLE-STRUCTURED-LOCATION;VALUE=URI;X-ADDRESS=Westminister Chapel 329 19th Street North Lethbridge Alberta Lethbridge Alberta T1J-4A4 Canada;X-APPLE-RADIUS=500;X-TITLE=329 19th Street North Lethbridge\, Alberta:geo:-112.814634,49.6931758
END:VEVENT
BEGIN:VEVENT
DTSTART;TZID=America/Edmonton:20240421T093000
DTEND;TZID=America/Edmonton:20240421T101500
DTSTAMP:20260422T111407
CREATED:20240413T153107Z
LAST-MODIFIED:20240503T213514Z
UID:10003662-1713691800-1713694500@westminsterchapelpca.ca
SUMMARY:Sunday School
DESCRIPTION:Sunday classes are offered for Children from Kindergarten ages and up\, and for Adults.
URL:https://westminsterchapelpca.ca/event/sunday-school/2024-04-21/
LOCATION:Westminister Chapel\, 329 19th Street North Lethbridge\, Alberta\, Lethbridge\, Alberta\, T1J-4A4\, Canada
GEO:49.6931758;-112.814634
X-APPLE-STRUCTURED-LOCATION;VALUE=URI;X-ADDRESS=Westminister Chapel 329 19th Street North Lethbridge Alberta Lethbridge Alberta T1J-4A4 Canada;X-APPLE-RADIUS=500;X-TITLE=329 19th Street North Lethbridge\, Alberta:geo:-112.814634,49.6931758
END:VEVENT
BEGIN:VEVENT
DTSTART;TZID=America/Edmonton:20240417T190000
DTEND;TZID=America/Edmonton:20240417T210000
DTSTAMP:20260422T111407
CREATED:20230922T200136Z
LAST-MODIFIED:20230922T200136Z
UID:10003268-1713380400-1713387600@westminsterchapelpca.ca
SUMMARY:Youth Study
DESCRIPTION:Youth Study\nWestminster Shorter Catechism. Led by Pastor Adam.
URL:https://westminsterchapelpca.ca/event/youth-study/2024-04-17/
LOCATION:Westminister Chapel\, 329 19th Street North Lethbridge\, Alberta\, Lethbridge\, Alberta\, T1J-4A4\, Canada
CATEGORIES:Youth
GEO:49.6931758;-112.814634
X-APPLE-STRUCTURED-LOCATION;VALUE=URI;X-ADDRESS=Westminister Chapel 329 19th Street North Lethbridge Alberta Lethbridge Alberta T1J-4A4 Canada;X-APPLE-RADIUS=500;X-TITLE=329 19th Street North Lethbridge\, Alberta:geo:-112.814634,49.6931758
END:VEVENT
BEGIN:VEVENT
DTSTART;TZID=America/Edmonton:20240417T094500
DTEND;TZID=America/Edmonton:20240417T114500
DTSTAMP:20260422T111407
CREATED:20240216T022659Z
LAST-MODIFIED:20240216T022659Z
UID:10003345-1713347100-1713354300@westminsterchapelpca.ca
SUMMARY:Women's Morning Study
DESCRIPTION:Women’s Morning Study – at Westminster. Studying Colossians.  Coffee at 9:45am\, study from 10-11:45. Childcare available. For more info\, contact Marian.
URL:https://westminsterchapelpca.ca/event/womens-morning-study/2024-04-17/
LOCATION:Westminister Chapel\, 329 19th Street North Lethbridge\, Alberta\, Lethbridge\, Alberta\, T1J-4A4\, Canada
CATEGORIES:Bible Study,Women
GEO:49.6931758;-112.814634
X-APPLE-STRUCTURED-LOCATION;VALUE=URI;X-ADDRESS=Westminister Chapel 329 19th Street North Lethbridge Alberta Lethbridge Alberta T1J-4A4 Canada;X-APPLE-RADIUS=500;X-TITLE=329 19th Street North Lethbridge\, Alberta:geo:-112.814634,49.6931758
END:VEVENT
BEGIN:VEVENT
DTSTART;TZID=America/Edmonton:20240414T163000
DTEND;TZID=America/Edmonton:20240414T173000
DTSTAMP:20260422T111408
CREATED:20240413T153843Z
LAST-MODIFIED:20240413T153917Z
UID:10001836-1713112200-1713115800@westminsterchapelpca.ca
SUMMARY:PM Worship
DESCRIPTION:Pastor Tom Albaugh \nJohn 20:1-18 \nThe Mercy Gospel
URL:https://westminsterchapelpca.ca/event/pm-worship-48/
LOCATION:Westminister Chapel\, 329 19th Street North Lethbridge\, Alberta\, Lethbridge\, Alberta\, T1J-4A4\, Canada
CATEGORIES:Worship Services
GEO:49.6931758;-112.814634
X-APPLE-STRUCTURED-LOCATION;VALUE=URI;X-ADDRESS=Westminister Chapel 329 19th Street North Lethbridge Alberta Lethbridge Alberta T1J-4A4 Canada;X-APPLE-RADIUS=500;X-TITLE=329 19th Street North Lethbridge\, Alberta:geo:-112.814634,49.6931758
END:VEVENT
BEGIN:VEVENT
DTSTART;TZID=America/Edmonton:20240414T093000
DTEND;TZID=America/Edmonton:20240414T101500
DTSTAMP:20260422T111408
CREATED:20240413T153107Z
LAST-MODIFIED:20240503T213514Z
UID:10003661-1713087000-1713089700@westminsterchapelpca.ca
SUMMARY:Sunday School
DESCRIPTION:Sunday classes are offered for Children from Kindergarten ages and up\, and for Adults.
URL:https://westminsterchapelpca.ca/event/sunday-school/2024-04-14/
LOCATION:Westminister Chapel\, 329 19th Street North Lethbridge\, Alberta\, Lethbridge\, Alberta\, T1J-4A4\, Canada
GEO:49.6931758;-112.814634
X-APPLE-STRUCTURED-LOCATION;VALUE=URI;X-ADDRESS=Westminister Chapel 329 19th Street North Lethbridge Alberta Lethbridge Alberta T1J-4A4 Canada;X-APPLE-RADIUS=500;X-TITLE=329 19th Street North Lethbridge\, Alberta:geo:-112.814634,49.6931758
END:VEVENT
BEGIN:VEVENT
DTSTART;TZID=America/Edmonton:20240410T094500
DTEND;TZID=America/Edmonton:20240410T114500
DTSTAMP:20260422T111408
CREATED:20240216T022659Z
LAST-MODIFIED:20240216T022659Z
UID:10003344-1712742300-1712749500@westminsterchapelpca.ca
SUMMARY:Women's Morning Study
DESCRIPTION:Women’s Morning Study – at Westminster. Studying Colossians.  Coffee at 9:45am\, study from 10-11:45. Childcare available. For more info\, contact Marian.
URL:https://westminsterchapelpca.ca/event/womens-morning-study/2024-04-10/
LOCATION:Westminister Chapel\, 329 19th Street North Lethbridge\, Alberta\, Lethbridge\, Alberta\, T1J-4A4\, Canada
CATEGORIES:Bible Study,Women
GEO:49.6931758;-112.814634
X-APPLE-STRUCTURED-LOCATION;VALUE=URI;X-ADDRESS=Westminister Chapel 329 19th Street North Lethbridge Alberta Lethbridge Alberta T1J-4A4 Canada;X-APPLE-RADIUS=500;X-TITLE=329 19th Street North Lethbridge\, Alberta:geo:-112.814634,49.6931758
END:VEVENT
BEGIN:VEVENT
DTSTART;TZID=America/Edmonton:20240409T190000
DTEND;TZID=America/Edmonton:20240409T220000
DTSTAMP:20260422T111408
CREATED:20230119T215238Z
LAST-MODIFIED:20230119T215238Z
UID:10002630-1712689200-1712700000@westminsterchapelpca.ca
SUMMARY:Session Meeting
DESCRIPTION:
URL:https://westminsterchapelpca.ca/event/session-meeting/2024-04-09/
LOCATION:Westminister Chapel\, 329 19th Street North Lethbridge\, Alberta\, Lethbridge\, Alberta\, T1J-4A4\, Canada
GEO:49.6931758;-112.814634
X-APPLE-STRUCTURED-LOCATION;VALUE=URI;X-ADDRESS=Westminister Chapel 329 19th Street North Lethbridge Alberta Lethbridge Alberta T1J-4A4 Canada;X-APPLE-RADIUS=500;X-TITLE=329 19th Street North Lethbridge\, Alberta:geo:-112.814634,49.6931758
END:VEVENT
BEGIN:VEVENT
DTSTART;TZID=America/Edmonton:20240406T093000
DTEND;TZID=America/Edmonton:20240406T150000
DTSTAMP:20260422T111408
CREATED:20240323T174428Z
LAST-MODIFIED:20240323T174428Z
UID:10003655-1712395800-1712415600@westminsterchapelpca.ca
SUMMARY:Quilting
DESCRIPTION:The next quilt day will be held Saturday April 6\, 9:30-3:00. This will be a ‘no sew’ quilt day. Instead\, we will be cutting fabric and snipping seams on the completed quilts. All are welcome to join. If those attending have rotary cutters and mats\, please take them along. A delicious lunch will be provided. Please RSVP to Martha if you plan to attend.
URL:https://westminsterchapelpca.ca/event/quilting-4/
LOCATION:Westminister Chapel\, 329 19th Street North Lethbridge\, Alberta\, Lethbridge\, Alberta\, T1J-4A4\, Canada
CATEGORIES:Fellowship,Woman's Fellowship
GEO:49.6931758;-112.814634
X-APPLE-STRUCTURED-LOCATION;VALUE=URI;X-ADDRESS=Westminister Chapel 329 19th Street North Lethbridge Alberta Lethbridge Alberta T1J-4A4 Canada;X-APPLE-RADIUS=500;X-TITLE=329 19th Street North Lethbridge\, Alberta:geo:-112.814634,49.6931758
END:VEVENT
BEGIN:VEVENT
DTSTART;TZID=America/Edmonton:20240403T190000
DTEND;TZID=America/Edmonton:20240403T210000
DTSTAMP:20260422T111408
CREATED:20230916T164723Z
LAST-MODIFIED:20230916T164723Z
UID:10003219-1712170800-1712178000@westminsterchapelpca.ca
SUMMARY:Men's Study
DESCRIPTION:7-9pm: Men’s Study \nKnowing Christ by Mark Jones. Led by Pastor Adam.
URL:https://westminsterchapelpca.ca/event/mens-study/2024-04-03/
LOCATION:Westminister Chapel\, 329 19th Street North Lethbridge\, Alberta\, Lethbridge\, Alberta\, T1J-4A4\, Canada
GEO:49.6931758;-112.814634
X-APPLE-STRUCTURED-LOCATION;VALUE=URI;X-ADDRESS=Westminister Chapel 329 19th Street North Lethbridge Alberta Lethbridge Alberta T1J-4A4 Canada;X-APPLE-RADIUS=500;X-TITLE=329 19th Street North Lethbridge\, Alberta:geo:-112.814634,49.6931758
END:VEVENT
BEGIN:VEVENT
DTSTART;TZID=America/Edmonton:20240403T094500
DTEND;TZID=America/Edmonton:20240403T114500
DTSTAMP:20260422T111408
CREATED:20240216T022659Z
LAST-MODIFIED:20240216T022659Z
UID:10003343-1712137500-1712144700@westminsterchapelpca.ca
SUMMARY:Women's Morning Study
DESCRIPTION:Women’s Morning Study – at Westminster. Studying Colossians.  Coffee at 9:45am\, study from 10-11:45. Childcare available. For more info\, contact Marian.
URL:https://westminsterchapelpca.ca/event/womens-morning-study/2024-04-03/
LOCATION:Westminister Chapel\, 329 19th Street North Lethbridge\, Alberta\, Lethbridge\, Alberta\, T1J-4A4\, Canada
CATEGORIES:Bible Study,Women
GEO:49.6931758;-112.814634
X-APPLE-STRUCTURED-LOCATION;VALUE=URI;X-ADDRESS=Westminister Chapel 329 19th Street North Lethbridge Alberta Lethbridge Alberta T1J-4A4 Canada;X-APPLE-RADIUS=500;X-TITLE=329 19th Street North Lethbridge\, Alberta:geo:-112.814634,49.6931758
END:VEVENT
BEGIN:VEVENT
DTSTART;TZID=America/Edmonton:20240331T163000
DTEND;TZID=America/Edmonton:20240331T173000
DTSTAMP:20260422T111408
CREATED:20240330T171325Z
LAST-MODIFIED:20240330T171350Z
UID:10001834-1711902600-1711906200@westminsterchapelpca.ca
SUMMARY:PM Worship
DESCRIPTION:Pastor Adam Harris \nGen 25:1-18 \nPerfect Track Record
URL:https://westminsterchapelpca.ca/event/pm-worship-46/
LOCATION:Westminister Chapel\, 329 19th Street North Lethbridge\, Alberta\, Lethbridge\, Alberta\, T1J-4A4\, Canada
CATEGORIES:Worship Services
GEO:49.6931758;-112.814634
X-APPLE-STRUCTURED-LOCATION;VALUE=URI;X-ADDRESS=Westminister Chapel 329 19th Street North Lethbridge Alberta Lethbridge Alberta T1J-4A4 Canada;X-APPLE-RADIUS=500;X-TITLE=329 19th Street North Lethbridge\, Alberta:geo:-112.814634,49.6931758
END:VEVENT
BEGIN:VEVENT
DTSTART;TZID=America/Edmonton:20240327T190000
DTEND;TZID=America/Edmonton:20240327T210000
DTSTAMP:20260422T111408
CREATED:20231202T181711Z
LAST-MODIFIED:20231202T181712Z
UID:10003259-1711566000-1711573200@westminsterchapelpca.ca
SUMMARY:Prayer Meeting
DESCRIPTION:Prayer Meeting\nWith devotion & song at the church. Led by Ron H.
URL:https://westminsterchapelpca.ca/event/prayer-meeting-7-2/2024-03-27/
LOCATION:Westminister Chapel\, 329 19th Street North Lethbridge\, Alberta\, Lethbridge\, Alberta\, T1J-4A4\, Canada
CATEGORIES:Prayer
GEO:49.6931758;-112.814634
X-APPLE-STRUCTURED-LOCATION;VALUE=URI;X-ADDRESS=Westminister Chapel 329 19th Street North Lethbridge Alberta Lethbridge Alberta T1J-4A4 Canada;X-APPLE-RADIUS=500;X-TITLE=329 19th Street North Lethbridge\, Alberta:geo:-112.814634,49.6931758
END:VEVENT
BEGIN:VEVENT
DTSTART;TZID=America/Edmonton:20240327T094500
DTEND;TZID=America/Edmonton:20240327T114500
DTSTAMP:20260422T111408
CREATED:20240216T022659Z
LAST-MODIFIED:20240216T022659Z
UID:10003342-1711532700-1711539900@westminsterchapelpca.ca
SUMMARY:Women's Morning Study
DESCRIPTION:Women’s Morning Study – at Westminster. Studying Colossians.  Coffee at 9:45am\, study from 10-11:45. Childcare available. For more info\, contact Marian.
URL:https://westminsterchapelpca.ca/event/womens-morning-study/2024-03-27/
LOCATION:Westminister Chapel\, 329 19th Street North Lethbridge\, Alberta\, Lethbridge\, Alberta\, T1J-4A4\, Canada
CATEGORIES:Bible Study,Women
GEO:49.6931758;-112.814634
X-APPLE-STRUCTURED-LOCATION;VALUE=URI;X-ADDRESS=Westminister Chapel 329 19th Street North Lethbridge Alberta Lethbridge Alberta T1J-4A4 Canada;X-APPLE-RADIUS=500;X-TITLE=329 19th Street North Lethbridge\, Alberta:geo:-112.814634,49.6931758
END:VEVENT
BEGIN:VEVENT
DTSTART;TZID=America/Edmonton:20240324T163000
DTEND;TZID=America/Edmonton:20240324T173000
DTSTAMP:20260422T111408
CREATED:20240323T175120Z
LAST-MODIFIED:20240323T175154Z
UID:10001833-1711297800-1711301400@westminsterchapelpca.ca
SUMMARY:PM Worship
DESCRIPTION:Pastor Adam Harris \nGen 24:1-67 \nHow (Not) to Find a Wife
URL:https://westminsterchapelpca.ca/event/pm-worship-45/
LOCATION:Westminister Chapel\, 329 19th Street North Lethbridge\, Alberta\, Lethbridge\, Alberta\, T1J-4A4\, Canada
CATEGORIES:Worship Services
GEO:49.6931758;-112.814634
X-APPLE-STRUCTURED-LOCATION;VALUE=URI;X-ADDRESS=Westminister Chapel 329 19th Street North Lethbridge Alberta Lethbridge Alberta T1J-4A4 Canada;X-APPLE-RADIUS=500;X-TITLE=329 19th Street North Lethbridge\, Alberta:geo:-112.814634,49.6931758
END:VEVENT
END:VCALENDAR