BEGIN:VCALENDAR
VERSION:2.0
PRODID:-//Westminster Chapel - ECPv6.15.13.1//NONSGML v1.0//EN
CALSCALE:GREGORIAN
METHOD:PUBLISH
X-ORIGINAL-URL:https://westminsterchapelpca.ca
X-WR-CALDESC:Events for Westminster Chapel
REFRESH-INTERVAL;VALUE=DURATION:PT1H
X-Robots-Tag:noindex
X-PUBLISHED-TTL:PT1H
BEGIN:VTIMEZONE
TZID:America/Edmonton
BEGIN:DAYLIGHT
TZOFFSETFROM:-0700
TZOFFSETTO:-0600
TZNAME:MDT
DTSTART:20220313T090000
END:DAYLIGHT
BEGIN:STANDARD
TZOFFSETFROM:-0600
TZOFFSETTO:-0700
TZNAME:MST
DTSTART:20221106T080000
END:STANDARD
BEGIN:DAYLIGHT
TZOFFSETFROM:-0700
TZOFFSETTO:-0600
TZNAME:MDT
DTSTART:20230312T090000
END:DAYLIGHT
BEGIN:STANDARD
TZOFFSETFROM:-0600
TZOFFSETTO:-0700
TZNAME:MST
DTSTART:20231105T080000
END:STANDARD
BEGIN:DAYLIGHT
TZOFFSETFROM:-0700
TZOFFSETTO:-0600
TZNAME:MDT
DTSTART:20240310T090000
END:DAYLIGHT
BEGIN:STANDARD
TZOFFSETFROM:-0600
TZOFFSETTO:-0700
TZNAME:MST
DTSTART:20241103T080000
END:STANDARD
BEGIN:DAYLIGHT
TZOFFSETFROM:-0700
TZOFFSETTO:-0600
TZNAME:MDT
DTSTART:20250309T090000
END:DAYLIGHT
BEGIN:STANDARD
TZOFFSETFROM:-0600
TZOFFSETTO:-0700
TZNAME:MST
DTSTART:20251102T080000
END:STANDARD
END:VTIMEZONE
BEGIN:VEVENT
DTSTART;TZID=America/Edmonton:20240302T093000
DTEND;TZID=America/Edmonton:20240302T150000
DTSTAMP:20260422T163856
CREATED:20240224T165322Z
LAST-MODIFIED:20240224T165322Z
UID:10003644-1709371800-1709391600@westminsterchapelpca.ca
SUMMARY:Quilting Day
DESCRIPTION:Quilting Day – The next quilting day at the church will be March 2\, 9:30-3:00. We will be continuing the quilts for our refugee family. Even if you’ve never quilted before or if you just want to come see how it’s done\, you are welcome to join us. Lunch details will be forwarded as they become available.
URL:https://westminsterchapelpca.ca/event/quilting-day-2/
LOCATION:Westminister Chapel\, 329 19th Street North Lethbridge\, Alberta\, Lethbridge\, Alberta\, T1J-4A4\, Canada
CATEGORIES:Woman's Fellowship
GEO:49.6931758;-112.814634
X-APPLE-STRUCTURED-LOCATION;VALUE=URI;X-ADDRESS=Westminister Chapel 329 19th Street North Lethbridge Alberta Lethbridge Alberta T1J-4A4 Canada;X-APPLE-RADIUS=500;X-TITLE=329 19th Street North Lethbridge\, Alberta:geo:-112.814634,49.6931758
END:VEVENT
BEGIN:VEVENT
DTSTART;TZID=America/Edmonton:20240229T070000
DTEND;TZID=America/Edmonton:20240229T213000
DTSTAMP:20260422T163856
CREATED:20240203T022226Z
LAST-MODIFIED:20240203T022226Z
UID:10003328-1709190000-1709242200@westminsterchapelpca.ca
SUMMARY:Women's Night Out
DESCRIPTION:Inviting all women 15+\, to a night out with pizza\, popcorn and pj’s (comfy attire) on Thursday February 29 @7pm at the church\, to watch ‘Mom’s Night Out’. Please RSVP by Wed. Feb. 28 to Bernita (403-382-1893).
URL:https://westminsterchapelpca.ca/event/womens-night-out/
LOCATION:Westminister Chapel\, 329 19th Street North Lethbridge\, Alberta\, Lethbridge\, Alberta\, T1J-4A4\, Canada
GEO:49.6931758;-112.814634
X-APPLE-STRUCTURED-LOCATION;VALUE=URI;X-ADDRESS=Westminister Chapel 329 19th Street North Lethbridge Alberta Lethbridge Alberta T1J-4A4 Canada;X-APPLE-RADIUS=500;X-TITLE=329 19th Street North Lethbridge\, Alberta:geo:-112.814634,49.6931758
END:VEVENT
BEGIN:VEVENT
DTSTART;TZID=America/Edmonton:20240228T190000
DTEND;TZID=America/Edmonton:20240228T210000
DTSTAMP:20260422T163856
CREATED:20231202T181711Z
LAST-MODIFIED:20231202T181712Z
UID:10003258-1709146800-1709154000@westminsterchapelpca.ca
SUMMARY:Prayer Meeting
DESCRIPTION:Prayer Meeting\nWith devotion & song at the church. Led by Ron H.
URL:https://westminsterchapelpca.ca/event/prayer-meeting-7-2/2024-02-28/
LOCATION:Westminister Chapel\, 329 19th Street North Lethbridge\, Alberta\, Lethbridge\, Alberta\, T1J-4A4\, Canada
CATEGORIES:Prayer
GEO:49.6931758;-112.814634
X-APPLE-STRUCTURED-LOCATION;VALUE=URI;X-ADDRESS=Westminister Chapel 329 19th Street North Lethbridge Alberta Lethbridge Alberta T1J-4A4 Canada;X-APPLE-RADIUS=500;X-TITLE=329 19th Street North Lethbridge\, Alberta:geo:-112.814634,49.6931758
END:VEVENT
BEGIN:VEVENT
DTSTART;TZID=America/Edmonton:20240228T094500
DTEND;TZID=America/Edmonton:20240228T114500
DTSTAMP:20260422T163856
CREATED:20240216T022659Z
LAST-MODIFIED:20240216T022659Z
UID:10003338-1709113500-1709120700@westminsterchapelpca.ca
SUMMARY:Women's Morning Study
DESCRIPTION:Women’s Morning Study – at Westminster. Studying Colossians.  Coffee at 9:45am\, study from 10-11:45. Childcare available. For more info\, contact Marian.
URL:https://westminsterchapelpca.ca/event/womens-morning-study/2024-02-28/
LOCATION:Westminister Chapel\, 329 19th Street North Lethbridge\, Alberta\, Lethbridge\, Alberta\, T1J-4A4\, Canada
CATEGORIES:Bible Study,Women
GEO:49.6931758;-112.814634
X-APPLE-STRUCTURED-LOCATION;VALUE=URI;X-ADDRESS=Westminister Chapel 329 19th Street North Lethbridge Alberta Lethbridge Alberta T1J-4A4 Canada;X-APPLE-RADIUS=500;X-TITLE=329 19th Street North Lethbridge\, Alberta:geo:-112.814634,49.6931758
END:VEVENT
BEGIN:VEVENT
DTSTART;TZID=America/Edmonton:20240225T163000
DTEND;TZID=America/Edmonton:20240225T173000
DTSTAMP:20260422T163856
CREATED:20240224T184653Z
LAST-MODIFIED:20240224T184721Z
UID:10001829-1708878600-1708882200@westminsterchapelpca.ca
SUMMARY:PM Worship
DESCRIPTION:Pastor Adam Harris \nGenesis 22:1-19 \nThe Test
URL:https://westminsterchapelpca.ca/event/pm-worship-42/
LOCATION:Westminister Chapel\, 329 19th Street North Lethbridge\, Alberta\, Lethbridge\, Alberta\, T1J-4A4\, Canada
CATEGORIES:Worship Services
GEO:49.6931758;-112.814634
X-APPLE-STRUCTURED-LOCATION;VALUE=URI;X-ADDRESS=Westminister Chapel 329 19th Street North Lethbridge Alberta Lethbridge Alberta T1J-4A4 Canada;X-APPLE-RADIUS=500;X-TITLE=329 19th Street North Lethbridge\, Alberta:geo:-112.814634,49.6931758
END:VEVENT
BEGIN:VEVENT
DTSTART;TZID=America/Edmonton:20240221T190000
DTEND;TZID=America/Edmonton:20240221T210000
DTSTAMP:20260422T163856
CREATED:20230922T200136Z
LAST-MODIFIED:20230922T200136Z
UID:10003266-1708542000-1708549200@westminsterchapelpca.ca
SUMMARY:Youth Study
DESCRIPTION:Youth Study\nWestminster Shorter Catechism. Led by Pastor Adam.
URL:https://westminsterchapelpca.ca/event/youth-study/2024-02-21/
LOCATION:Westminister Chapel\, 329 19th Street North Lethbridge\, Alberta\, Lethbridge\, Alberta\, T1J-4A4\, Canada
CATEGORIES:Youth
GEO:49.6931758;-112.814634
X-APPLE-STRUCTURED-LOCATION;VALUE=URI;X-ADDRESS=Westminister Chapel 329 19th Street North Lethbridge Alberta Lethbridge Alberta T1J-4A4 Canada;X-APPLE-RADIUS=500;X-TITLE=329 19th Street North Lethbridge\, Alberta:geo:-112.814634,49.6931758
END:VEVENT
BEGIN:VEVENT
DTSTART;TZID=America/Edmonton:20240218T163000
DTEND;TZID=America/Edmonton:20240218T173000
DTSTAMP:20260422T163856
CREATED:20240216T021334Z
LAST-MODIFIED:20240216T021427Z
UID:10001828-1708273800-1708277400@westminsterchapelpca.ca
SUMMARY:PM Worship
DESCRIPTION:Pastor Adam Harris \nGenesis 21:22-34 \nTruces\, Treaties\, and Tamarisks
URL:https://westminsterchapelpca.ca/event/pm-worship-41/
LOCATION:Westminister Chapel\, 329 19th Street North Lethbridge\, Alberta\, Lethbridge\, Alberta\, T1J-4A4\, Canada
CATEGORIES:Worship Services
GEO:49.6931758;-112.814634
X-APPLE-STRUCTURED-LOCATION;VALUE=URI;X-ADDRESS=Westminister Chapel 329 19th Street North Lethbridge Alberta Lethbridge Alberta T1J-4A4 Canada;X-APPLE-RADIUS=500;X-TITLE=329 19th Street North Lethbridge\, Alberta:geo:-112.814634,49.6931758
END:VEVENT
BEGIN:VEVENT
DTSTART;TZID=America/Edmonton:20240214T094500
DTEND;TZID=America/Edmonton:20240214T114500
DTSTAMP:20260422T163856
CREATED:20240216T022659Z
LAST-MODIFIED:20240216T022659Z
UID:10003337-1707903900-1707911100@westminsterchapelpca.ca
SUMMARY:Women's Morning Study
DESCRIPTION:Women’s Morning Study – at Westminster. Studying Colossians.  Coffee at 9:45am\, study from 10-11:45. Childcare available. For more info\, contact Marian.
URL:https://westminsterchapelpca.ca/event/womens-morning-study/2024-02-14/
LOCATION:Westminister Chapel\, 329 19th Street North Lethbridge\, Alberta\, Lethbridge\, Alberta\, T1J-4A4\, Canada
CATEGORIES:Bible Study,Women
GEO:49.6931758;-112.814634
X-APPLE-STRUCTURED-LOCATION;VALUE=URI;X-ADDRESS=Westminister Chapel 329 19th Street North Lethbridge Alberta Lethbridge Alberta T1J-4A4 Canada;X-APPLE-RADIUS=500;X-TITLE=329 19th Street North Lethbridge\, Alberta:geo:-112.814634,49.6931758
END:VEVENT
BEGIN:VEVENT
DTSTART;TZID=America/Edmonton:20240213T190000
DTEND;TZID=America/Edmonton:20240213T220000
DTSTAMP:20260422T163856
CREATED:20230119T215238Z
LAST-MODIFIED:20230119T215238Z
UID:10002628-1707850800-1707861600@westminsterchapelpca.ca
SUMMARY:Session Meeting
DESCRIPTION:
URL:https://westminsterchapelpca.ca/event/session-meeting/2024-02-13/
LOCATION:Westminister Chapel\, 329 19th Street North Lethbridge\, Alberta\, Lethbridge\, Alberta\, T1J-4A4\, Canada
GEO:49.6931758;-112.814634
X-APPLE-STRUCTURED-LOCATION;VALUE=URI;X-ADDRESS=Westminister Chapel 329 19th Street North Lethbridge Alberta Lethbridge Alberta T1J-4A4 Canada;X-APPLE-RADIUS=500;X-TITLE=329 19th Street North Lethbridge\, Alberta:geo:-112.814634,49.6931758
END:VEVENT
BEGIN:VEVENT
DTSTART;TZID=America/Edmonton:20240211T163000
DTEND;TZID=America/Edmonton:20240211T173000
DTSTAMP:20260422T163856
CREATED:20240209T020939Z
LAST-MODIFIED:20240209T021033Z
UID:10001827-1707669000-1707672600@westminsterchapelpca.ca
SUMMARY:PM Worship
DESCRIPTION:Pastor Cameron Fraser \nJohn 14:27 \nJesus Gives Real Peace
URL:https://westminsterchapelpca.ca/event/pm-worship-40/
LOCATION:Westminister Chapel\, 329 19th Street North Lethbridge\, Alberta\, Lethbridge\, Alberta\, T1J-4A4\, Canada
CATEGORIES:Worship Services
GEO:49.6931758;-112.814634
X-APPLE-STRUCTURED-LOCATION;VALUE=URI;X-ADDRESS=Westminister Chapel 329 19th Street North Lethbridge Alberta Lethbridge Alberta T1J-4A4 Canada;X-APPLE-RADIUS=500;X-TITLE=329 19th Street North Lethbridge\, Alberta:geo:-112.814634,49.6931758
END:VEVENT
BEGIN:VEVENT
DTSTART;TZID=America/Edmonton:20240207T190000
DTEND;TZID=America/Edmonton:20240207T210000
DTSTAMP:20260422T163856
CREATED:20230916T164723Z
LAST-MODIFIED:20230916T164723Z
UID:10003217-1707332400-1707339600@westminsterchapelpca.ca
SUMMARY:Men's Study
DESCRIPTION:7-9pm: Men’s Study \nKnowing Christ by Mark Jones. Led by Pastor Adam.
URL:https://westminsterchapelpca.ca/event/mens-study/2024-02-07/
LOCATION:Westminister Chapel\, 329 19th Street North Lethbridge\, Alberta\, Lethbridge\, Alberta\, T1J-4A4\, Canada
GEO:49.6931758;-112.814634
X-APPLE-STRUCTURED-LOCATION;VALUE=URI;X-ADDRESS=Westminister Chapel 329 19th Street North Lethbridge Alberta Lethbridge Alberta T1J-4A4 Canada;X-APPLE-RADIUS=500;X-TITLE=329 19th Street North Lethbridge\, Alberta:geo:-112.814634,49.6931758
END:VEVENT
BEGIN:VEVENT
DTSTART;TZID=America/Edmonton:20240207T094500
DTEND;TZID=America/Edmonton:20240207T114500
DTSTAMP:20260422T163856
CREATED:20240216T022659Z
LAST-MODIFIED:20240216T022659Z
UID:10003336-1707299100-1707306300@westminsterchapelpca.ca
SUMMARY:Women's Morning Study
DESCRIPTION:Women’s Morning Study – at Westminster. Studying Colossians.  Coffee at 9:45am\, study from 10-11:45. Childcare available. For more info\, contact Marian.
URL:https://westminsterchapelpca.ca/event/womens-morning-study/2024-02-07/
LOCATION:Westminister Chapel\, 329 19th Street North Lethbridge\, Alberta\, Lethbridge\, Alberta\, T1J-4A4\, Canada
CATEGORIES:Bible Study,Women
GEO:49.6931758;-112.814634
X-APPLE-STRUCTURED-LOCATION;VALUE=URI;X-ADDRESS=Westminister Chapel 329 19th Street North Lethbridge Alberta Lethbridge Alberta T1J-4A4 Canada;X-APPLE-RADIUS=500;X-TITLE=329 19th Street North Lethbridge\, Alberta:geo:-112.814634,49.6931758
END:VEVENT
BEGIN:VEVENT
DTSTART;TZID=America/Edmonton:20240128T163000
DTEND;TZID=America/Edmonton:20240128T173000
DTSTAMP:20260422T163856
CREATED:20240119T220410Z
LAST-MODIFIED:20240125T222425Z
UID:10001825-1706459400-1706463000@westminsterchapelpca.ca
SUMMARY:PM Worship
DESCRIPTION:Pastor Adam Harris
URL:https://westminsterchapelpca.ca/event/pm-worship-39/
LOCATION:Westminister Chapel\, 329 19th Street North Lethbridge\, Alberta\, Lethbridge\, Alberta\, T1J-4A4\, Canada
CATEGORIES:Worship Services
GEO:49.6931758;-112.814634
X-APPLE-STRUCTURED-LOCATION;VALUE=URI;X-ADDRESS=Westminister Chapel 329 19th Street North Lethbridge Alberta Lethbridge Alberta T1J-4A4 Canada;X-APPLE-RADIUS=500;X-TITLE=329 19th Street North Lethbridge\, Alberta:geo:-112.814634,49.6931758
END:VEVENT
BEGIN:VEVENT
DTSTART;TZID=America/Edmonton:20240127T170000
DTEND;TZID=America/Edmonton:20240127T210000
DTSTAMP:20260422T163856
CREATED:20240106T220202Z
LAST-MODIFIED:20240125T222540Z
UID:10003307-1706374800-1706389200@westminsterchapelpca.ca
SUMMARY:Pig Roast Fundraiser
DESCRIPTION:Croatian Centre
URL:https://westminsterchapelpca.ca/event/pig-roast-fundraiser/
LOCATION:Westminister Chapel\, 329 19th Street North Lethbridge\, Alberta\, Lethbridge\, Alberta\, T1J-4A4\, Canada
GEO:49.6931758;-112.814634
X-APPLE-STRUCTURED-LOCATION;VALUE=URI;X-ADDRESS=Westminister Chapel 329 19th Street North Lethbridge Alberta Lethbridge Alberta T1J-4A4 Canada;X-APPLE-RADIUS=500;X-TITLE=329 19th Street North Lethbridge\, Alberta:geo:-112.814634,49.6931758
END:VEVENT
BEGIN:VEVENT
DTSTART;TZID=America/Edmonton:20240124T190000
DTEND;TZID=America/Edmonton:20240124T210000
DTSTAMP:20260422T163856
CREATED:20231202T181711Z
LAST-MODIFIED:20231202T181712Z
UID:10003257-1706122800-1706130000@westminsterchapelpca.ca
SUMMARY:Prayer Meeting
DESCRIPTION:Prayer Meeting\nWith devotion & song at the church. Led by Ron H.
URL:https://westminsterchapelpca.ca/event/prayer-meeting-7-2/2024-01-24/
LOCATION:Westminister Chapel\, 329 19th Street North Lethbridge\, Alberta\, Lethbridge\, Alberta\, T1J-4A4\, Canada
CATEGORIES:Prayer
GEO:49.6931758;-112.814634
X-APPLE-STRUCTURED-LOCATION;VALUE=URI;X-ADDRESS=Westminister Chapel 329 19th Street North Lethbridge Alberta Lethbridge Alberta T1J-4A4 Canada;X-APPLE-RADIUS=500;X-TITLE=329 19th Street North Lethbridge\, Alberta:geo:-112.814634,49.6931758
END:VEVENT
BEGIN:VEVENT
DTSTART;TZID=America/Edmonton:20240121T163000
DTEND;TZID=America/Edmonton:20240121T173000
DTSTAMP:20260422T163856
CREATED:20221223T175802Z
LAST-MODIFIED:20221223T175802Z
UID:10001824-1705854600-1705858200@westminsterchapelpca.ca
SUMMARY:PM Worship
DESCRIPTION:
URL:https://westminsterchapelpca.ca/event/sunday-pm-worship-28-2022-05-22-4/
LOCATION:Westminister Chapel\, 329 19th Street North Lethbridge\, Alberta\, Lethbridge\, Alberta\, T1J-4A4\, Canada
CATEGORIES:Worship Services
GEO:49.6931758;-112.814634
X-APPLE-STRUCTURED-LOCATION;VALUE=URI;X-ADDRESS=Westminister Chapel 329 19th Street North Lethbridge Alberta Lethbridge Alberta T1J-4A4 Canada;X-APPLE-RADIUS=500;X-TITLE=329 19th Street North Lethbridge\, Alberta:geo:-112.814634,49.6931758
END:VEVENT
BEGIN:VEVENT
DTSTART;TZID=America/Edmonton:20240120T093000
DTEND;TZID=America/Edmonton:20240120T150000
DTSTAMP:20260422T163856
CREATED:20240111T222635Z
LAST-MODIFIED:20240111T222635Z
UID:10003308-1705743000-1705762800@westminsterchapelpca.ca
SUMMARY:Quilting
DESCRIPTION:New faces are always welcome as we begin assembling and sewing quilts for each member of our refugee family. Once again\, a delicious lunch will be provided by our team of chefs. Please consider joining us for a fun day of fellowship. Please RSVP to Martha if you plan to attend.
URL:https://westminsterchapelpca.ca/event/quilting-3/
LOCATION:Westminister Chapel\, 329 19th Street North Lethbridge\, Alberta\, Lethbridge\, Alberta\, T1J-4A4\, Canada
CATEGORIES:Fellowship,Woman's Fellowship
GEO:49.6931758;-112.814634
X-APPLE-STRUCTURED-LOCATION;VALUE=URI;X-ADDRESS=Westminister Chapel 329 19th Street North Lethbridge Alberta Lethbridge Alberta T1J-4A4 Canada;X-APPLE-RADIUS=500;X-TITLE=329 19th Street North Lethbridge\, Alberta:geo:-112.814634,49.6931758
END:VEVENT
BEGIN:VEVENT
DTSTART;TZID=America/Edmonton:20240117T190000
DTEND;TZID=America/Edmonton:20240117T210000
DTSTAMP:20260422T163856
CREATED:20230922T200136Z
LAST-MODIFIED:20230922T200136Z
UID:10003265-1705518000-1705525200@westminsterchapelpca.ca
SUMMARY:Youth Study
DESCRIPTION:Youth Study\nWestminster Shorter Catechism. Led by Pastor Adam.
URL:https://westminsterchapelpca.ca/event/youth-study/2024-01-17/
LOCATION:Westminister Chapel\, 329 19th Street North Lethbridge\, Alberta\, Lethbridge\, Alberta\, T1J-4A4\, Canada
CATEGORIES:Youth
GEO:49.6931758;-112.814634
X-APPLE-STRUCTURED-LOCATION;VALUE=URI;X-ADDRESS=Westminister Chapel 329 19th Street North Lethbridge Alberta Lethbridge Alberta T1J-4A4 Canada;X-APPLE-RADIUS=500;X-TITLE=329 19th Street North Lethbridge\, Alberta:geo:-112.814634,49.6931758
END:VEVENT
BEGIN:VEVENT
DTSTART;TZID=America/Edmonton:20240114T163000
DTEND;TZID=America/Edmonton:20240114T173000
DTSTAMP:20260422T163856
CREATED:20240111T222802Z
LAST-MODIFIED:20240111T222910Z
UID:10001823-1705249800-1705253400@westminsterchapelpca.ca
SUMMARY:PM Worship
DESCRIPTION:Pastor Tom Albaugh \nMark 10:32-45 \nThe Servant Gospel
URL:https://westminsterchapelpca.ca/event/pm-worship-38/
LOCATION:Westminister Chapel\, 329 19th Street North Lethbridge\, Alberta\, Lethbridge\, Alberta\, T1J-4A4\, Canada
CATEGORIES:Worship Services
GEO:49.6931758;-112.814634
X-APPLE-STRUCTURED-LOCATION;VALUE=URI;X-ADDRESS=Westminister Chapel 329 19th Street North Lethbridge Alberta Lethbridge Alberta T1J-4A4 Canada;X-APPLE-RADIUS=500;X-TITLE=329 19th Street North Lethbridge\, Alberta:geo:-112.814634,49.6931758
END:VEVENT
BEGIN:VEVENT
DTSTART;TZID=America/Edmonton:20240113T160000
DTEND;TZID=America/Edmonton:20240113T200000
DTSTAMP:20260422T163856
CREATED:20231222T040458Z
LAST-MODIFIED:20231222T040458Z
UID:10003303-1705161600-1705176000@westminsterchapelpca.ca
SUMMARY:Seniors' Dinner Social
DESCRIPTION:Seniors Dinner Social – The Seniors are invited to attend a dinner being hosted by the deacons on Saturday January the 13th.  Dinner will be served @ 5 pm and you are welcome to come early at around 4 pm for social time with beverages\, etc. Tentatively scheduled to be held within the church basement unless another more suitable venue can be found.
URL:https://westminsterchapelpca.ca/event/seniors-dinner-social/
LOCATION:Westminister Chapel\, 329 19th Street North Lethbridge\, Alberta\, Lethbridge\, Alberta\, T1J-4A4\, Canada
CATEGORIES:Fellowship
GEO:49.6931758;-112.814634
X-APPLE-STRUCTURED-LOCATION;VALUE=URI;X-ADDRESS=Westminister Chapel 329 19th Street North Lethbridge Alberta Lethbridge Alberta T1J-4A4 Canada;X-APPLE-RADIUS=500;X-TITLE=329 19th Street North Lethbridge\, Alberta:geo:-112.814634,49.6931758
END:VEVENT
BEGIN:VEVENT
DTSTART;TZID=America/Edmonton:20240109T190000
DTEND;TZID=America/Edmonton:20240109T220000
DTSTAMP:20260422T163856
CREATED:20230119T215238Z
LAST-MODIFIED:20230119T215238Z
UID:10002627-1704826800-1704837600@westminsterchapelpca.ca
SUMMARY:Session Meeting
DESCRIPTION:
URL:https://westminsterchapelpca.ca/event/session-meeting/2024-01-09/
LOCATION:Westminister Chapel\, 329 19th Street North Lethbridge\, Alberta\, Lethbridge\, Alberta\, T1J-4A4\, Canada
GEO:49.6931758;-112.814634
X-APPLE-STRUCTURED-LOCATION;VALUE=URI;X-ADDRESS=Westminister Chapel 329 19th Street North Lethbridge Alberta Lethbridge Alberta T1J-4A4 Canada;X-APPLE-RADIUS=500;X-TITLE=329 19th Street North Lethbridge\, Alberta:geo:-112.814634,49.6931758
END:VEVENT
BEGIN:VEVENT
DTSTART;TZID=America/Edmonton:20240103T190000
DTEND;TZID=America/Edmonton:20240103T210000
DTSTAMP:20260422T163856
CREATED:20230916T164723Z
LAST-MODIFIED:20230916T164723Z
UID:10003216-1704308400-1704315600@westminsterchapelpca.ca
SUMMARY:Men's Study
DESCRIPTION:7-9pm: Men’s Study \nKnowing Christ by Mark Jones. Led by Pastor Adam.
URL:https://westminsterchapelpca.ca/event/mens-study/2024-01-03/
LOCATION:Westminister Chapel\, 329 19th Street North Lethbridge\, Alberta\, Lethbridge\, Alberta\, T1J-4A4\, Canada
GEO:49.6931758;-112.814634
X-APPLE-STRUCTURED-LOCATION;VALUE=URI;X-ADDRESS=Westminister Chapel 329 19th Street North Lethbridge Alberta Lethbridge Alberta T1J-4A4 Canada;X-APPLE-RADIUS=500;X-TITLE=329 19th Street North Lethbridge\, Alberta:geo:-112.814634,49.6931758
END:VEVENT
BEGIN:VEVENT
DTSTART;TZID=America/Edmonton:20231231T163000
DTEND;TZID=America/Edmonton:20231231T173000
DTSTAMP:20260422T163856
CREATED:20231229T200614Z
LAST-MODIFIED:20231229T200644Z
UID:10001821-1704040200-1704043800@westminsterchapelpca.ca
SUMMARY:PM Worship
DESCRIPTION:Pastor Adam Harris \n1 Timothy 3:16 \nNew Year\, Old Faith
URL:https://westminsterchapelpca.ca/event/pm-worship-37/
LOCATION:Westminister Chapel\, 329 19th Street North Lethbridge\, Alberta\, Lethbridge\, Alberta\, T1J-4A4\, Canada
CATEGORIES:Worship Services
GEO:49.6931758;-112.814634
X-APPLE-STRUCTURED-LOCATION;VALUE=URI;X-ADDRESS=Westminister Chapel 329 19th Street North Lethbridge Alberta Lethbridge Alberta T1J-4A4 Canada;X-APPLE-RADIUS=500;X-TITLE=329 19th Street North Lethbridge\, Alberta:geo:-112.814634,49.6931758
END:VEVENT
BEGIN:VEVENT
DTSTART;TZID=America/Edmonton:20231227T190000
DTEND;TZID=America/Edmonton:20231227T210000
DTSTAMP:20260422T163856
CREATED:20231202T181711Z
LAST-MODIFIED:20231202T181712Z
UID:10003256-1703703600-1703710800@westminsterchapelpca.ca
SUMMARY:Prayer Meeting
DESCRIPTION:Prayer Meeting\nWith devotion & song at the church. Led by Ron H.
URL:https://westminsterchapelpca.ca/event/prayer-meeting-7-2/2023-12-27/
LOCATION:Westminister Chapel\, 329 19th Street North Lethbridge\, Alberta\, Lethbridge\, Alberta\, T1J-4A4\, Canada
CATEGORIES:Prayer
GEO:49.6931758;-112.814634
X-APPLE-STRUCTURED-LOCATION;VALUE=URI;X-ADDRESS=Westminister Chapel 329 19th Street North Lethbridge Alberta Lethbridge Alberta T1J-4A4 Canada;X-APPLE-RADIUS=500;X-TITLE=329 19th Street North Lethbridge\, Alberta:geo:-112.814634,49.6931758
END:VEVENT
BEGIN:VEVENT
DTSTART;TZID=America/Edmonton:20231224T163000
DTEND;TZID=America/Edmonton:20231224T173000
DTSTAMP:20260422T163856
CREATED:20231222T040013Z
LAST-MODIFIED:20231222T040136Z
UID:10001820-1703435400-1703439000@westminsterchapelpca.ca
SUMMARY:Christmas Eve Service
DESCRIPTION:Pastor Adam Harris \nMatthew 1:18-25 \nName Him and Claim Him
URL:https://westminsterchapelpca.ca/event/pm-worship-36/
LOCATION:Westminister Chapel\, 329 19th Street North Lethbridge\, Alberta\, Lethbridge\, Alberta\, T1J-4A4\, Canada
CATEGORIES:Worship Services
GEO:49.6931758;-112.814634
X-APPLE-STRUCTURED-LOCATION;VALUE=URI;X-ADDRESS=Westminister Chapel 329 19th Street North Lethbridge Alberta Lethbridge Alberta T1J-4A4 Canada;X-APPLE-RADIUS=500;X-TITLE=329 19th Street North Lethbridge\, Alberta:geo:-112.814634,49.6931758
END:VEVENT
BEGIN:VEVENT
DTSTART;TZID=America/Edmonton:20231220T190000
DTEND;TZID=America/Edmonton:20231220T210000
DTSTAMP:20260422T163856
CREATED:20230922T200136Z
LAST-MODIFIED:20230922T200136Z
UID:10003264-1703098800-1703106000@westminsterchapelpca.ca
SUMMARY:Youth Study
DESCRIPTION:Youth Study\nWestminster Shorter Catechism. Led by Pastor Adam.
URL:https://westminsterchapelpca.ca/event/youth-study/2023-12-20/
LOCATION:Westminister Chapel\, 329 19th Street North Lethbridge\, Alberta\, Lethbridge\, Alberta\, T1J-4A4\, Canada
CATEGORIES:Youth
GEO:49.6931758;-112.814634
X-APPLE-STRUCTURED-LOCATION;VALUE=URI;X-ADDRESS=Westminister Chapel 329 19th Street North Lethbridge Alberta Lethbridge Alberta T1J-4A4 Canada;X-APPLE-RADIUS=500;X-TITLE=329 19th Street North Lethbridge\, Alberta:geo:-112.814634,49.6931758
END:VEVENT
BEGIN:VEVENT
DTSTART;TZID=America/Edmonton:20231217T163000
DTEND;TZID=America/Edmonton:20231217T173000
DTSTAMP:20260422T163856
CREATED:20231216T165017Z
LAST-MODIFIED:20231216T165102Z
UID:10001819-1702830600-1702834200@westminsterchapelpca.ca
SUMMARY:PM Worship
DESCRIPTION:Pastor Adam Harris \nLuke 1:26-56 \nSurprised by Joy
URL:https://westminsterchapelpca.ca/event/pm-worship-35/
LOCATION:Westminister Chapel\, 329 19th Street North Lethbridge\, Alberta\, Lethbridge\, Alberta\, T1J-4A4\, Canada
CATEGORIES:Worship Services
GEO:49.6931758;-112.814634
X-APPLE-STRUCTURED-LOCATION;VALUE=URI;X-ADDRESS=Westminister Chapel 329 19th Street North Lethbridge Alberta Lethbridge Alberta T1J-4A4 Canada;X-APPLE-RADIUS=500;X-TITLE=329 19th Street North Lethbridge\, Alberta:geo:-112.814634,49.6931758
END:VEVENT
BEGIN:VEVENT
DTSTART;TZID=America/Edmonton:20231213T094500
DTEND;TZID=America/Edmonton:20231213T114500
DTSTAMP:20260422T163856
CREATED:20230908T012906Z
LAST-MODIFIED:20230908T012941Z
UID:10003210-1702460700-1702467900@westminsterchapelpca.ca
SUMMARY:Women's Bible Study
DESCRIPTION:Coffee 9:45am\, study from 10-11:45am; babysitting is provided. We will be studying the Psalms using ‘Learning to love the Psalms’ by W. Robert Godfrey. Any questions please contact Marian or Tamara. \n 
URL:https://westminsterchapelpca.ca/event/womens-bible-study-2/2023-12-13/
LOCATION:Westminister Chapel\, 329 19th Street North Lethbridge\, Alberta\, Lethbridge\, Alberta\, T1J-4A4\, Canada
CATEGORIES:Bible Study
GEO:49.6931758;-112.814634
X-APPLE-STRUCTURED-LOCATION;VALUE=URI;X-ADDRESS=Westminister Chapel 329 19th Street North Lethbridge Alberta Lethbridge Alberta T1J-4A4 Canada;X-APPLE-RADIUS=500;X-TITLE=329 19th Street North Lethbridge\, Alberta:geo:-112.814634,49.6931758
END:VEVENT
BEGIN:VEVENT
DTSTART;TZID=America/Edmonton:20231212T190000
DTEND;TZID=America/Edmonton:20231212T220000
DTSTAMP:20260422T163856
CREATED:20230119T215238Z
LAST-MODIFIED:20230119T215238Z
UID:10002626-1702407600-1702418400@westminsterchapelpca.ca
SUMMARY:Session Meeting
DESCRIPTION:
URL:https://westminsterchapelpca.ca/event/session-meeting/2023-12-12/
LOCATION:Westminister Chapel\, 329 19th Street North Lethbridge\, Alberta\, Lethbridge\, Alberta\, T1J-4A4\, Canada
GEO:49.6931758;-112.814634
X-APPLE-STRUCTURED-LOCATION;VALUE=URI;X-ADDRESS=Westminister Chapel 329 19th Street North Lethbridge Alberta Lethbridge Alberta T1J-4A4 Canada;X-APPLE-RADIUS=500;X-TITLE=329 19th Street North Lethbridge\, Alberta:geo:-112.814634,49.6931758
END:VEVENT
BEGIN:VEVENT
DTSTART;TZID=America/Edmonton:20231210T163000
DTEND;TZID=America/Edmonton:20231210T173000
DTSTAMP:20260422T163856
CREATED:20231208T025708Z
LAST-MODIFIED:20231208T030135Z
UID:10001818-1702225800-1702229400@westminsterchapelpca.ca
SUMMARY:PM Worship
DESCRIPTION:Pastor Tom Albaugh \nLuke 1:78\, 79; 1 John 4:9 \nMercy\, Light\, and Peace this Christmas
URL:https://westminsterchapelpca.ca/event/sunday-pm-worship-28-2022-05-22-4-5/
LOCATION:Westminister Chapel\, 329 19th Street North Lethbridge\, Alberta\, Lethbridge\, Alberta\, T1J-4A4\, Canada
CATEGORIES:Worship Services
GEO:49.6931758;-112.814634
X-APPLE-STRUCTURED-LOCATION;VALUE=URI;X-ADDRESS=Westminister Chapel 329 19th Street North Lethbridge Alberta Lethbridge Alberta T1J-4A4 Canada;X-APPLE-RADIUS=500;X-TITLE=329 19th Street North Lethbridge\, Alberta:geo:-112.814634,49.6931758
END:VEVENT
END:VCALENDAR