BEGIN:VCALENDAR
VERSION:2.0
PRODID:-//Westminster Chapel - ECPv6.15.13.1//NONSGML v1.0//EN
CALSCALE:GREGORIAN
METHOD:PUBLISH
X-WR-CALNAME:Westminster Chapel
X-ORIGINAL-URL:https://westminsterchapelpca.ca
X-WR-CALDESC:Events for Westminster Chapel
REFRESH-INTERVAL;VALUE=DURATION:PT1H
X-Robots-Tag:noindex
X-PUBLISHED-TTL:PT1H
BEGIN:VTIMEZONE
TZID:America/Edmonton
BEGIN:DAYLIGHT
TZOFFSETFROM:-0700
TZOFFSETTO:-0600
TZNAME:MDT
DTSTART:20220313T090000
END:DAYLIGHT
BEGIN:STANDARD
TZOFFSETFROM:-0600
TZOFFSETTO:-0700
TZNAME:MST
DTSTART:20221106T080000
END:STANDARD
BEGIN:DAYLIGHT
TZOFFSETFROM:-0700
TZOFFSETTO:-0600
TZNAME:MDT
DTSTART:20230312T090000
END:DAYLIGHT
BEGIN:STANDARD
TZOFFSETFROM:-0600
TZOFFSETTO:-0700
TZNAME:MST
DTSTART:20231105T080000
END:STANDARD
BEGIN:DAYLIGHT
TZOFFSETFROM:-0700
TZOFFSETTO:-0600
TZNAME:MDT
DTSTART:20240310T090000
END:DAYLIGHT
BEGIN:STANDARD
TZOFFSETFROM:-0600
TZOFFSETTO:-0700
TZNAME:MST
DTSTART:20241103T080000
END:STANDARD
END:VTIMEZONE
BEGIN:VEVENT
DTSTART;TZID=America/Edmonton:20231206T190000
DTEND;TZID=America/Edmonton:20231206T210000
DTSTAMP:20260422T203305
CREATED:20230916T164723Z
LAST-MODIFIED:20230916T164723Z
UID:10003215-1701889200-1701896400@westminsterchapelpca.ca
SUMMARY:Men's Study
DESCRIPTION:7-9pm: Men’s Study \nKnowing Christ by Mark Jones. Led by Pastor Adam.
URL:https://westminsterchapelpca.ca/event/mens-study/2023-12-06/
LOCATION:Westminister Chapel\, 329 19th Street North Lethbridge\, Alberta\, Lethbridge\, Alberta\, T1J-4A4\, Canada
GEO:49.6931758;-112.814634
X-APPLE-STRUCTURED-LOCATION;VALUE=URI;X-ADDRESS=Westminister Chapel 329 19th Street North Lethbridge Alberta Lethbridge Alberta T1J-4A4 Canada;X-APPLE-RADIUS=500;X-TITLE=329 19th Street North Lethbridge\, Alberta:geo:-112.814634,49.6931758
END:VEVENT
BEGIN:VEVENT
DTSTART;TZID=America/Edmonton:20231206T094500
DTEND;TZID=America/Edmonton:20231206T114500
DTSTAMP:20260422T203305
CREATED:20230908T012906Z
LAST-MODIFIED:20230908T012941Z
UID:10003209-1701855900-1701863100@westminsterchapelpca.ca
SUMMARY:Women's Bible Study
DESCRIPTION:Coffee 9:45am\, study from 10-11:45am; babysitting is provided. We will be studying the Psalms using ‘Learning to love the Psalms’ by W. Robert Godfrey. Any questions please contact Marian or Tamara. \n 
URL:https://westminsterchapelpca.ca/event/womens-bible-study-2/2023-12-06/
LOCATION:Westminister Chapel\, 329 19th Street North Lethbridge\, Alberta\, Lethbridge\, Alberta\, T1J-4A4\, Canada
CATEGORIES:Bible Study
GEO:49.6931758;-112.814634
X-APPLE-STRUCTURED-LOCATION;VALUE=URI;X-ADDRESS=Westminister Chapel 329 19th Street North Lethbridge Alberta Lethbridge Alberta T1J-4A4 Canada;X-APPLE-RADIUS=500;X-TITLE=329 19th Street North Lethbridge\, Alberta:geo:-112.814634,49.6931758
END:VEVENT
BEGIN:VEVENT
DTSTART;TZID=America/Edmonton:20231130T183000
DTEND;TZID=America/Edmonton:20231130T210000
DTSTAMP:20260422T203305
CREATED:20231123T225948Z
LAST-MODIFIED:20231123T225948Z
UID:10003292-1701369000-1701378000@westminsterchapelpca.ca
SUMMARY:Advent Mini Retreat
DESCRIPTION:Ladies\, prepare your hearts for the Christmas season\, by joining us for an evening of fellowship\, teaching\, and worship. The Advent mini retreat will take place on Thursday\, November 30th\, from 6:30-9:00pm. Dinner and dessert will be provided.
URL:https://westminsterchapelpca.ca/event/advent-mini-retreat/
LOCATION:Westminister Chapel\, 329 19th Street North Lethbridge\, Alberta\, Lethbridge\, Alberta\, T1J-4A4\, Canada
CATEGORIES:Woman's Fellowship
GEO:49.6931758;-112.814634
X-APPLE-STRUCTURED-LOCATION;VALUE=URI;X-ADDRESS=Westminister Chapel 329 19th Street North Lethbridge Alberta Lethbridge Alberta T1J-4A4 Canada;X-APPLE-RADIUS=500;X-TITLE=329 19th Street North Lethbridge\, Alberta:geo:-112.814634,49.6931758
END:VEVENT
BEGIN:VEVENT
DTSTART;TZID=America/Edmonton:20231129T094500
DTEND;TZID=America/Edmonton:20231129T114500
DTSTAMP:20260422T203305
CREATED:20230908T012906Z
LAST-MODIFIED:20230908T012941Z
UID:10003208-1701251100-1701258300@westminsterchapelpca.ca
SUMMARY:Women's Bible Study
DESCRIPTION:Coffee 9:45am\, study from 10-11:45am; babysitting is provided. We will be studying the Psalms using ‘Learning to love the Psalms’ by W. Robert Godfrey. Any questions please contact Marian or Tamara. \n 
URL:https://westminsterchapelpca.ca/event/womens-bible-study-2/2023-11-29/
LOCATION:Westminister Chapel\, 329 19th Street North Lethbridge\, Alberta\, Lethbridge\, Alberta\, T1J-4A4\, Canada
CATEGORIES:Bible Study
GEO:49.6931758;-112.814634
X-APPLE-STRUCTURED-LOCATION;VALUE=URI;X-ADDRESS=Westminister Chapel 329 19th Street North Lethbridge Alberta Lethbridge Alberta T1J-4A4 Canada;X-APPLE-RADIUS=500;X-TITLE=329 19th Street North Lethbridge\, Alberta:geo:-112.814634,49.6931758
END:VEVENT
BEGIN:VEVENT
DTSTART;TZID=America/Edmonton:20231126T163000
DTEND;TZID=America/Edmonton:20231126T173000
DTSTAMP:20260422T203305
CREATED:20231124T040625Z
LAST-MODIFIED:20231124T040653Z
UID:10001816-1701016200-1701019800@westminsterchapelpca.ca
SUMMARY:PM Worship
DESCRIPTION:Pastor Adam Harris \nGenesis 19:1-29 \nCity of Destruction
URL:https://westminsterchapelpca.ca/event/pm-worship-34/
LOCATION:Westminister Chapel\, 329 19th Street North Lethbridge\, Alberta\, Lethbridge\, Alberta\, T1J-4A4\, Canada
CATEGORIES:Worship Services
GEO:49.6931758;-112.814634
X-APPLE-STRUCTURED-LOCATION;VALUE=URI;X-ADDRESS=Westminister Chapel 329 19th Street North Lethbridge Alberta Lethbridge Alberta T1J-4A4 Canada;X-APPLE-RADIUS=500;X-TITLE=329 19th Street North Lethbridge\, Alberta:geo:-112.814634,49.6931758
END:VEVENT
BEGIN:VEVENT
DTSTART;TZID=America/Edmonton:20231122T190000
DTEND;TZID=America/Edmonton:20231122T210000
DTSTAMP:20260422T203305
CREATED:20230922T195825Z
LAST-MODIFIED:20230922T195825Z
UID:10003255-1700679600-1700686800@westminsterchapelpca.ca
SUMMARY:Prayer Meeting
DESCRIPTION:Prayer Meeting\nWith devotion & song at the church. Led by Ron H.
URL:https://westminsterchapelpca.ca/event/prayer-meeting-7/2023-11-22/
LOCATION:Westminister Chapel\, 329 19th Street North Lethbridge\, Alberta\, Lethbridge\, Alberta\, T1J-4A4\, Canada
CATEGORIES:Prayer
GEO:49.6931758;-112.814634
X-APPLE-STRUCTURED-LOCATION;VALUE=URI;X-ADDRESS=Westminister Chapel 329 19th Street North Lethbridge Alberta Lethbridge Alberta T1J-4A4 Canada;X-APPLE-RADIUS=500;X-TITLE=329 19th Street North Lethbridge\, Alberta:geo:-112.814634,49.6931758
END:VEVENT
BEGIN:VEVENT
DTSTART;TZID=America/Edmonton:20231122T094500
DTEND;TZID=America/Edmonton:20231122T114500
DTSTAMP:20260422T203305
CREATED:20230908T012906Z
LAST-MODIFIED:20230908T012941Z
UID:10003207-1700646300-1700653500@westminsterchapelpca.ca
SUMMARY:Women's Bible Study
DESCRIPTION:Coffee 9:45am\, study from 10-11:45am; babysitting is provided. We will be studying the Psalms using ‘Learning to love the Psalms’ by W. Robert Godfrey. Any questions please contact Marian or Tamara. \n 
URL:https://westminsterchapelpca.ca/event/womens-bible-study-2/2023-11-22/
LOCATION:Westminister Chapel\, 329 19th Street North Lethbridge\, Alberta\, Lethbridge\, Alberta\, T1J-4A4\, Canada
CATEGORIES:Bible Study
GEO:49.6931758;-112.814634
X-APPLE-STRUCTURED-LOCATION;VALUE=URI;X-ADDRESS=Westminister Chapel 329 19th Street North Lethbridge Alberta Lethbridge Alberta T1J-4A4 Canada;X-APPLE-RADIUS=500;X-TITLE=329 19th Street North Lethbridge\, Alberta:geo:-112.814634,49.6931758
END:VEVENT
BEGIN:VEVENT
DTSTART;TZID=America/Edmonton:20231119T163000
DTEND;TZID=America/Edmonton:20231119T173000
DTSTAMP:20260422T203305
CREATED:20231117T192826Z
LAST-MODIFIED:20231117T192856Z
UID:10001815-1700411400-1700415000@westminsterchapelpca.ca
SUMMARY:PM Worship
DESCRIPTION:Pastor Adam Harris \nGenesis 18 \nA Divine Encounter
URL:https://westminsterchapelpca.ca/event/pm-worship-33/
LOCATION:Westminister Chapel\, 329 19th Street North Lethbridge\, Alberta\, Lethbridge\, Alberta\, T1J-4A4\, Canada
CATEGORIES:Worship Services
GEO:49.6931758;-112.814634
X-APPLE-STRUCTURED-LOCATION;VALUE=URI;X-ADDRESS=Westminister Chapel 329 19th Street North Lethbridge Alberta Lethbridge Alberta T1J-4A4 Canada;X-APPLE-RADIUS=500;X-TITLE=329 19th Street North Lethbridge\, Alberta:geo:-112.814634,49.6931758
END:VEVENT
BEGIN:VEVENT
DTSTART;TZID=America/Edmonton:20231115T190000
DTEND;TZID=America/Edmonton:20231115T210000
DTSTAMP:20260422T203305
CREATED:20230922T200136Z
LAST-MODIFIED:20230922T200136Z
UID:10003263-1700074800-1700082000@westminsterchapelpca.ca
SUMMARY:Youth Study
DESCRIPTION:Youth Study\nWestminster Shorter Catechism. Led by Pastor Adam.
URL:https://westminsterchapelpca.ca/event/youth-study/2023-11-15/
LOCATION:Westminister Chapel\, 329 19th Street North Lethbridge\, Alberta\, Lethbridge\, Alberta\, T1J-4A4\, Canada
CATEGORIES:Youth
GEO:49.6931758;-112.814634
X-APPLE-STRUCTURED-LOCATION;VALUE=URI;X-ADDRESS=Westminister Chapel 329 19th Street North Lethbridge Alberta Lethbridge Alberta T1J-4A4 Canada;X-APPLE-RADIUS=500;X-TITLE=329 19th Street North Lethbridge\, Alberta:geo:-112.814634,49.6931758
END:VEVENT
BEGIN:VEVENT
DTSTART;TZID=America/Edmonton:20231115T094500
DTEND;TZID=America/Edmonton:20231115T114500
DTSTAMP:20260422T203305
CREATED:20230908T012906Z
LAST-MODIFIED:20230908T012941Z
UID:10003206-1700041500-1700048700@westminsterchapelpca.ca
SUMMARY:Women's Bible Study
DESCRIPTION:Coffee 9:45am\, study from 10-11:45am; babysitting is provided. We will be studying the Psalms using ‘Learning to love the Psalms’ by W. Robert Godfrey. Any questions please contact Marian or Tamara. \n 
URL:https://westminsterchapelpca.ca/event/womens-bible-study-2/2023-11-15/
LOCATION:Westminister Chapel\, 329 19th Street North Lethbridge\, Alberta\, Lethbridge\, Alberta\, T1J-4A4\, Canada
CATEGORIES:Bible Study
GEO:49.6931758;-112.814634
X-APPLE-STRUCTURED-LOCATION;VALUE=URI;X-ADDRESS=Westminister Chapel 329 19th Street North Lethbridge Alberta Lethbridge Alberta T1J-4A4 Canada;X-APPLE-RADIUS=500;X-TITLE=329 19th Street North Lethbridge\, Alberta:geo:-112.814634,49.6931758
END:VEVENT
BEGIN:VEVENT
DTSTART;TZID=America/Edmonton:20231114T190000
DTEND;TZID=America/Edmonton:20231114T220000
DTSTAMP:20260422T203305
CREATED:20230119T215238Z
LAST-MODIFIED:20230119T215238Z
UID:10002625-1699988400-1699999200@westminsterchapelpca.ca
SUMMARY:Session Meeting
DESCRIPTION:
URL:https://westminsterchapelpca.ca/event/session-meeting/2023-11-14/
LOCATION:Westminister Chapel\, 329 19th Street North Lethbridge\, Alberta\, Lethbridge\, Alberta\, T1J-4A4\, Canada
GEO:49.6931758;-112.814634
X-APPLE-STRUCTURED-LOCATION;VALUE=URI;X-ADDRESS=Westminister Chapel 329 19th Street North Lethbridge Alberta Lethbridge Alberta T1J-4A4 Canada;X-APPLE-RADIUS=500;X-TITLE=329 19th Street North Lethbridge\, Alberta:geo:-112.814634,49.6931758
END:VEVENT
BEGIN:VEVENT
DTSTART;TZID=America/Edmonton:20231112T163000
DTEND;TZID=America/Edmonton:20231112T173000
DTSTAMP:20260422T203305
CREATED:20231110T162056Z
LAST-MODIFIED:20231110T162145Z
UID:10001814-1699806600-1699810200@westminsterchapelpca.ca
SUMMARY:PM Worship
DESCRIPTION:Pastor  Adam Harris \nGen 17 \nAbraham’s Baptism
URL:https://westminsterchapelpca.ca/event/pm-worship-32/
LOCATION:Westminister Chapel\, 329 19th Street North Lethbridge\, Alberta\, Lethbridge\, Alberta\, T1J-4A4\, Canada
CATEGORIES:Worship Services
GEO:49.6931758;-112.814634
X-APPLE-STRUCTURED-LOCATION;VALUE=URI;X-ADDRESS=Westminister Chapel 329 19th Street North Lethbridge Alberta Lethbridge Alberta T1J-4A4 Canada;X-APPLE-RADIUS=500;X-TITLE=329 19th Street North Lethbridge\, Alberta:geo:-112.814634,49.6931758
END:VEVENT
BEGIN:VEVENT
DTSTART;TZID=America/Edmonton:20231108T094500
DTEND;TZID=America/Edmonton:20231108T114500
DTSTAMP:20260422T203305
CREATED:20230908T012906Z
LAST-MODIFIED:20230908T012941Z
UID:10003205-1699436700-1699443900@westminsterchapelpca.ca
SUMMARY:Women's Bible Study
DESCRIPTION:Coffee 9:45am\, study from 10-11:45am; babysitting is provided. We will be studying the Psalms using ‘Learning to love the Psalms’ by W. Robert Godfrey. Any questions please contact Marian or Tamara. \n 
URL:https://westminsterchapelpca.ca/event/womens-bible-study-2/2023-11-08/
LOCATION:Westminister Chapel\, 329 19th Street North Lethbridge\, Alberta\, Lethbridge\, Alberta\, T1J-4A4\, Canada
CATEGORIES:Bible Study
GEO:49.6931758;-112.814634
X-APPLE-STRUCTURED-LOCATION;VALUE=URI;X-ADDRESS=Westminister Chapel 329 19th Street North Lethbridge Alberta Lethbridge Alberta T1J-4A4 Canada;X-APPLE-RADIUS=500;X-TITLE=329 19th Street North Lethbridge\, Alberta:geo:-112.814634,49.6931758
END:VEVENT
BEGIN:VEVENT
DTSTART;TZID=America/Edmonton:20231103T190000
DTEND;TZID=America/Edmonton:20231103T220000
DTSTAMP:20260422T203305
CREATED:20231020T030031Z
LAST-MODIFIED:20231020T030031Z
UID:10003283-1699038000-1699048800@westminsterchapelpca.ca
SUMMARY:Youth Games Night
DESCRIPTION:Bring your favourite group game along! Let Anna or Brett know if you can make it or not.
URL:https://westminsterchapelpca.ca/event/youth-games-night/
LOCATION:Westminister Chapel\, 329 19th Street North Lethbridge\, Alberta\, Lethbridge\, Alberta\, T1J-4A4\, Canada
CATEGORIES:Fellowship,Youth
GEO:49.6931758;-112.814634
X-APPLE-STRUCTURED-LOCATION;VALUE=URI;X-ADDRESS=Westminister Chapel 329 19th Street North Lethbridge Alberta Lethbridge Alberta T1J-4A4 Canada;X-APPLE-RADIUS=500;X-TITLE=329 19th Street North Lethbridge\, Alberta:geo:-112.814634,49.6931758
END:VEVENT
BEGIN:VEVENT
DTSTART;TZID=America/Edmonton:20231101T190000
DTEND;TZID=America/Edmonton:20231101T210000
DTSTAMP:20260422T203305
CREATED:20230916T164723Z
LAST-MODIFIED:20230916T164723Z
UID:10003214-1698865200-1698872400@westminsterchapelpca.ca
SUMMARY:Men's Study
DESCRIPTION:7-9pm: Men’s Study \nKnowing Christ by Mark Jones. Led by Pastor Adam.
URL:https://westminsterchapelpca.ca/event/mens-study/2023-11-01/
LOCATION:Westminister Chapel\, 329 19th Street North Lethbridge\, Alberta\, Lethbridge\, Alberta\, T1J-4A4\, Canada
GEO:49.6931758;-112.814634
X-APPLE-STRUCTURED-LOCATION;VALUE=URI;X-ADDRESS=Westminister Chapel 329 19th Street North Lethbridge Alberta Lethbridge Alberta T1J-4A4 Canada;X-APPLE-RADIUS=500;X-TITLE=329 19th Street North Lethbridge\, Alberta:geo:-112.814634,49.6931758
END:VEVENT
BEGIN:VEVENT
DTSTART;TZID=America/Edmonton:20231101T094500
DTEND;TZID=America/Edmonton:20231101T114500
DTSTAMP:20260422T203305
CREATED:20230908T012906Z
LAST-MODIFIED:20230908T012941Z
UID:10003204-1698831900-1698839100@westminsterchapelpca.ca
SUMMARY:Women's Bible Study
DESCRIPTION:Coffee 9:45am\, study from 10-11:45am; babysitting is provided. We will be studying the Psalms using ‘Learning to love the Psalms’ by W. Robert Godfrey. Any questions please contact Marian or Tamara. \n 
URL:https://westminsterchapelpca.ca/event/womens-bible-study-2/2023-11-01/
LOCATION:Westminister Chapel\, 329 19th Street North Lethbridge\, Alberta\, Lethbridge\, Alberta\, T1J-4A4\, Canada
CATEGORIES:Bible Study
GEO:49.6931758;-112.814634
X-APPLE-STRUCTURED-LOCATION;VALUE=URI;X-ADDRESS=Westminister Chapel 329 19th Street North Lethbridge Alberta Lethbridge Alberta T1J-4A4 Canada;X-APPLE-RADIUS=500;X-TITLE=329 19th Street North Lethbridge\, Alberta:geo:-112.814634,49.6931758
END:VEVENT
BEGIN:VEVENT
DTSTART;TZID=America/Edmonton:20231029T163000
DTEND;TZID=America/Edmonton:20231029T173000
DTSTAMP:20260422T203305
CREATED:20231026T221114Z
LAST-MODIFIED:20231026T221158Z
UID:10001812-1698597000-1698600600@westminsterchapelpca.ca
SUMMARY:PM Worship
DESCRIPTION:Pastor Adam Harris \nGenesis 16 \nMaidservant Mayhem
URL:https://westminsterchapelpca.ca/event/pm-worship-31/
LOCATION:Westminister Chapel\, 329 19th Street North Lethbridge\, Alberta\, Lethbridge\, Alberta\, T1J-4A4\, Canada
CATEGORIES:Worship Services
GEO:49.6931758;-112.814634
X-APPLE-STRUCTURED-LOCATION;VALUE=URI;X-ADDRESS=Westminister Chapel 329 19th Street North Lethbridge Alberta Lethbridge Alberta T1J-4A4 Canada;X-APPLE-RADIUS=500;X-TITLE=329 19th Street North Lethbridge\, Alberta:geo:-112.814634,49.6931758
END:VEVENT
BEGIN:VEVENT
DTSTART;TZID=America/Edmonton:20231025T190000
DTEND;TZID=America/Edmonton:20231025T210000
DTSTAMP:20260422T203305
CREATED:20230922T195825Z
LAST-MODIFIED:20230922T195825Z
UID:10003254-1698260400-1698267600@westminsterchapelpca.ca
SUMMARY:Prayer Meeting
DESCRIPTION:Prayer Meeting\nWith devotion & song at the church. Led by Ron H.
URL:https://westminsterchapelpca.ca/event/prayer-meeting-7/2023-10-25/
LOCATION:Westminister Chapel\, 329 19th Street North Lethbridge\, Alberta\, Lethbridge\, Alberta\, T1J-4A4\, Canada
CATEGORIES:Prayer
GEO:49.6931758;-112.814634
X-APPLE-STRUCTURED-LOCATION;VALUE=URI;X-ADDRESS=Westminister Chapel 329 19th Street North Lethbridge Alberta Lethbridge Alberta T1J-4A4 Canada;X-APPLE-RADIUS=500;X-TITLE=329 19th Street North Lethbridge\, Alberta:geo:-112.814634,49.6931758
END:VEVENT
BEGIN:VEVENT
DTSTART;TZID=America/Edmonton:20231025T094500
DTEND;TZID=America/Edmonton:20231025T114500
DTSTAMP:20260422T203305
CREATED:20230908T012906Z
LAST-MODIFIED:20230908T012941Z
UID:10003203-1698227100-1698234300@westminsterchapelpca.ca
SUMMARY:Women's Bible Study
DESCRIPTION:Coffee 9:45am\, study from 10-11:45am; babysitting is provided. We will be studying the Psalms using ‘Learning to love the Psalms’ by W. Robert Godfrey. Any questions please contact Marian or Tamara. \n 
URL:https://westminsterchapelpca.ca/event/womens-bible-study-2/2023-10-25/
LOCATION:Westminister Chapel\, 329 19th Street North Lethbridge\, Alberta\, Lethbridge\, Alberta\, T1J-4A4\, Canada
CATEGORIES:Bible Study
GEO:49.6931758;-112.814634
X-APPLE-STRUCTURED-LOCATION;VALUE=URI;X-ADDRESS=Westminister Chapel 329 19th Street North Lethbridge Alberta Lethbridge Alberta T1J-4A4 Canada;X-APPLE-RADIUS=500;X-TITLE=329 19th Street North Lethbridge\, Alberta:geo:-112.814634,49.6931758
END:VEVENT
BEGIN:VEVENT
DTSTART;TZID=America/Edmonton:20231022T163000
DTEND;TZID=America/Edmonton:20231022T173000
DTSTAMP:20260422T203305
CREATED:20231020T025229Z
LAST-MODIFIED:20231020T030152Z
UID:10001811-1697992200-1697995800@westminsterchapelpca.ca
SUMMARY:PM Worship
DESCRIPTION:Pastor Adam Harris \nGen 15 \nCross My Heart
URL:https://westminsterchapelpca.ca/event/pm-worship-30/
LOCATION:Westminister Chapel\, 329 19th Street North Lethbridge\, Alberta\, Lethbridge\, Alberta\, T1J-4A4\, Canada
CATEGORIES:Worship Services
GEO:49.6931758;-112.814634
X-APPLE-STRUCTURED-LOCATION;VALUE=URI;X-ADDRESS=Westminister Chapel 329 19th Street North Lethbridge Alberta Lethbridge Alberta T1J-4A4 Canada;X-APPLE-RADIUS=500;X-TITLE=329 19th Street North Lethbridge\, Alberta:geo:-112.814634,49.6931758
END:VEVENT
BEGIN:VEVENT
DTSTART;TZID=America/Edmonton:20231018T190000
DTEND;TZID=America/Edmonton:20231018T210000
DTSTAMP:20260422T203305
CREATED:20230922T200136Z
LAST-MODIFIED:20230922T200136Z
UID:10003262-1697655600-1697662800@westminsterchapelpca.ca
SUMMARY:Youth Study
DESCRIPTION:Youth Study\nWestminster Shorter Catechism. Led by Pastor Adam.
URL:https://westminsterchapelpca.ca/event/youth-study/2023-10-18/
LOCATION:Westminister Chapel\, 329 19th Street North Lethbridge\, Alberta\, Lethbridge\, Alberta\, T1J-4A4\, Canada
CATEGORIES:Youth
GEO:49.6931758;-112.814634
X-APPLE-STRUCTURED-LOCATION;VALUE=URI;X-ADDRESS=Westminister Chapel 329 19th Street North Lethbridge Alberta Lethbridge Alberta T1J-4A4 Canada;X-APPLE-RADIUS=500;X-TITLE=329 19th Street North Lethbridge\, Alberta:geo:-112.814634,49.6931758
END:VEVENT
BEGIN:VEVENT
DTSTART;TZID=America/Edmonton:20231018T094500
DTEND;TZID=America/Edmonton:20231018T114500
DTSTAMP:20260422T203305
CREATED:20230908T012906Z
LAST-MODIFIED:20230908T012941Z
UID:10003202-1697622300-1697629500@westminsterchapelpca.ca
SUMMARY:Women's Bible Study
DESCRIPTION:Coffee 9:45am\, study from 10-11:45am; babysitting is provided. We will be studying the Psalms using ‘Learning to love the Psalms’ by W. Robert Godfrey. Any questions please contact Marian or Tamara. \n 
URL:https://westminsterchapelpca.ca/event/womens-bible-study-2/2023-10-18/
LOCATION:Westminister Chapel\, 329 19th Street North Lethbridge\, Alberta\, Lethbridge\, Alberta\, T1J-4A4\, Canada
CATEGORIES:Bible Study
GEO:49.6931758;-112.814634
X-APPLE-STRUCTURED-LOCATION;VALUE=URI;X-ADDRESS=Westminister Chapel 329 19th Street North Lethbridge Alberta Lethbridge Alberta T1J-4A4 Canada;X-APPLE-RADIUS=500;X-TITLE=329 19th Street North Lethbridge\, Alberta:geo:-112.814634,49.6931758
END:VEVENT
BEGIN:VEVENT
DTSTART;TZID=America/Edmonton:20231015T163000
DTEND;TZID=America/Edmonton:20231015T173000
DTSTAMP:20260422T203305
CREATED:20231013T013735Z
LAST-MODIFIED:20231013T013917Z
UID:10001810-1697387400-1697391000@westminsterchapelpca.ca
SUMMARY:PM Worship
DESCRIPTION:Pastor Adam Harris \nGen 14 \nA Royal Rescue
URL:https://westminsterchapelpca.ca/event/pm-worship-29/
LOCATION:Westminister Chapel\, 329 19th Street North Lethbridge\, Alberta\, Lethbridge\, Alberta\, T1J-4A4\, Canada
CATEGORIES:Worship Services
GEO:49.6931758;-112.814634
X-APPLE-STRUCTURED-LOCATION;VALUE=URI;X-ADDRESS=Westminister Chapel 329 19th Street North Lethbridge Alberta Lethbridge Alberta T1J-4A4 Canada;X-APPLE-RADIUS=500;X-TITLE=329 19th Street North Lethbridge\, Alberta:geo:-112.814634,49.6931758
END:VEVENT
BEGIN:VEVENT
DTSTART;TZID=America/Edmonton:20231014T093000
DTEND;TZID=America/Edmonton:20231014T153000
DTSTAMP:20260422T203305
CREATED:20231006T014839Z
LAST-MODIFIED:20231006T014839Z
UID:10003278-1697275800-1697297400@westminsterchapelpca.ca
SUMMARY:Quilting
DESCRIPTION:Lunch is provided!
URL:https://westminsterchapelpca.ca/event/quilting-2/
LOCATION:Westminister Chapel\, 329 19th Street North Lethbridge\, Alberta\, Lethbridge\, Alberta\, T1J-4A4\, Canada
CATEGORIES:Fellowship
GEO:49.6931758;-112.814634
X-APPLE-STRUCTURED-LOCATION;VALUE=URI;X-ADDRESS=Westminister Chapel 329 19th Street North Lethbridge Alberta Lethbridge Alberta T1J-4A4 Canada;X-APPLE-RADIUS=500;X-TITLE=329 19th Street North Lethbridge\, Alberta:geo:-112.814634,49.6931758
END:VEVENT
BEGIN:VEVENT
DTSTART;TZID=America/Edmonton:20231011T094500
DTEND;TZID=America/Edmonton:20231011T114500
DTSTAMP:20260422T203305
CREATED:20230908T012906Z
LAST-MODIFIED:20230908T012941Z
UID:10003201-1697017500-1697024700@westminsterchapelpca.ca
SUMMARY:Women's Bible Study
DESCRIPTION:Coffee 9:45am\, study from 10-11:45am; babysitting is provided. We will be studying the Psalms using ‘Learning to love the Psalms’ by W. Robert Godfrey. Any questions please contact Marian or Tamara. \n 
URL:https://westminsterchapelpca.ca/event/womens-bible-study-2/2023-10-11/
LOCATION:Westminister Chapel\, 329 19th Street North Lethbridge\, Alberta\, Lethbridge\, Alberta\, T1J-4A4\, Canada
CATEGORIES:Bible Study
GEO:49.6931758;-112.814634
X-APPLE-STRUCTURED-LOCATION;VALUE=URI;X-ADDRESS=Westminister Chapel 329 19th Street North Lethbridge Alberta Lethbridge Alberta T1J-4A4 Canada;X-APPLE-RADIUS=500;X-TITLE=329 19th Street North Lethbridge\, Alberta:geo:-112.814634,49.6931758
END:VEVENT
BEGIN:VEVENT
DTSTART;TZID=America/Edmonton:20231010T190000
DTEND;TZID=America/Edmonton:20231010T220000
DTSTAMP:20260422T203305
CREATED:20230119T215238Z
LAST-MODIFIED:20230119T215238Z
UID:10002624-1696964400-1696975200@westminsterchapelpca.ca
SUMMARY:Session Meeting
DESCRIPTION:
URL:https://westminsterchapelpca.ca/event/session-meeting/2023-10-10/
LOCATION:Westminister Chapel\, 329 19th Street North Lethbridge\, Alberta\, Lethbridge\, Alberta\, T1J-4A4\, Canada
GEO:49.6931758;-112.814634
X-APPLE-STRUCTURED-LOCATION;VALUE=URI;X-ADDRESS=Westminister Chapel 329 19th Street North Lethbridge Alberta Lethbridge Alberta T1J-4A4 Canada;X-APPLE-RADIUS=500;X-TITLE=329 19th Street North Lethbridge\, Alberta:geo:-112.814634,49.6931758
END:VEVENT
BEGIN:VEVENT
DTSTART;TZID=America/Edmonton:20231008T163000
DTEND;TZID=America/Edmonton:20231008T173000
DTSTAMP:20260422T203305
CREATED:20231006T014619Z
LAST-MODIFIED:20231006T014649Z
UID:10001809-1696782600-1696786200@westminsterchapelpca.ca
SUMMARY:PM Worship
DESCRIPTION:Pastor Tom Albaugh \nPsalm 131 \nA Gospel of Childlike Thanks
URL:https://westminsterchapelpca.ca/event/pm-worship-28/
LOCATION:Westminister Chapel\, 329 19th Street North Lethbridge\, Alberta\, Lethbridge\, Alberta\, T1J-4A4\, Canada
CATEGORIES:Worship Services
GEO:49.6931758;-112.814634
X-APPLE-STRUCTURED-LOCATION;VALUE=URI;X-ADDRESS=Westminister Chapel 329 19th Street North Lethbridge Alberta Lethbridge Alberta T1J-4A4 Canada;X-APPLE-RADIUS=500;X-TITLE=329 19th Street North Lethbridge\, Alberta:geo:-112.814634,49.6931758
END:VEVENT
BEGIN:VEVENT
DTSTART;TZID=America/Edmonton:20231005T183000
DTEND;TZID=America/Edmonton:20231005T213000
DTSTAMP:20260422T203305
CREATED:20230922T200900Z
LAST-MODIFIED:20230922T200900Z
UID:10003271-1696530600-1696541400@westminsterchapelpca.ca
SUMMARY:Ladies Fall Fellowship Feast
DESCRIPTION:
URL:https://westminsterchapelpca.ca/event/ladies-fall-fellowship-feast/
LOCATION:Westminister Chapel\, 329 19th Street North Lethbridge\, Alberta\, Lethbridge\, Alberta\, T1J-4A4\, Canada
GEO:49.6931758;-112.814634
X-APPLE-STRUCTURED-LOCATION;VALUE=URI;X-ADDRESS=Westminister Chapel 329 19th Street North Lethbridge Alberta Lethbridge Alberta T1J-4A4 Canada;X-APPLE-RADIUS=500;X-TITLE=329 19th Street North Lethbridge\, Alberta:geo:-112.814634,49.6931758
END:VEVENT
BEGIN:VEVENT
DTSTART;TZID=America/Edmonton:20231004T190000
DTEND;TZID=America/Edmonton:20231004T210000
DTSTAMP:20260422T203305
CREATED:20230916T164723Z
LAST-MODIFIED:20230916T164723Z
UID:10003213-1696446000-1696453200@westminsterchapelpca.ca
SUMMARY:Men's Study
DESCRIPTION:7-9pm: Men’s Study \nKnowing Christ by Mark Jones. Led by Pastor Adam.
URL:https://westminsterchapelpca.ca/event/mens-study/2023-10-04/
LOCATION:Westminister Chapel\, 329 19th Street North Lethbridge\, Alberta\, Lethbridge\, Alberta\, T1J-4A4\, Canada
GEO:49.6931758;-112.814634
X-APPLE-STRUCTURED-LOCATION;VALUE=URI;X-ADDRESS=Westminister Chapel 329 19th Street North Lethbridge Alberta Lethbridge Alberta T1J-4A4 Canada;X-APPLE-RADIUS=500;X-TITLE=329 19th Street North Lethbridge\, Alberta:geo:-112.814634,49.6931758
END:VEVENT
BEGIN:VEVENT
DTSTART;TZID=America/Edmonton:20231004T094500
DTEND;TZID=America/Edmonton:20231004T114500
DTSTAMP:20260422T203305
CREATED:20230908T012906Z
LAST-MODIFIED:20230908T012941Z
UID:10003200-1696412700-1696419900@westminsterchapelpca.ca
SUMMARY:Women's Bible Study
DESCRIPTION:Coffee 9:45am\, study from 10-11:45am; babysitting is provided. We will be studying the Psalms using ‘Learning to love the Psalms’ by W. Robert Godfrey. Any questions please contact Marian or Tamara. \n 
URL:https://westminsterchapelpca.ca/event/womens-bible-study-2/2023-10-04/
LOCATION:Westminister Chapel\, 329 19th Street North Lethbridge\, Alberta\, Lethbridge\, Alberta\, T1J-4A4\, Canada
CATEGORIES:Bible Study
GEO:49.6931758;-112.814634
X-APPLE-STRUCTURED-LOCATION;VALUE=URI;X-ADDRESS=Westminister Chapel 329 19th Street North Lethbridge Alberta Lethbridge Alberta T1J-4A4 Canada;X-APPLE-RADIUS=500;X-TITLE=329 19th Street North Lethbridge\, Alberta:geo:-112.814634,49.6931758
END:VEVENT
END:VCALENDAR