BEGIN:VCALENDAR
VERSION:2.0
PRODID:-//Westminster Chapel - ECPv6.15.13.1//NONSGML v1.0//EN
CALSCALE:GREGORIAN
METHOD:PUBLISH
X-WR-CALNAME:Westminster Chapel
X-ORIGINAL-URL:https://westminsterchapelpca.ca
X-WR-CALDESC:Events for Westminster Chapel
REFRESH-INTERVAL;VALUE=DURATION:PT1H
X-Robots-Tag:noindex
X-PUBLISHED-TTL:PT1H
BEGIN:VTIMEZONE
TZID:America/Edmonton
BEGIN:DAYLIGHT
TZOFFSETFROM:-0700
TZOFFSETTO:-0600
TZNAME:MDT
DTSTART:20220313T090000
END:DAYLIGHT
BEGIN:STANDARD
TZOFFSETFROM:-0600
TZOFFSETTO:-0700
TZNAME:MST
DTSTART:20221106T080000
END:STANDARD
BEGIN:DAYLIGHT
TZOFFSETFROM:-0700
TZOFFSETTO:-0600
TZNAME:MDT
DTSTART:20230312T090000
END:DAYLIGHT
BEGIN:STANDARD
TZOFFSETFROM:-0600
TZOFFSETTO:-0700
TZNAME:MST
DTSTART:20231105T080000
END:STANDARD
BEGIN:DAYLIGHT
TZOFFSETFROM:-0700
TZOFFSETTO:-0600
TZNAME:MDT
DTSTART:20240310T090000
END:DAYLIGHT
BEGIN:STANDARD
TZOFFSETFROM:-0600
TZOFFSETTO:-0700
TZNAME:MST
DTSTART:20241103T080000
END:STANDARD
END:VTIMEZONE
BEGIN:VEVENT
DTSTART;TZID=America/Edmonton:20230625T163000
DTEND;TZID=America/Edmonton:20230625T173000
DTSTAMP:20260423T031124
CREATED:20230623T231206Z
LAST-MODIFIED:20230623T231233Z
UID:10001794-1687710600-1687714200@westminsterchapelpca.ca
SUMMARY:PM Worship
DESCRIPTION:Pastor Adam Harris \nGenesis 10 \nTable of Nations
URL:https://westminsterchapelpca.ca/event/pm-worship-17/
LOCATION:Westminister Chapel\, 329 19th Street North Lethbridge\, Alberta\, Lethbridge\, Alberta\, T1J-4A4\, Canada
CATEGORIES:Worship Services
GEO:49.6931758;-112.814634
X-APPLE-STRUCTURED-LOCATION;VALUE=URI;X-ADDRESS=Westminister Chapel 329 19th Street North Lethbridge Alberta Lethbridge Alberta T1J-4A4 Canada;X-APPLE-RADIUS=500;X-TITLE=329 19th Street North Lethbridge\, Alberta:geo:-112.814634,49.6931758
END:VEVENT
BEGIN:VEVENT
DTSTART;TZID=America/Edmonton:20230618T163000
DTEND;TZID=America/Edmonton:20230618T173000
DTSTAMP:20260423T031124
CREATED:20230616T030258Z
LAST-MODIFIED:20230616T030333Z
UID:10001793-1687105800-1687109400@westminsterchapelpca.ca
SUMMARY:PM Worship
DESCRIPTION:Pastor Jim Zondervan \nMatthew 6:25-34 \n“Consider the Lilies”
URL:https://westminsterchapelpca.ca/event/pm-worship-16/
LOCATION:Westminister Chapel\, 329 19th Street North Lethbridge\, Alberta\, Lethbridge\, Alberta\, T1J-4A4\, Canada
CATEGORIES:Worship Services
GEO:49.6931758;-112.814634
X-APPLE-STRUCTURED-LOCATION;VALUE=URI;X-ADDRESS=Westminister Chapel 329 19th Street North Lethbridge Alberta Lethbridge Alberta T1J-4A4 Canada;X-APPLE-RADIUS=500;X-TITLE=329 19th Street North Lethbridge\, Alberta:geo:-112.814634,49.6931758
END:VEVENT
BEGIN:VEVENT
DTSTART;TZID=America/Edmonton:20230613T190000
DTEND;TZID=America/Edmonton:20230613T220000
DTSTAMP:20260423T031124
CREATED:20230119T215238Z
LAST-MODIFIED:20230119T215238Z
UID:10002620-1686682800-1686693600@westminsterchapelpca.ca
SUMMARY:Session Meeting
DESCRIPTION:
URL:https://westminsterchapelpca.ca/event/session-meeting/2023-06-13/
LOCATION:Westminister Chapel\, 329 19th Street North Lethbridge\, Alberta\, Lethbridge\, Alberta\, T1J-4A4\, Canada
GEO:49.6931758;-112.814634
X-APPLE-STRUCTURED-LOCATION;VALUE=URI;X-ADDRESS=Westminister Chapel 329 19th Street North Lethbridge Alberta Lethbridge Alberta T1J-4A4 Canada;X-APPLE-RADIUS=500;X-TITLE=329 19th Street North Lethbridge\, Alberta:geo:-112.814634,49.6931758
END:VEVENT
BEGIN:VEVENT
DTSTART;TZID=America/Edmonton:20230611T163000
DTEND;TZID=America/Edmonton:20230611T173000
DTSTAMP:20260423T031124
CREATED:20230609T003623Z
LAST-MODIFIED:20230609T003656Z
UID:10001792-1686501000-1686504600@westminsterchapelpca.ca
SUMMARY:PM Worship
DESCRIPTION:Pastor Adam Harris \nGen 9:18-29 \nCanaan’s Curse
URL:https://westminsterchapelpca.ca/event/pm-worship-15/
LOCATION:Westminister Chapel\, 329 19th Street North Lethbridge\, Alberta\, Lethbridge\, Alberta\, T1J-4A4\, Canada
CATEGORIES:Worship Services
GEO:49.6931758;-112.814634
X-APPLE-STRUCTURED-LOCATION;VALUE=URI;X-ADDRESS=Westminister Chapel 329 19th Street North Lethbridge Alberta Lethbridge Alberta T1J-4A4 Canada;X-APPLE-RADIUS=500;X-TITLE=329 19th Street North Lethbridge\, Alberta:geo:-112.814634,49.6931758
END:VEVENT
BEGIN:VEVENT
DTSTART;TZID=America/Edmonton:20230528T163000
DTEND;TZID=America/Edmonton:20230528T173000
DTSTAMP:20260423T031124
CREATED:20230526T013531Z
LAST-MODIFIED:20230526T015529Z
UID:10001790-1685291400-1685295000@westminsterchapelpca.ca
SUMMARY:PM Worship
DESCRIPTION:Pastor Cameron Fraser \nRevelation 3: 14-22 \nChrist Is Knocking at Your Door
URL:https://westminsterchapelpca.ca/event/pm-worship-14/
LOCATION:Westminister Chapel\, 329 19th Street North Lethbridge\, Alberta\, Lethbridge\, Alberta\, T1J-4A4\, Canada
CATEGORIES:Worship Services
GEO:49.6931758;-112.814634
X-APPLE-STRUCTURED-LOCATION;VALUE=URI;X-ADDRESS=Westminister Chapel 329 19th Street North Lethbridge Alberta Lethbridge Alberta T1J-4A4 Canada;X-APPLE-RADIUS=500;X-TITLE=329 19th Street North Lethbridge\, Alberta:geo:-112.814634,49.6931758
END:VEVENT
BEGIN:VEVENT
DTSTART;TZID=America/Edmonton:20230521T163000
DTEND;TZID=America/Edmonton:20230521T173000
DTSTAMP:20260423T031124
CREATED:20230520T015148Z
LAST-MODIFIED:20230520T015240Z
UID:10001789-1684686600-1684690200@westminsterchapelpca.ca
SUMMARY:PM Worship
DESCRIPTION:Pastor Adam Harris \nGen 9:1-17 \nPromised Preservation
URL:https://westminsterchapelpca.ca/event/sunday-pm-worship-28-2022-05-22-4-4/
LOCATION:Westminister Chapel\, 329 19th Street North Lethbridge\, Alberta\, Lethbridge\, Alberta\, T1J-4A4\, Canada
CATEGORIES:Worship Services
GEO:49.6931758;-112.814634
X-APPLE-STRUCTURED-LOCATION;VALUE=URI;X-ADDRESS=Westminister Chapel 329 19th Street North Lethbridge Alberta Lethbridge Alberta T1J-4A4 Canada;X-APPLE-RADIUS=500;X-TITLE=329 19th Street North Lethbridge\, Alberta:geo:-112.814634,49.6931758
END:VEVENT
BEGIN:VEVENT
DTSTART;TZID=America/Edmonton:20230514T163000
DTEND;TZID=America/Edmonton:20230514T173000
DTSTAMP:20260423T031124
CREATED:20230512T190653Z
LAST-MODIFIED:20230512T190722Z
UID:10001788-1684081800-1684085400@westminsterchapelpca.ca
SUMMARY:PM Worship
DESCRIPTION:Pastor Rohan Crown \nPsalm 18 \nWhy God Is Great
URL:https://westminsterchapelpca.ca/event/pm-worship-13/
LOCATION:Westminister Chapel\, 329 19th Street North Lethbridge\, Alberta\, Lethbridge\, Alberta\, T1J-4A4\, Canada
CATEGORIES:Worship Services
GEO:49.6931758;-112.814634
X-APPLE-STRUCTURED-LOCATION;VALUE=URI;X-ADDRESS=Westminister Chapel 329 19th Street North Lethbridge Alberta Lethbridge Alberta T1J-4A4 Canada;X-APPLE-RADIUS=500;X-TITLE=329 19th Street North Lethbridge\, Alberta:geo:-112.814634,49.6931758
END:VEVENT
BEGIN:VEVENT
DTSTART;TZID=America/Edmonton:20230509T190000
DTEND;TZID=America/Edmonton:20230509T220000
DTSTAMP:20260423T031124
CREATED:20230119T215238Z
LAST-MODIFIED:20230119T215238Z
UID:10002619-1683658800-1683669600@westminsterchapelpca.ca
SUMMARY:Session Meeting
DESCRIPTION:
URL:https://westminsterchapelpca.ca/event/session-meeting/2023-05-09/
LOCATION:Westminister Chapel\, 329 19th Street North Lethbridge\, Alberta\, Lethbridge\, Alberta\, T1J-4A4\, Canada
GEO:49.6931758;-112.814634
X-APPLE-STRUCTURED-LOCATION;VALUE=URI;X-ADDRESS=Westminister Chapel 329 19th Street North Lethbridge Alberta Lethbridge Alberta T1J-4A4 Canada;X-APPLE-RADIUS=500;X-TITLE=329 19th Street North Lethbridge\, Alberta:geo:-112.814634,49.6931758
END:VEVENT
BEGIN:VEVENT
DTSTART;TZID=America/Edmonton:20230507T120000
DTEND;TZID=America/Edmonton:20230507T150000
DTSTAMP:20260423T031124
CREATED:20230505T003609Z
LAST-MODIFIED:20230505T003609Z
UID:10002712-1683460800-1683471600@westminsterchapelpca.ca
SUMMARY:Community Groups
DESCRIPTION:Meeting for fellowship in each others homes
URL:https://westminsterchapelpca.ca/event/community-groups-6/
LOCATION:Westminister Chapel\, 329 19th Street North Lethbridge\, Alberta\, Lethbridge\, Alberta\, T1J-4A4\, Canada
GEO:49.6931758;-112.814634
X-APPLE-STRUCTURED-LOCATION;VALUE=URI;X-ADDRESS=Westminister Chapel 329 19th Street North Lethbridge Alberta Lethbridge Alberta T1J-4A4 Canada;X-APPLE-RADIUS=500;X-TITLE=329 19th Street North Lethbridge\, Alberta:geo:-112.814634,49.6931758
END:VEVENT
BEGIN:VEVENT
DTSTART;TZID=America/Edmonton:20230430T163000
DTEND;TZID=America/Edmonton:20230430T173000
DTSTAMP:20260423T031124
CREATED:20230428T213108Z
LAST-MODIFIED:20230428T213132Z
UID:10001786-1682872200-1682875800@westminsterchapelpca.ca
SUMMARY:PM Worship
DESCRIPTION:Pastor Adam Harris \nGen 8 \nCreation Reborn
URL:https://westminsterchapelpca.ca/event/pm-worship-12/
LOCATION:Westminister Chapel\, 329 19th Street North Lethbridge\, Alberta\, Lethbridge\, Alberta\, T1J-4A4\, Canada
CATEGORIES:Worship Services
GEO:49.6931758;-112.814634
X-APPLE-STRUCTURED-LOCATION;VALUE=URI;X-ADDRESS=Westminister Chapel 329 19th Street North Lethbridge Alberta Lethbridge Alberta T1J-4A4 Canada;X-APPLE-RADIUS=500;X-TITLE=329 19th Street North Lethbridge\, Alberta:geo:-112.814634,49.6931758
END:VEVENT
BEGIN:VEVENT
DTSTART;TZID=America/Edmonton:20230425T190000
DTEND;TZID=America/Edmonton:20230425T201500
DTSTAMP:20260423T031124
CREATED:20230421T235005Z
LAST-MODIFIED:20230421T235120Z
UID:10002513-1682449200-1682453700@westminsterchapelpca.ca
SUMMARY:Tuesday Evening Bible Study
DESCRIPTION:Final meeting of the season concluding the study of Matthew 13\, “Kingdom Stories”\, on the WordGo App.
URL:https://westminsterchapelpca.ca/event/tuesday-evening-bible-study-6-2-2/
LOCATION:Westminister Chapel\, 329 19th Street North Lethbridge\, Alberta\, Lethbridge\, Alberta\, T1J-4A4\, Canada
GEO:49.6931758;-112.814634
X-APPLE-STRUCTURED-LOCATION;VALUE=URI;X-ADDRESS=Westminister Chapel 329 19th Street North Lethbridge Alberta Lethbridge Alberta T1J-4A4 Canada;X-APPLE-RADIUS=500;X-TITLE=329 19th Street North Lethbridge\, Alberta:geo:-112.814634,49.6931758
END:VEVENT
BEGIN:VEVENT
DTSTART;TZID=America/Edmonton:20230423T163000
DTEND;TZID=America/Edmonton:20230423T173000
DTSTAMP:20260423T031124
CREATED:20230421T232255Z
LAST-MODIFIED:20230421T232322Z
UID:10001785-1682267400-1682271000@westminsterchapelpca.ca
SUMMARY:PM Worship
DESCRIPTION:Pastor Adam Harris \n Gen 7 \nA Watery Grave
URL:https://westminsterchapelpca.ca/event/pm-worship-11/
LOCATION:Westminister Chapel\, 329 19th Street North Lethbridge\, Alberta\, Lethbridge\, Alberta\, T1J-4A4\, Canada
CATEGORIES:Worship Services
GEO:49.6931758;-112.814634
X-APPLE-STRUCTURED-LOCATION;VALUE=URI;X-ADDRESS=Westminister Chapel 329 19th Street North Lethbridge Alberta Lethbridge Alberta T1J-4A4 Canada;X-APPLE-RADIUS=500;X-TITLE=329 19th Street North Lethbridge\, Alberta:geo:-112.814634,49.6931758
END:VEVENT
BEGIN:VEVENT
DTSTART;TZID=America/Edmonton:20230423T113000
DTEND;TZID=America/Edmonton:20230423T120000
DTSTAMP:20260423T031124
CREATED:20230303T023154Z
LAST-MODIFIED:20230407T152348Z
UID:10002656-1682249400-1682251200@westminsterchapelpca.ca
SUMMARY:Canadian Food Grains Bank
DESCRIPTION:Canadian Food Grains Bank Presentation immediately following AM service.
URL:https://westminsterchapelpca.ca/event/canadian-food-grains-bank/
LOCATION:Westminister Chapel\, 329 19th Street North Lethbridge\, Alberta\, Lethbridge\, Alberta\, T1J-4A4\, Canada
CATEGORIES:Presentation
GEO:49.6931758;-112.814634
X-APPLE-STRUCTURED-LOCATION;VALUE=URI;X-ADDRESS=Westminister Chapel 329 19th Street North Lethbridge Alberta Lethbridge Alberta T1J-4A4 Canada;X-APPLE-RADIUS=500;X-TITLE=329 19th Street North Lethbridge\, Alberta:geo:-112.814634,49.6931758
END:VEVENT
BEGIN:VEVENT
DTSTART;TZID=America/Edmonton:20230418T190000
DTEND;TZID=America/Edmonton:20230418T201500
DTSTAMP:20260423T031124
CREATED:20230324T014112Z
LAST-MODIFIED:20230324T014112Z
UID:10002512-1681844400-1681848900@westminsterchapelpca.ca
SUMMARY:Tuesday Evening Bible Study
DESCRIPTION:Details soon.
URL:https://westminsterchapelpca.ca/event/tuesday-evening-bible-study-6/2023-04-18/
LOCATION:Westminister Chapel\, 329 19th Street North Lethbridge\, Alberta\, Lethbridge\, Alberta\, T1J-4A4\, Canada
GEO:49.6931758;-112.814634
X-APPLE-STRUCTURED-LOCATION;VALUE=URI;X-ADDRESS=Westminister Chapel 329 19th Street North Lethbridge Alberta Lethbridge Alberta T1J-4A4 Canada;X-APPLE-RADIUS=500;X-TITLE=329 19th Street North Lethbridge\, Alberta:geo:-112.814634,49.6931758
END:VEVENT
BEGIN:VEVENT
DTSTART;TZID=America/Edmonton:20230416T163000
DTEND;TZID=America/Edmonton:20230416T173000
DTSTAMP:20260423T031124
CREATED:20230414T185150Z
LAST-MODIFIED:20230414T185218Z
UID:10001784-1681662600-1681666200@westminsterchapelpca.ca
SUMMARY:PM Worship
DESCRIPTION:Pastor Tom Albaugh \n2 Corinthians 5:1-5 \nDeath Is Not the End of the Story
URL:https://westminsterchapelpca.ca/event/pm-worship-10/
LOCATION:Westminister Chapel\, 329 19th Street North Lethbridge\, Alberta\, Lethbridge\, Alberta\, T1J-4A4\, Canada
CATEGORIES:Worship Services
GEO:49.6931758;-112.814634
X-APPLE-STRUCTURED-LOCATION;VALUE=URI;X-ADDRESS=Westminister Chapel 329 19th Street North Lethbridge Alberta Lethbridge Alberta T1J-4A4 Canada;X-APPLE-RADIUS=500;X-TITLE=329 19th Street North Lethbridge\, Alberta:geo:-112.814634,49.6931758
END:VEVENT
BEGIN:VEVENT
DTSTART;TZID=America/Edmonton:20230411T190000
DTEND;TZID=America/Edmonton:20230411T220000
DTSTAMP:20260423T031124
CREATED:20230119T215238Z
LAST-MODIFIED:20230119T215238Z
UID:10002618-1681239600-1681250400@westminsterchapelpca.ca
SUMMARY:Session Meeting
DESCRIPTION:
URL:https://westminsterchapelpca.ca/event/session-meeting/2023-04-11/
LOCATION:Westminister Chapel\, 329 19th Street North Lethbridge\, Alberta\, Lethbridge\, Alberta\, T1J-4A4\, Canada
GEO:49.6931758;-112.814634
X-APPLE-STRUCTURED-LOCATION;VALUE=URI;X-ADDRESS=Westminister Chapel 329 19th Street North Lethbridge Alberta Lethbridge Alberta T1J-4A4 Canada;X-APPLE-RADIUS=500;X-TITLE=329 19th Street North Lethbridge\, Alberta:geo:-112.814634,49.6931758
END:VEVENT
BEGIN:VEVENT
DTSTART;TZID=America/Edmonton:20230411T190000
DTEND;TZID=America/Edmonton:20230411T201500
DTSTAMP:20260423T031124
CREATED:20230324T014112Z
LAST-MODIFIED:20230324T014112Z
UID:10002511-1681239600-1681244100@westminsterchapelpca.ca
SUMMARY:Tuesday Evening Bible Study
DESCRIPTION:Details soon.
URL:https://westminsterchapelpca.ca/event/tuesday-evening-bible-study-6/2023-04-11/
LOCATION:Westminister Chapel\, 329 19th Street North Lethbridge\, Alberta\, Lethbridge\, Alberta\, T1J-4A4\, Canada
GEO:49.6931758;-112.814634
X-APPLE-STRUCTURED-LOCATION;VALUE=URI;X-ADDRESS=Westminister Chapel 329 19th Street North Lethbridge Alberta Lethbridge Alberta T1J-4A4 Canada;X-APPLE-RADIUS=500;X-TITLE=329 19th Street North Lethbridge\, Alberta:geo:-112.814634,49.6931758
END:VEVENT
BEGIN:VEVENT
DTSTART;TZID=America/Edmonton:20230409T163000
DTEND;TZID=America/Edmonton:20230409T173000
DTSTAMP:20260423T031124
CREATED:20230407T151543Z
LAST-MODIFIED:20230407T151617Z
UID:10001783-1681057800-1681061400@westminsterchapelpca.ca
SUMMARY:PM Worship
DESCRIPTION:Pastor Adam Harris \nGen 6:9-22 \nThe Ark of Salvation
URL:https://westminsterchapelpca.ca/event/pm-worship-9/
LOCATION:Westminister Chapel\, 329 19th Street North Lethbridge\, Alberta\, Lethbridge\, Alberta\, T1J-4A4\, Canada
CATEGORIES:Worship Services
GEO:49.6931758;-112.814634
X-APPLE-STRUCTURED-LOCATION;VALUE=URI;X-ADDRESS=Westminister Chapel 329 19th Street North Lethbridge Alberta Lethbridge Alberta T1J-4A4 Canada;X-APPLE-RADIUS=500;X-TITLE=329 19th Street North Lethbridge\, Alberta:geo:-112.814634,49.6931758
END:VEVENT
BEGIN:VEVENT
DTSTART;TZID=America/Edmonton:20230407T180000
DTEND;TZID=America/Edmonton:20230407T190000
DTSTAMP:20260423T031124
CREATED:20230324T014835Z
LAST-MODIFIED:20230407T145123Z
UID:10002680-1680890400-1680894000@westminsterchapelpca.ca
SUMMARY:Good Friday Service
DESCRIPTION:Pastor Adam Harris \nMark 15:1-15 \nThe Silent Substitute
URL:https://westminsterchapelpca.ca/event/good-friday-service-2/
LOCATION:Westminister Chapel\, 329 19th Street North Lethbridge\, Alberta\, Lethbridge\, Alberta\, T1J-4A4\, Canada
CATEGORIES:Worship Services
GEO:49.6931758;-112.814634
X-APPLE-STRUCTURED-LOCATION;VALUE=URI;X-ADDRESS=Westminister Chapel 329 19th Street North Lethbridge Alberta Lethbridge Alberta T1J-4A4 Canada;X-APPLE-RADIUS=500;X-TITLE=329 19th Street North Lethbridge\, Alberta:geo:-112.814634,49.6931758
END:VEVENT
BEGIN:VEVENT
DTSTART;TZID=America/Edmonton:20230404T190000
DTEND;TZID=America/Edmonton:20230404T201500
DTSTAMP:20260423T031124
CREATED:20230324T013954Z
LAST-MODIFIED:20230324T013955Z
UID:10002510-1680634800-1680639300@westminsterchapelpca.ca
SUMMARY:Tuesday Evening Bible Study
DESCRIPTION:The women’s Tuesday evening Study will take a two week break. We will resume meeting\, on Tuesday\, April 11th\, for a short study. More details to follow.
URL:https://westminsterchapelpca.ca/event/tuesday-evening-bible-study-5/
LOCATION:Westminister Chapel\, 329 19th Street North Lethbridge\, Alberta\, Lethbridge\, Alberta\, T1J-4A4\, Canada
GEO:49.6931758;-112.814634
X-APPLE-STRUCTURED-LOCATION;VALUE=URI;X-ADDRESS=Westminister Chapel 329 19th Street North Lethbridge Alberta Lethbridge Alberta T1J-4A4 Canada;X-APPLE-RADIUS=500;X-TITLE=329 19th Street North Lethbridge\, Alberta:geo:-112.814634,49.6931758
END:VEVENT
BEGIN:VEVENT
DTSTART;TZID=America/Edmonton:20230401T080000
DTEND;TZID=America/Edmonton:20230401T103000
DTSTAMP:20260423T031124
CREATED:20230119T213622Z
LAST-MODIFIED:20230217T024840Z
UID:10002589-1680336000-1680345000@westminsterchapelpca.ca
SUMMARY:Saturday Morning Men's Breakfast Bible Study
DESCRIPTION:Breakfast from 8 -8:45am followed by the study from 9 -10:30 am study. \nThe study is based on “Family Shepherds: Calling and Equipping Men to Lead Their Homes”\, by Voddie Baucham.
URL:https://westminsterchapelpca.ca/event/saturday-morning-mens-breakfast-bible-study/2023-04-01/
LOCATION:Westminister Chapel\, 329 19th Street North Lethbridge\, Alberta\, Lethbridge\, Alberta\, T1J-4A4\, Canada
GEO:49.6931758;-112.814634
X-APPLE-STRUCTURED-LOCATION;VALUE=URI;X-ADDRESS=Westminister Chapel 329 19th Street North Lethbridge Alberta Lethbridge Alberta T1J-4A4 Canada;X-APPLE-RADIUS=500;X-TITLE=329 19th Street North Lethbridge\, Alberta:geo:-112.814634,49.6931758
END:VEVENT
BEGIN:VEVENT
DTSTART;TZID=America/Edmonton:20230328T190000
DTEND;TZID=America/Edmonton:20230328T201500
DTSTAMP:20260423T031124
CREATED:20230324T013735Z
LAST-MODIFIED:20230324T014340Z
UID:10002509-1680030000-1680034500@westminsterchapelpca.ca
SUMMARY:Tuesday Evening Bible Study
DESCRIPTION:The women’s Tuesday evening Study will take a two week break. We will resume meeting\, on Tuesday\, April 11th\, for a short study. More details to follow.
URL:https://westminsterchapelpca.ca/event/tuesday-evening-bible-study-4/
LOCATION:Westminister Chapel\, 329 19th Street North Lethbridge\, Alberta\, Lethbridge\, Alberta\, T1J-4A4\, Canada
GEO:49.6931758;-112.814634
X-APPLE-STRUCTURED-LOCATION;VALUE=URI;X-ADDRESS=Westminister Chapel 329 19th Street North Lethbridge Alberta Lethbridge Alberta T1J-4A4 Canada;X-APPLE-RADIUS=500;X-TITLE=329 19th Street North Lethbridge\, Alberta:geo:-112.814634,49.6931758
END:VEVENT
BEGIN:VEVENT
DTSTART;TZID=America/Edmonton:20230326T163000
DTEND;TZID=America/Edmonton:20230326T173000
DTSTAMP:20260423T031124
CREATED:20230324T013217Z
LAST-MODIFIED:20230324T013312Z
UID:10001781-1679848200-1679851800@westminsterchapelpca.ca
SUMMARY:PM Worship
DESCRIPTION:Pastor Adam Harris \nGen 6:1-8 \nThe Grief of God \n 
URL:https://westminsterchapelpca.ca/event/pm-worship-8/
LOCATION:Westminister Chapel\, 329 19th Street North Lethbridge\, Alberta\, Lethbridge\, Alberta\, T1J-4A4\, Canada
CATEGORIES:Worship Services
GEO:49.6931758;-112.814634
X-APPLE-STRUCTURED-LOCATION;VALUE=URI;X-ADDRESS=Westminister Chapel 329 19th Street North Lethbridge Alberta Lethbridge Alberta T1J-4A4 Canada;X-APPLE-RADIUS=500;X-TITLE=329 19th Street North Lethbridge\, Alberta:geo:-112.814634,49.6931758
END:VEVENT
BEGIN:VEVENT
DTSTART;TZID=America/Edmonton:20230321T190000
DTEND;TZID=America/Edmonton:20230321T201500
DTSTAMP:20260423T031124
CREATED:20230309T225444Z
LAST-MODIFIED:20230309T225843Z
UID:10002508-1679425200-1679429700@westminsterchapelpca.ca
SUMMARY:Tuesday Evening Bible Study
DESCRIPTION:The Tuesday evening women’s Bible study meets from 7:00pm-8:15pm. We will be studying Contentment by Melissa Kruger.
URL:https://westminsterchapelpca.ca/event/tuesday-evening-bible-study-3/
LOCATION:Westminister Chapel\, 329 19th Street North Lethbridge\, Alberta\, Lethbridge\, Alberta\, T1J-4A4\, Canada
GEO:49.6931758;-112.814634
X-APPLE-STRUCTURED-LOCATION;VALUE=URI;X-ADDRESS=Westminister Chapel 329 19th Street North Lethbridge Alberta Lethbridge Alberta T1J-4A4 Canada;X-APPLE-RADIUS=500;X-TITLE=329 19th Street North Lethbridge\, Alberta:geo:-112.814634,49.6931758
END:VEVENT
BEGIN:VEVENT
DTSTART;TZID=America/Edmonton:20230319T163000
DTEND;TZID=America/Edmonton:20230319T173000
DTSTAMP:20260423T031124
CREATED:20230316T202600Z
LAST-MODIFIED:20230316T202601Z
UID:10001780-1679243400-1679247000@westminsterchapelpca.ca
SUMMARY:PM Worship
DESCRIPTION:Pastor Harris \nGen 5:1-32 \nA Line of Hope
URL:https://westminsterchapelpca.ca/event/sunday-pm-worship-28-2022-05-22-4-3/
LOCATION:Westminister Chapel\, 329 19th Street North Lethbridge\, Alberta\, Lethbridge\, Alberta\, T1J-4A4\, Canada
CATEGORIES:Worship Services
GEO:49.6931758;-112.814634
X-APPLE-STRUCTURED-LOCATION;VALUE=URI;X-ADDRESS=Westminister Chapel 329 19th Street North Lethbridge Alberta Lethbridge Alberta T1J-4A4 Canada;X-APPLE-RADIUS=500;X-TITLE=329 19th Street North Lethbridge\, Alberta:geo:-112.814634,49.6931758
END:VEVENT
BEGIN:VEVENT
DTSTART;TZID=America/Edmonton:20230318T080000
DTEND;TZID=America/Edmonton:20230318T103000
DTSTAMP:20260423T031124
CREATED:20230119T213622Z
LAST-MODIFIED:20230217T024840Z
UID:10002588-1679126400-1679135400@westminsterchapelpca.ca
SUMMARY:Saturday Morning Men's Breakfast Bible Study
DESCRIPTION:Breakfast from 8 -8:45am followed by the study from 9 -10:30 am study. \nThe study is based on “Family Shepherds: Calling and Equipping Men to Lead Their Homes”\, by Voddie Baucham.
URL:https://westminsterchapelpca.ca/event/saturday-morning-mens-breakfast-bible-study/2023-03-18/
LOCATION:Westminister Chapel\, 329 19th Street North Lethbridge\, Alberta\, Lethbridge\, Alberta\, T1J-4A4\, Canada
GEO:49.6931758;-112.814634
X-APPLE-STRUCTURED-LOCATION;VALUE=URI;X-ADDRESS=Westminister Chapel 329 19th Street North Lethbridge Alberta Lethbridge Alberta T1J-4A4 Canada;X-APPLE-RADIUS=500;X-TITLE=329 19th Street North Lethbridge\, Alberta:geo:-112.814634,49.6931758
END:VEVENT
BEGIN:VEVENT
DTSTART;TZID=America/Edmonton:20230315T190000
DTEND;TZID=America/Edmonton:20230315T210000
DTSTAMP:20260423T031124
CREATED:20230303T022907Z
LAST-MODIFIED:20230303T022907Z
UID:10002655-1678906800-1678914000@westminsterchapelpca.ca
SUMMARY:Annual General Meeting
DESCRIPTION:
URL:https://westminsterchapelpca.ca/event/annual-general-meeting/
LOCATION:Westminister Chapel\, 329 19th Street North Lethbridge\, Alberta\, Lethbridge\, Alberta\, T1J-4A4\, Canada
CATEGORIES:Meeting
GEO:49.6931758;-112.814634
X-APPLE-STRUCTURED-LOCATION;VALUE=URI;X-ADDRESS=Westminister Chapel 329 19th Street North Lethbridge Alberta Lethbridge Alberta T1J-4A4 Canada;X-APPLE-RADIUS=500;X-TITLE=329 19th Street North Lethbridge\, Alberta:geo:-112.814634,49.6931758
END:VEVENT
BEGIN:VEVENT
DTSTART;TZID=America/Edmonton:20230314T190000
DTEND;TZID=America/Edmonton:20230314T220000
DTSTAMP:20260423T031124
CREATED:20230119T215238Z
LAST-MODIFIED:20230119T215238Z
UID:10002617-1678820400-1678831200@westminsterchapelpca.ca
SUMMARY:Session Meeting
DESCRIPTION:
URL:https://westminsterchapelpca.ca/event/session-meeting/2023-03-14/
LOCATION:Westminister Chapel\, 329 19th Street North Lethbridge\, Alberta\, Lethbridge\, Alberta\, T1J-4A4\, Canada
GEO:49.6931758;-112.814634
X-APPLE-STRUCTURED-LOCATION;VALUE=URI;X-ADDRESS=Westminister Chapel 329 19th Street North Lethbridge Alberta Lethbridge Alberta T1J-4A4 Canada;X-APPLE-RADIUS=500;X-TITLE=329 19th Street North Lethbridge\, Alberta:geo:-112.814634,49.6931758
END:VEVENT
BEGIN:VEVENT
DTSTART;TZID=America/Edmonton:20230314T190000
DTEND;TZID=America/Edmonton:20230314T201500
DTSTAMP:20260423T031124
CREATED:20230309T225137Z
LAST-MODIFIED:20230309T225332Z
UID:10002507-1678820400-1678824900@westminsterchapelpca.ca
SUMMARY:Tuesday Evening Bible Study
DESCRIPTION:The ladies continue in their study\, “Contentment” by Melissa Kruger\, this Tuesday\, March 7th. We will meet from 7:00 pm and will be discussing lesson 8. If you have any questions\, please contact Victoria de Groot.
URL:https://westminsterchapelpca.ca/event/tuesday-evening-bible-study-2/
LOCATION:Westminister Chapel\, 329 19th Street North Lethbridge\, Alberta\, Lethbridge\, Alberta\, T1J-4A4\, Canada
GEO:49.6931758;-112.814634
X-APPLE-STRUCTURED-LOCATION;VALUE=URI;X-ADDRESS=Westminister Chapel 329 19th Street North Lethbridge Alberta Lethbridge Alberta T1J-4A4 Canada;X-APPLE-RADIUS=500;X-TITLE=329 19th Street North Lethbridge\, Alberta:geo:-112.814634,49.6931758
END:VEVENT
BEGIN:VEVENT
DTSTART;TZID=America/Edmonton:20230312T163000
DTEND;TZID=America/Edmonton:20230312T173000
DTSTAMP:20260423T031124
CREATED:20230311T001218Z
LAST-MODIFIED:20230311T001257Z
UID:10001779-1678638600-1678642200@westminsterchapelpca.ca
SUMMARY:PM Worship
DESCRIPTION:Pastor George Koopmans \nJohn 14:1-7 \nHe Prepared a Place for Us
URL:https://westminsterchapelpca.ca/event/pm-worship-7/
LOCATION:Westminister Chapel\, 329 19th Street North Lethbridge\, Alberta\, Lethbridge\, Alberta\, T1J-4A4\, Canada
CATEGORIES:Worship Services
GEO:49.6931758;-112.814634
X-APPLE-STRUCTURED-LOCATION;VALUE=URI;X-ADDRESS=Westminister Chapel 329 19th Street North Lethbridge Alberta Lethbridge Alberta T1J-4A4 Canada;X-APPLE-RADIUS=500;X-TITLE=329 19th Street North Lethbridge\, Alberta:geo:-112.814634,49.6931758
END:VEVENT
END:VCALENDAR