BEGIN:VCALENDAR
VERSION:2.0
PRODID:-//Westminster Chapel - ECPv6.15.13.1//NONSGML v1.0//EN
CALSCALE:GREGORIAN
METHOD:PUBLISH
X-ORIGINAL-URL:https://westminsterchapelpca.ca
X-WR-CALDESC:Events for Westminster Chapel
REFRESH-INTERVAL;VALUE=DURATION:PT1H
X-Robots-Tag:noindex
X-PUBLISHED-TTL:PT1H
BEGIN:VTIMEZONE
TZID:America/Edmonton
BEGIN:DAYLIGHT
TZOFFSETFROM:-0700
TZOFFSETTO:-0600
TZNAME:MDT
DTSTART:20220313T090000
END:DAYLIGHT
BEGIN:STANDARD
TZOFFSETFROM:-0600
TZOFFSETTO:-0700
TZNAME:MST
DTSTART:20221106T080000
END:STANDARD
BEGIN:DAYLIGHT
TZOFFSETFROM:-0700
TZOFFSETTO:-0600
TZNAME:MDT
DTSTART:20230312T090000
END:DAYLIGHT
BEGIN:STANDARD
TZOFFSETFROM:-0600
TZOFFSETTO:-0700
TZNAME:MST
DTSTART:20231105T080000
END:STANDARD
BEGIN:DAYLIGHT
TZOFFSETFROM:-0700
TZOFFSETTO:-0600
TZNAME:MDT
DTSTART:20240310T090000
END:DAYLIGHT
BEGIN:STANDARD
TZOFFSETFROM:-0600
TZOFFSETTO:-0700
TZNAME:MST
DTSTART:20241103T080000
END:STANDARD
END:VTIMEZONE
BEGIN:VEVENT
DTSTART;TZID=America/Edmonton:20230401T080000
DTEND;TZID=America/Edmonton:20230401T103000
DTSTAMP:20260423T060626
CREATED:20230119T213622Z
LAST-MODIFIED:20230217T024840Z
UID:10002589-1680336000-1680345000@westminsterchapelpca.ca
SUMMARY:Saturday Morning Men's Breakfast Bible Study
DESCRIPTION:Breakfast from 8 -8:45am followed by the study from 9 -10:30 am study. \nThe study is based on “Family Shepherds: Calling and Equipping Men to Lead Their Homes”\, by Voddie Baucham.
URL:https://westminsterchapelpca.ca/event/saturday-morning-mens-breakfast-bible-study/2023-04-01/
LOCATION:Westminister Chapel\, 329 19th Street North Lethbridge\, Alberta\, Lethbridge\, Alberta\, T1J-4A4\, Canada
GEO:49.6931758;-112.814634
X-APPLE-STRUCTURED-LOCATION;VALUE=URI;X-ADDRESS=Westminister Chapel 329 19th Street North Lethbridge Alberta Lethbridge Alberta T1J-4A4 Canada;X-APPLE-RADIUS=500;X-TITLE=329 19th Street North Lethbridge\, Alberta:geo:-112.814634,49.6931758
END:VEVENT
BEGIN:VEVENT
DTSTART;TZID=America/Edmonton:20230328T190000
DTEND;TZID=America/Edmonton:20230328T201500
DTSTAMP:20260423T060626
CREATED:20230324T013735Z
LAST-MODIFIED:20230324T014340Z
UID:10002509-1680030000-1680034500@westminsterchapelpca.ca
SUMMARY:Tuesday Evening Bible Study
DESCRIPTION:The women’s Tuesday evening Study will take a two week break. We will resume meeting\, on Tuesday\, April 11th\, for a short study. More details to follow.
URL:https://westminsterchapelpca.ca/event/tuesday-evening-bible-study-4/
LOCATION:Westminister Chapel\, 329 19th Street North Lethbridge\, Alberta\, Lethbridge\, Alberta\, T1J-4A4\, Canada
GEO:49.6931758;-112.814634
X-APPLE-STRUCTURED-LOCATION;VALUE=URI;X-ADDRESS=Westminister Chapel 329 19th Street North Lethbridge Alberta Lethbridge Alberta T1J-4A4 Canada;X-APPLE-RADIUS=500;X-TITLE=329 19th Street North Lethbridge\, Alberta:geo:-112.814634,49.6931758
END:VEVENT
BEGIN:VEVENT
DTSTART;TZID=America/Edmonton:20230326T163000
DTEND;TZID=America/Edmonton:20230326T173000
DTSTAMP:20260423T060626
CREATED:20230324T013217Z
LAST-MODIFIED:20230324T013312Z
UID:10001781-1679848200-1679851800@westminsterchapelpca.ca
SUMMARY:PM Worship
DESCRIPTION:Pastor Adam Harris \nGen 6:1-8 \nThe Grief of God \n 
URL:https://westminsterchapelpca.ca/event/pm-worship-8/
LOCATION:Westminister Chapel\, 329 19th Street North Lethbridge\, Alberta\, Lethbridge\, Alberta\, T1J-4A4\, Canada
CATEGORIES:Worship Services
GEO:49.6931758;-112.814634
X-APPLE-STRUCTURED-LOCATION;VALUE=URI;X-ADDRESS=Westminister Chapel 329 19th Street North Lethbridge Alberta Lethbridge Alberta T1J-4A4 Canada;X-APPLE-RADIUS=500;X-TITLE=329 19th Street North Lethbridge\, Alberta:geo:-112.814634,49.6931758
END:VEVENT
BEGIN:VEVENT
DTSTART;TZID=America/Edmonton:20230321T190000
DTEND;TZID=America/Edmonton:20230321T201500
DTSTAMP:20260423T060626
CREATED:20230309T225444Z
LAST-MODIFIED:20230309T225843Z
UID:10002508-1679425200-1679429700@westminsterchapelpca.ca
SUMMARY:Tuesday Evening Bible Study
DESCRIPTION:The Tuesday evening women’s Bible study meets from 7:00pm-8:15pm. We will be studying Contentment by Melissa Kruger.
URL:https://westminsterchapelpca.ca/event/tuesday-evening-bible-study-3/
LOCATION:Westminister Chapel\, 329 19th Street North Lethbridge\, Alberta\, Lethbridge\, Alberta\, T1J-4A4\, Canada
GEO:49.6931758;-112.814634
X-APPLE-STRUCTURED-LOCATION;VALUE=URI;X-ADDRESS=Westminister Chapel 329 19th Street North Lethbridge Alberta Lethbridge Alberta T1J-4A4 Canada;X-APPLE-RADIUS=500;X-TITLE=329 19th Street North Lethbridge\, Alberta:geo:-112.814634,49.6931758
END:VEVENT
BEGIN:VEVENT
DTSTART;TZID=America/Edmonton:20230319T163000
DTEND;TZID=America/Edmonton:20230319T173000
DTSTAMP:20260423T060626
CREATED:20230316T202600Z
LAST-MODIFIED:20230316T202601Z
UID:10001780-1679243400-1679247000@westminsterchapelpca.ca
SUMMARY:PM Worship
DESCRIPTION:Pastor Harris \nGen 5:1-32 \nA Line of Hope
URL:https://westminsterchapelpca.ca/event/sunday-pm-worship-28-2022-05-22-4-3/
LOCATION:Westminister Chapel\, 329 19th Street North Lethbridge\, Alberta\, Lethbridge\, Alberta\, T1J-4A4\, Canada
CATEGORIES:Worship Services
GEO:49.6931758;-112.814634
X-APPLE-STRUCTURED-LOCATION;VALUE=URI;X-ADDRESS=Westminister Chapel 329 19th Street North Lethbridge Alberta Lethbridge Alberta T1J-4A4 Canada;X-APPLE-RADIUS=500;X-TITLE=329 19th Street North Lethbridge\, Alberta:geo:-112.814634,49.6931758
END:VEVENT
BEGIN:VEVENT
DTSTART;TZID=America/Edmonton:20230318T080000
DTEND;TZID=America/Edmonton:20230318T103000
DTSTAMP:20260423T060626
CREATED:20230119T213622Z
LAST-MODIFIED:20230217T024840Z
UID:10002588-1679126400-1679135400@westminsterchapelpca.ca
SUMMARY:Saturday Morning Men's Breakfast Bible Study
DESCRIPTION:Breakfast from 8 -8:45am followed by the study from 9 -10:30 am study. \nThe study is based on “Family Shepherds: Calling and Equipping Men to Lead Their Homes”\, by Voddie Baucham.
URL:https://westminsterchapelpca.ca/event/saturday-morning-mens-breakfast-bible-study/2023-03-18/
LOCATION:Westminister Chapel\, 329 19th Street North Lethbridge\, Alberta\, Lethbridge\, Alberta\, T1J-4A4\, Canada
GEO:49.6931758;-112.814634
X-APPLE-STRUCTURED-LOCATION;VALUE=URI;X-ADDRESS=Westminister Chapel 329 19th Street North Lethbridge Alberta Lethbridge Alberta T1J-4A4 Canada;X-APPLE-RADIUS=500;X-TITLE=329 19th Street North Lethbridge\, Alberta:geo:-112.814634,49.6931758
END:VEVENT
BEGIN:VEVENT
DTSTART;TZID=America/Edmonton:20230315T190000
DTEND;TZID=America/Edmonton:20230315T210000
DTSTAMP:20260423T060626
CREATED:20230303T022907Z
LAST-MODIFIED:20230303T022907Z
UID:10002655-1678906800-1678914000@westminsterchapelpca.ca
SUMMARY:Annual General Meeting
DESCRIPTION:
URL:https://westminsterchapelpca.ca/event/annual-general-meeting/
LOCATION:Westminister Chapel\, 329 19th Street North Lethbridge\, Alberta\, Lethbridge\, Alberta\, T1J-4A4\, Canada
CATEGORIES:Meeting
GEO:49.6931758;-112.814634
X-APPLE-STRUCTURED-LOCATION;VALUE=URI;X-ADDRESS=Westminister Chapel 329 19th Street North Lethbridge Alberta Lethbridge Alberta T1J-4A4 Canada;X-APPLE-RADIUS=500;X-TITLE=329 19th Street North Lethbridge\, Alberta:geo:-112.814634,49.6931758
END:VEVENT
BEGIN:VEVENT
DTSTART;TZID=America/Edmonton:20230314T190000
DTEND;TZID=America/Edmonton:20230314T220000
DTSTAMP:20260423T060626
CREATED:20230119T215238Z
LAST-MODIFIED:20230119T215238Z
UID:10002617-1678820400-1678831200@westminsterchapelpca.ca
SUMMARY:Session Meeting
DESCRIPTION:
URL:https://westminsterchapelpca.ca/event/session-meeting/2023-03-14/
LOCATION:Westminister Chapel\, 329 19th Street North Lethbridge\, Alberta\, Lethbridge\, Alberta\, T1J-4A4\, Canada
GEO:49.6931758;-112.814634
X-APPLE-STRUCTURED-LOCATION;VALUE=URI;X-ADDRESS=Westminister Chapel 329 19th Street North Lethbridge Alberta Lethbridge Alberta T1J-4A4 Canada;X-APPLE-RADIUS=500;X-TITLE=329 19th Street North Lethbridge\, Alberta:geo:-112.814634,49.6931758
END:VEVENT
BEGIN:VEVENT
DTSTART;TZID=America/Edmonton:20230314T190000
DTEND;TZID=America/Edmonton:20230314T201500
DTSTAMP:20260423T060626
CREATED:20230309T225137Z
LAST-MODIFIED:20230309T225332Z
UID:10002507-1678820400-1678824900@westminsterchapelpca.ca
SUMMARY:Tuesday Evening Bible Study
DESCRIPTION:The ladies continue in their study\, “Contentment” by Melissa Kruger\, this Tuesday\, March 7th. We will meet from 7:00 pm and will be discussing lesson 8. If you have any questions\, please contact Victoria de Groot.
URL:https://westminsterchapelpca.ca/event/tuesday-evening-bible-study-2/
LOCATION:Westminister Chapel\, 329 19th Street North Lethbridge\, Alberta\, Lethbridge\, Alberta\, T1J-4A4\, Canada
GEO:49.6931758;-112.814634
X-APPLE-STRUCTURED-LOCATION;VALUE=URI;X-ADDRESS=Westminister Chapel 329 19th Street North Lethbridge Alberta Lethbridge Alberta T1J-4A4 Canada;X-APPLE-RADIUS=500;X-TITLE=329 19th Street North Lethbridge\, Alberta:geo:-112.814634,49.6931758
END:VEVENT
BEGIN:VEVENT
DTSTART;TZID=America/Edmonton:20230312T163000
DTEND;TZID=America/Edmonton:20230312T173000
DTSTAMP:20260423T060626
CREATED:20230311T001218Z
LAST-MODIFIED:20230311T001257Z
UID:10001779-1678638600-1678642200@westminsterchapelpca.ca
SUMMARY:PM Worship
DESCRIPTION:Pastor George Koopmans \nJohn 14:1-7 \nHe Prepared a Place for Us
URL:https://westminsterchapelpca.ca/event/pm-worship-7/
LOCATION:Westminister Chapel\, 329 19th Street North Lethbridge\, Alberta\, Lethbridge\, Alberta\, T1J-4A4\, Canada
CATEGORIES:Worship Services
GEO:49.6931758;-112.814634
X-APPLE-STRUCTURED-LOCATION;VALUE=URI;X-ADDRESS=Westminister Chapel 329 19th Street North Lethbridge Alberta Lethbridge Alberta T1J-4A4 Canada;X-APPLE-RADIUS=500;X-TITLE=329 19th Street North Lethbridge\, Alberta:geo:-112.814634,49.6931758
END:VEVENT
BEGIN:VEVENT
DTSTART;TZID=America/Edmonton:20230307T190000
DTEND;TZID=America/Edmonton:20230307T201500
DTSTAMP:20260423T060626
CREATED:20221230T010319Z
LAST-MODIFIED:20221230T010319Z
UID:10002506-1678215600-1678220100@westminsterchapelpca.ca
SUMMARY:Tuesday Evening Bible Study
DESCRIPTION:The Tuesday evening women’s Bible study will resume meeting on January 10\, from 7:00pm-8:15pm. We will be studying Contentment by Melissa Kruger.
URL:https://westminsterchapelpca.ca/event/tuesday-evening-bible-study/2023-03-07/
LOCATION:Westminister Chapel\, 329 19th Street North Lethbridge\, Alberta\, Lethbridge\, Alberta\, T1J-4A4\, Canada
GEO:49.6931758;-112.814634
X-APPLE-STRUCTURED-LOCATION;VALUE=URI;X-ADDRESS=Westminister Chapel 329 19th Street North Lethbridge Alberta Lethbridge Alberta T1J-4A4 Canada;X-APPLE-RADIUS=500;X-TITLE=329 19th Street North Lethbridge\, Alberta:geo:-112.814634,49.6931758
END:VEVENT
BEGIN:VEVENT
DTSTART;TZID=America/Edmonton:20230305T120000
DTEND;TZID=America/Edmonton:20230305T150000
DTSTAMP:20260423T060626
CREATED:20230303T021124Z
LAST-MODIFIED:20230303T022739Z
UID:10002654-1678017600-1678028400@westminsterchapelpca.ca
SUMMARY:Community Groups
DESCRIPTION:Meeting for Fellowship in Each Others’ Homes
URL:https://westminsterchapelpca.ca/event/community-groups-4/
LOCATION:Westminister Chapel\, 329 19th Street North Lethbridge\, Alberta\, Lethbridge\, Alberta\, T1J-4A4\, Canada
GEO:49.6931758;-112.814634
X-APPLE-STRUCTURED-LOCATION;VALUE=URI;X-ADDRESS=Westminister Chapel 329 19th Street North Lethbridge Alberta Lethbridge Alberta T1J-4A4 Canada;X-APPLE-RADIUS=500;X-TITLE=329 19th Street North Lethbridge\, Alberta:geo:-112.814634,49.6931758
END:VEVENT
BEGIN:VEVENT
DTSTART;TZID=America/Edmonton:20230304T080000
DTEND;TZID=America/Edmonton:20230304T103000
DTSTAMP:20260423T060626
CREATED:20230119T213622Z
LAST-MODIFIED:20230217T024840Z
UID:10002587-1677916800-1677925800@westminsterchapelpca.ca
SUMMARY:Saturday Morning Men's Breakfast Bible Study
DESCRIPTION:Breakfast from 8 -8:45am followed by the study from 9 -10:30 am study. \nThe study is based on “Family Shepherds: Calling and Equipping Men to Lead Their Homes”\, by Voddie Baucham.
URL:https://westminsterchapelpca.ca/event/saturday-morning-mens-breakfast-bible-study/2023-03-04/
LOCATION:Westminister Chapel\, 329 19th Street North Lethbridge\, Alberta\, Lethbridge\, Alberta\, T1J-4A4\, Canada
GEO:49.6931758;-112.814634
X-APPLE-STRUCTURED-LOCATION;VALUE=URI;X-ADDRESS=Westminister Chapel 329 19th Street North Lethbridge Alberta Lethbridge Alberta T1J-4A4 Canada;X-APPLE-RADIUS=500;X-TITLE=329 19th Street North Lethbridge\, Alberta:geo:-112.814634,49.6931758
END:VEVENT
BEGIN:VEVENT
DTSTART;TZID=America/Edmonton:20230228T190000
DTEND;TZID=America/Edmonton:20230228T201500
DTSTAMP:20260423T060626
CREATED:20221230T010319Z
LAST-MODIFIED:20221230T010319Z
UID:10002505-1677610800-1677615300@westminsterchapelpca.ca
SUMMARY:Tuesday Evening Bible Study
DESCRIPTION:The Tuesday evening women’s Bible study will resume meeting on January 10\, from 7:00pm-8:15pm. We will be studying Contentment by Melissa Kruger.
URL:https://westminsterchapelpca.ca/event/tuesday-evening-bible-study/2023-02-28/
LOCATION:Westminister Chapel\, 329 19th Street North Lethbridge\, Alberta\, Lethbridge\, Alberta\, T1J-4A4\, Canada
GEO:49.6931758;-112.814634
X-APPLE-STRUCTURED-LOCATION;VALUE=URI;X-ADDRESS=Westminister Chapel 329 19th Street North Lethbridge Alberta Lethbridge Alberta T1J-4A4 Canada;X-APPLE-RADIUS=500;X-TITLE=329 19th Street North Lethbridge\, Alberta:geo:-112.814634,49.6931758
END:VEVENT
BEGIN:VEVENT
DTSTART;TZID=America/Edmonton:20230226T163000
DTEND;TZID=America/Edmonton:20230226T173000
DTSTAMP:20260423T060626
CREATED:20230224T175410Z
LAST-MODIFIED:20230224T175439Z
UID:10001777-1677429000-1677432600@westminsterchapelpca.ca
SUMMARY:PM Worship
DESCRIPTION:Pastor Adam Harris \nGen 4:17-26 \nThe Birth of Civilization
URL:https://westminsterchapelpca.ca/event/pm-worship-6/
LOCATION:Westminister Chapel\, 329 19th Street North Lethbridge\, Alberta\, Lethbridge\, Alberta\, T1J-4A4\, Canada
CATEGORIES:Worship Services
GEO:49.6931758;-112.814634
X-APPLE-STRUCTURED-LOCATION;VALUE=URI;X-ADDRESS=Westminister Chapel 329 19th Street North Lethbridge Alberta Lethbridge Alberta T1J-4A4 Canada;X-APPLE-RADIUS=500;X-TITLE=329 19th Street North Lethbridge\, Alberta:geo:-112.814634,49.6931758
END:VEVENT
BEGIN:VEVENT
DTSTART;TZID=America/Edmonton:20230221T190000
DTEND;TZID=America/Edmonton:20230221T201500
DTSTAMP:20260423T060626
CREATED:20221230T010319Z
LAST-MODIFIED:20221230T010319Z
UID:10002504-1677006000-1677010500@westminsterchapelpca.ca
SUMMARY:Tuesday Evening Bible Study
DESCRIPTION:The Tuesday evening women’s Bible study will resume meeting on January 10\, from 7:00pm-8:15pm. We will be studying Contentment by Melissa Kruger.
URL:https://westminsterchapelpca.ca/event/tuesday-evening-bible-study/2023-02-21/
LOCATION:Westminister Chapel\, 329 19th Street North Lethbridge\, Alberta\, Lethbridge\, Alberta\, T1J-4A4\, Canada
GEO:49.6931758;-112.814634
X-APPLE-STRUCTURED-LOCATION;VALUE=URI;X-ADDRESS=Westminister Chapel 329 19th Street North Lethbridge Alberta Lethbridge Alberta T1J-4A4 Canada;X-APPLE-RADIUS=500;X-TITLE=329 19th Street North Lethbridge\, Alberta:geo:-112.814634,49.6931758
END:VEVENT
BEGIN:VEVENT
DTSTART;TZID=America/Edmonton:20230219T163000
DTEND;TZID=America/Edmonton:20230219T173000
DTSTAMP:20260423T060626
CREATED:20230217T030916Z
LAST-MODIFIED:20230217T031126Z
UID:10001776-1676824200-1676827800@westminsterchapelpca.ca
SUMMARY:PM Worship
DESCRIPTION:Pastor Adam Harris \nGen 4:1-16 \nFurther Down & Further Out
URL:https://westminsterchapelpca.ca/event/sunday-pm-worship-28-2022-05-22-4-2/
LOCATION:Westminister Chapel\, 329 19th Street North Lethbridge\, Alberta\, Lethbridge\, Alberta\, T1J-4A4\, Canada
CATEGORIES:Worship Services
GEO:49.6931758;-112.814634
X-APPLE-STRUCTURED-LOCATION;VALUE=URI;X-ADDRESS=Westminister Chapel 329 19th Street North Lethbridge Alberta Lethbridge Alberta T1J-4A4 Canada;X-APPLE-RADIUS=500;X-TITLE=329 19th Street North Lethbridge\, Alberta:geo:-112.814634,49.6931758
END:VEVENT
BEGIN:VEVENT
DTSTART;TZID=America/Edmonton:20230218T080000
DTEND;TZID=America/Edmonton:20230218T103000
DTSTAMP:20260423T060626
CREATED:20230119T213622Z
LAST-MODIFIED:20230217T024840Z
UID:10002586-1676707200-1676716200@westminsterchapelpca.ca
SUMMARY:Saturday Morning Men's Breakfast Bible Study
DESCRIPTION:Breakfast from 8 -8:45am followed by the study from 9 -10:30 am study. \nThe study is based on “Family Shepherds: Calling and Equipping Men to Lead Their Homes”\, by Voddie Baucham.
URL:https://westminsterchapelpca.ca/event/saturday-morning-mens-breakfast-bible-study/2023-02-18/
LOCATION:Westminister Chapel\, 329 19th Street North Lethbridge\, Alberta\, Lethbridge\, Alberta\, T1J-4A4\, Canada
GEO:49.6931758;-112.814634
X-APPLE-STRUCTURED-LOCATION;VALUE=URI;X-ADDRESS=Westminister Chapel 329 19th Street North Lethbridge Alberta Lethbridge Alberta T1J-4A4 Canada;X-APPLE-RADIUS=500;X-TITLE=329 19th Street North Lethbridge\, Alberta:geo:-112.814634,49.6931758
END:VEVENT
BEGIN:VEVENT
DTSTART;TZID=America/Edmonton:20230214T190000
DTEND;TZID=America/Edmonton:20230214T220000
DTSTAMP:20260423T060626
CREATED:20230119T215238Z
LAST-MODIFIED:20230119T215238Z
UID:10002616-1676401200-1676412000@westminsterchapelpca.ca
SUMMARY:Session Meeting
DESCRIPTION:
URL:https://westminsterchapelpca.ca/event/session-meeting/2023-02-14/
LOCATION:Westminister Chapel\, 329 19th Street North Lethbridge\, Alberta\, Lethbridge\, Alberta\, T1J-4A4\, Canada
GEO:49.6931758;-112.814634
X-APPLE-STRUCTURED-LOCATION;VALUE=URI;X-ADDRESS=Westminister Chapel 329 19th Street North Lethbridge Alberta Lethbridge Alberta T1J-4A4 Canada;X-APPLE-RADIUS=500;X-TITLE=329 19th Street North Lethbridge\, Alberta:geo:-112.814634,49.6931758
END:VEVENT
BEGIN:VEVENT
DTSTART;TZID=America/Edmonton:20230214T190000
DTEND;TZID=America/Edmonton:20230214T201500
DTSTAMP:20260423T060626
CREATED:20221230T010319Z
LAST-MODIFIED:20221230T010319Z
UID:10002503-1676401200-1676405700@westminsterchapelpca.ca
SUMMARY:Tuesday Evening Bible Study
DESCRIPTION:The Tuesday evening women’s Bible study will resume meeting on January 10\, from 7:00pm-8:15pm. We will be studying Contentment by Melissa Kruger.
URL:https://westminsterchapelpca.ca/event/tuesday-evening-bible-study/2023-02-14/
LOCATION:Westminister Chapel\, 329 19th Street North Lethbridge\, Alberta\, Lethbridge\, Alberta\, T1J-4A4\, Canada
GEO:49.6931758;-112.814634
X-APPLE-STRUCTURED-LOCATION;VALUE=URI;X-ADDRESS=Westminister Chapel 329 19th Street North Lethbridge Alberta Lethbridge Alberta T1J-4A4 Canada;X-APPLE-RADIUS=500;X-TITLE=329 19th Street North Lethbridge\, Alberta:geo:-112.814634,49.6931758
END:VEVENT
BEGIN:VEVENT
DTSTART;TZID=America/Edmonton:20230212T163000
DTEND;TZID=America/Edmonton:20230212T173000
DTSTAMP:20260423T060626
CREATED:20230210T020940Z
LAST-MODIFIED:20230210T021013Z
UID:10001775-1676219400-1676223000@westminsterchapelpca.ca
SUMMARY:PM Worship
DESCRIPTION:Pastor Tom Albaugh \nJohn 7:53-8:11 \nForgiveness is Life and the Power of the Gospel
URL:https://westminsterchapelpca.ca/event/pm-worship-5/
LOCATION:Westminister Chapel\, 329 19th Street North Lethbridge\, Alberta\, Lethbridge\, Alberta\, T1J-4A4\, Canada
CATEGORIES:Worship Services
GEO:49.6931758;-112.814634
X-APPLE-STRUCTURED-LOCATION;VALUE=URI;X-ADDRESS=Westminister Chapel 329 19th Street North Lethbridge Alberta Lethbridge Alberta T1J-4A4 Canada;X-APPLE-RADIUS=500;X-TITLE=329 19th Street North Lethbridge\, Alberta:geo:-112.814634,49.6931758
END:VEVENT
BEGIN:VEVENT
DTSTART;TZID=America/Edmonton:20230207T190000
DTEND;TZID=America/Edmonton:20230207T201500
DTSTAMP:20260423T060626
CREATED:20221230T010319Z
LAST-MODIFIED:20221230T010319Z
UID:10002502-1675796400-1675800900@westminsterchapelpca.ca
SUMMARY:Tuesday Evening Bible Study
DESCRIPTION:The Tuesday evening women’s Bible study will resume meeting on January 10\, from 7:00pm-8:15pm. We will be studying Contentment by Melissa Kruger.
URL:https://westminsterchapelpca.ca/event/tuesday-evening-bible-study/2023-02-07/
LOCATION:Westminister Chapel\, 329 19th Street North Lethbridge\, Alberta\, Lethbridge\, Alberta\, T1J-4A4\, Canada
GEO:49.6931758;-112.814634
X-APPLE-STRUCTURED-LOCATION;VALUE=URI;X-ADDRESS=Westminister Chapel 329 19th Street North Lethbridge Alberta Lethbridge Alberta T1J-4A4 Canada;X-APPLE-RADIUS=500;X-TITLE=329 19th Street North Lethbridge\, Alberta:geo:-112.814634,49.6931758
END:VEVENT
BEGIN:VEVENT
DTSTART;TZID=America/Edmonton:20230204T080000
DTEND;TZID=America/Edmonton:20230204T103000
DTSTAMP:20260423T060626
CREATED:20230119T213622Z
LAST-MODIFIED:20230217T024840Z
UID:10002585-1675497600-1675506600@westminsterchapelpca.ca
SUMMARY:Saturday Morning Men's Breakfast Bible Study
DESCRIPTION:Breakfast from 8 -8:45am followed by the study from 9 -10:30 am study. \nThe study is based on “Family Shepherds: Calling and Equipping Men to Lead Their Homes”\, by Voddie Baucham.
URL:https://westminsterchapelpca.ca/event/saturday-morning-mens-breakfast-bible-study/2023-02-04/
LOCATION:Westminister Chapel\, 329 19th Street North Lethbridge\, Alberta\, Lethbridge\, Alberta\, T1J-4A4\, Canada
GEO:49.6931758;-112.814634
X-APPLE-STRUCTURED-LOCATION;VALUE=URI;X-ADDRESS=Westminister Chapel 329 19th Street North Lethbridge Alberta Lethbridge Alberta T1J-4A4 Canada;X-APPLE-RADIUS=500;X-TITLE=329 19th Street North Lethbridge\, Alberta:geo:-112.814634,49.6931758
END:VEVENT
BEGIN:VEVENT
DTSTART;TZID=America/Edmonton:20230131T190000
DTEND;TZID=America/Edmonton:20230131T201500
DTSTAMP:20260423T060626
CREATED:20221230T010319Z
LAST-MODIFIED:20221230T010319Z
UID:10002501-1675191600-1675196100@westminsterchapelpca.ca
SUMMARY:Tuesday Evening Bible Study
DESCRIPTION:The Tuesday evening women’s Bible study will resume meeting on January 10\, from 7:00pm-8:15pm. We will be studying Contentment by Melissa Kruger.
URL:https://westminsterchapelpca.ca/event/tuesday-evening-bible-study/2023-01-31/
LOCATION:Westminister Chapel\, 329 19th Street North Lethbridge\, Alberta\, Lethbridge\, Alberta\, T1J-4A4\, Canada
GEO:49.6931758;-112.814634
X-APPLE-STRUCTURED-LOCATION;VALUE=URI;X-ADDRESS=Westminister Chapel 329 19th Street North Lethbridge Alberta Lethbridge Alberta T1J-4A4 Canada;X-APPLE-RADIUS=500;X-TITLE=329 19th Street North Lethbridge\, Alberta:geo:-112.814634,49.6931758
END:VEVENT
BEGIN:VEVENT
DTSTART;TZID=America/Edmonton:20230129T163000
DTEND;TZID=America/Edmonton:20230129T173000
DTSTAMP:20260423T060626
CREATED:20230126T215947Z
LAST-MODIFIED:20230126T220030Z
UID:10001773-1675009800-1675013400@westminsterchapelpca.ca
SUMMARY:PM Worship
DESCRIPTION:Pastor Adam Harris \nGen 3:14-24 \nThe Curse of Creation
URL:https://westminsterchapelpca.ca/event/pm-worship-4/
LOCATION:Westminister Chapel\, 329 19th Street North Lethbridge\, Alberta\, Lethbridge\, Alberta\, T1J-4A4\, Canada
CATEGORIES:Worship Services
GEO:49.6931758;-112.814634
X-APPLE-STRUCTURED-LOCATION;VALUE=URI;X-ADDRESS=Westminister Chapel 329 19th Street North Lethbridge Alberta Lethbridge Alberta T1J-4A4 Canada;X-APPLE-RADIUS=500;X-TITLE=329 19th Street North Lethbridge\, Alberta:geo:-112.814634,49.6931758
END:VEVENT
BEGIN:VEVENT
DTSTART;TZID=America/Edmonton:20230127T183000
DTEND;TZID=America/Edmonton:20230127T220000
DTSTAMP:20260423T060626
CREATED:20230113T023707Z
LAST-MODIFIED:20230113T024304Z
UID:10002582-1674844200-1674856800@westminsterchapelpca.ca
SUMMARY:Family Fellowship Evening
DESCRIPTION:Come on out for an evening of games and fellowship at the church. The fun will start at 6:30 but you can drop in when it works best for you. Bring a few of your favorite board games and a snack to share.
URL:https://westminsterchapelpca.ca/event/family-fellowship-evening/
LOCATION:Westminister Chapel\, 329 19th Street North Lethbridge\, Alberta\, Lethbridge\, Alberta\, T1J-4A4\, Canada
CATEGORIES:Fellowship
GEO:49.6931758;-112.814634
X-APPLE-STRUCTURED-LOCATION;VALUE=URI;X-ADDRESS=Westminister Chapel 329 19th Street North Lethbridge Alberta Lethbridge Alberta T1J-4A4 Canada;X-APPLE-RADIUS=500;X-TITLE=329 19th Street North Lethbridge\, Alberta:geo:-112.814634,49.6931758
END:VEVENT
BEGIN:VEVENT
DTSTART;TZID=America/Edmonton:20230124T190000
DTEND;TZID=America/Edmonton:20230124T201500
DTSTAMP:20260423T060626
CREATED:20221230T010319Z
LAST-MODIFIED:20221230T010319Z
UID:10002500-1674586800-1674591300@westminsterchapelpca.ca
SUMMARY:Tuesday Evening Bible Study
DESCRIPTION:The Tuesday evening women’s Bible study will resume meeting on January 10\, from 7:00pm-8:15pm. We will be studying Contentment by Melissa Kruger.
URL:https://westminsterchapelpca.ca/event/tuesday-evening-bible-study/2023-01-24/
LOCATION:Westminister Chapel\, 329 19th Street North Lethbridge\, Alberta\, Lethbridge\, Alberta\, T1J-4A4\, Canada
GEO:49.6931758;-112.814634
X-APPLE-STRUCTURED-LOCATION;VALUE=URI;X-ADDRESS=Westminister Chapel 329 19th Street North Lethbridge Alberta Lethbridge Alberta T1J-4A4 Canada;X-APPLE-RADIUS=500;X-TITLE=329 19th Street North Lethbridge\, Alberta:geo:-112.814634,49.6931758
END:VEVENT
BEGIN:VEVENT
DTSTART;TZID=America/Edmonton:20230122T163000
DTEND;TZID=America/Edmonton:20230122T173000
DTSTAMP:20260423T060626
CREATED:20230119T224756Z
LAST-MODIFIED:20230119T225353Z
UID:10001772-1674405000-1674408600@westminsterchapelpca.ca
SUMMARY:PM Worship
DESCRIPTION:Pastor Adam Harris \nGen 3:1-13 \nThe Fall of Man
URL:https://westminsterchapelpca.ca/event/pm-worship-3/
LOCATION:Westminister Chapel\, 329 19th Street North Lethbridge\, Alberta\, Lethbridge\, Alberta\, T1J-4A4\, Canada
CATEGORIES:Worship Services
GEO:49.6931758;-112.814634
X-APPLE-STRUCTURED-LOCATION;VALUE=URI;X-ADDRESS=Westminister Chapel 329 19th Street North Lethbridge Alberta Lethbridge Alberta T1J-4A4 Canada;X-APPLE-RADIUS=500;X-TITLE=329 19th Street North Lethbridge\, Alberta:geo:-112.814634,49.6931758
END:VEVENT
BEGIN:VEVENT
DTSTART;TZID=America/Edmonton:20230121T170000
DTEND;TZID=America/Edmonton:20230121T190000
DTSTAMP:20260423T060626
CREATED:20230106T033523Z
LAST-MODIFIED:20230113T024247Z
UID:10002576-1674320400-1674327600@westminsterchapelpca.ca
SUMMARY:Senior's Dinner
DESCRIPTION:Saturday January the 21st.  Dinner will be served @ 5 pm in the church basement. You are also welcome to come early after 4 pm for social with beverages being served.
URL:https://westminsterchapelpca.ca/event/seniors-dinner/
LOCATION:Westminister Chapel\, 329 19th Street North Lethbridge\, Alberta\, Lethbridge\, Alberta\, T1J-4A4\, Canada
CATEGORIES:Fellowship
GEO:49.6931758;-112.814634
X-APPLE-STRUCTURED-LOCATION;VALUE=URI;X-ADDRESS=Westminister Chapel 329 19th Street North Lethbridge Alberta Lethbridge Alberta T1J-4A4 Canada;X-APPLE-RADIUS=500;X-TITLE=329 19th Street North Lethbridge\, Alberta:geo:-112.814634,49.6931758
END:VEVENT
BEGIN:VEVENT
DTSTART;TZID=America/Edmonton:20230121T080000
DTEND;TZID=America/Edmonton:20230121T103000
DTSTAMP:20260423T060626
CREATED:20230119T213622Z
LAST-MODIFIED:20230217T024840Z
UID:10002584-1674288000-1674297000@westminsterchapelpca.ca
SUMMARY:Saturday Morning Men's Breakfast Bible Study
DESCRIPTION:Breakfast from 8 -8:45am followed by the study from 9 -10:30 am study. \nThe study is based on “Family Shepherds: Calling and Equipping Men to Lead Their Homes”\, by Voddie Baucham.
URL:https://westminsterchapelpca.ca/event/saturday-morning-mens-breakfast-bible-study/2023-01-21/
LOCATION:Westminister Chapel\, 329 19th Street North Lethbridge\, Alberta\, Lethbridge\, Alberta\, T1J-4A4\, Canada
GEO:49.6931758;-112.814634
X-APPLE-STRUCTURED-LOCATION;VALUE=URI;X-ADDRESS=Westminister Chapel 329 19th Street North Lethbridge Alberta Lethbridge Alberta T1J-4A4 Canada;X-APPLE-RADIUS=500;X-TITLE=329 19th Street North Lethbridge\, Alberta:geo:-112.814634,49.6931758
END:VEVENT
END:VCALENDAR