BEGIN:VCALENDAR
VERSION:2.0
PRODID:-//Westminster Chapel - ECPv6.15.13.1//NONSGML v1.0//EN
CALSCALE:GREGORIAN
METHOD:PUBLISH
X-WR-CALNAME:Westminster Chapel
X-ORIGINAL-URL:https://westminsterchapelpca.ca
X-WR-CALDESC:Events for Westminster Chapel
REFRESH-INTERVAL;VALUE=DURATION:PT1H
X-Robots-Tag:noindex
X-PUBLISHED-TTL:PT1H
BEGIN:VTIMEZONE
TZID:America/Edmonton
BEGIN:DAYLIGHT
TZOFFSETFROM:-0700
TZOFFSETTO:-0600
TZNAME:MDT
DTSTART:20210314T090000
END:DAYLIGHT
BEGIN:STANDARD
TZOFFSETFROM:-0600
TZOFFSETTO:-0700
TZNAME:MST
DTSTART:20211107T080000
END:STANDARD
BEGIN:DAYLIGHT
TZOFFSETFROM:-0700
TZOFFSETTO:-0600
TZNAME:MDT
DTSTART:20220313T090000
END:DAYLIGHT
BEGIN:STANDARD
TZOFFSETFROM:-0600
TZOFFSETTO:-0700
TZNAME:MST
DTSTART:20221106T080000
END:STANDARD
BEGIN:DAYLIGHT
TZOFFSETFROM:-0700
TZOFFSETTO:-0600
TZNAME:MDT
DTSTART:20230312T090000
END:DAYLIGHT
BEGIN:STANDARD
TZOFFSETFROM:-0600
TZOFFSETTO:-0700
TZNAME:MST
DTSTART:20231105T080000
END:STANDARD
BEGIN:DAYLIGHT
TZOFFSETFROM:-0700
TZOFFSETTO:-0600
TZNAME:MDT
DTSTART:20240310T090000
END:DAYLIGHT
BEGIN:STANDARD
TZOFFSETFROM:-0600
TZOFFSETTO:-0700
TZNAME:MST
DTSTART:20241103T080000
END:STANDARD
END:VTIMEZONE
BEGIN:VEVENT
DTSTART;TZID=America/Edmonton:20230117T190000
DTEND;TZID=America/Edmonton:20230117T201500
DTSTAMP:20260423T102439
CREATED:20221230T010319Z
LAST-MODIFIED:20221230T010319Z
UID:10002499-1673982000-1673986500@westminsterchapelpca.ca
SUMMARY:Tuesday Evening Bible Study
DESCRIPTION:The Tuesday evening women’s Bible study will resume meeting on January 10\, from 7:00pm-8:15pm. We will be studying Contentment by Melissa Kruger.
URL:https://westminsterchapelpca.ca/event/tuesday-evening-bible-study/2023-01-17/
LOCATION:Westminister Chapel\, 329 19th Street North Lethbridge\, Alberta\, Lethbridge\, Alberta\, T1J-4A4\, Canada
GEO:49.6931758;-112.814634
X-APPLE-STRUCTURED-LOCATION;VALUE=URI;X-ADDRESS=Westminister Chapel 329 19th Street North Lethbridge Alberta Lethbridge Alberta T1J-4A4 Canada;X-APPLE-RADIUS=500;X-TITLE=329 19th Street North Lethbridge\, Alberta:geo:-112.814634,49.6931758
END:VEVENT
BEGIN:VEVENT
DTSTART;TZID=America/Edmonton:20230115T163000
DTEND;TZID=America/Edmonton:20230115T173000
DTSTAMP:20260423T102439
CREATED:20230113T023046Z
LAST-MODIFIED:20230113T023119Z
UID:10001771-1673800200-1673803800@westminsterchapelpca.ca
SUMMARY:PM Worship
DESCRIPTION:Pastor Tom Albaugh \nGenesis 3:1; Acts 17:11 \nWho is Satan?
URL:https://westminsterchapelpca.ca/event/pm-worship-2/
LOCATION:Westminister Chapel\, 329 19th Street North Lethbridge\, Alberta\, Lethbridge\, Alberta\, T1J-4A4\, Canada
CATEGORIES:Worship Services
GEO:49.6931758;-112.814634
X-APPLE-STRUCTURED-LOCATION;VALUE=URI;X-ADDRESS=Westminister Chapel 329 19th Street North Lethbridge Alberta Lethbridge Alberta T1J-4A4 Canada;X-APPLE-RADIUS=500;X-TITLE=329 19th Street North Lethbridge\, Alberta:geo:-112.814634,49.6931758
END:VEVENT
BEGIN:VEVENT
DTSTART;TZID=America/Edmonton:20230110T190000
DTEND;TZID=America/Edmonton:20230110T201500
DTSTAMP:20260423T102439
CREATED:20221230T010319Z
LAST-MODIFIED:20221230T010319Z
UID:10002498-1673377200-1673381700@westminsterchapelpca.ca
SUMMARY:Tuesday Evening Bible Study
DESCRIPTION:The Tuesday evening women’s Bible study will resume meeting on January 10\, from 7:00pm-8:15pm. We will be studying Contentment by Melissa Kruger.
URL:https://westminsterchapelpca.ca/event/tuesday-evening-bible-study/2023-01-10/
LOCATION:Westminister Chapel\, 329 19th Street North Lethbridge\, Alberta\, Lethbridge\, Alberta\, T1J-4A4\, Canada
GEO:49.6931758;-112.814634
X-APPLE-STRUCTURED-LOCATION;VALUE=URI;X-ADDRESS=Westminister Chapel 329 19th Street North Lethbridge Alberta Lethbridge Alberta T1J-4A4 Canada;X-APPLE-RADIUS=500;X-TITLE=329 19th Street North Lethbridge\, Alberta:geo:-112.814634,49.6931758
END:VEVENT
BEGIN:VEVENT
DTSTART;TZID=America/Edmonton:20230108T114500
DTEND;TZID=America/Edmonton:20230108T120000
DTSTAMP:20260423T102439
CREATED:20230106T180652Z
LAST-MODIFIED:20230106T180652Z
UID:10002578-1673178300-1673179200@westminsterchapelpca.ca
SUMMARY:Streets Alive Presentation
DESCRIPTION:Today there will be a mission presentation from Streets Alive after the service.  Next week there will be a special 2nd offering held during the morning service for the work of Streets Alive within our community.
URL:https://westminsterchapelpca.ca/event/streets-alive-presentation/
LOCATION:Westminister Chapel\, 329 19th Street North Lethbridge\, Alberta\, Lethbridge\, Alberta\, T1J-4A4\, Canada
GEO:49.6931758;-112.814634
X-APPLE-STRUCTURED-LOCATION;VALUE=URI;X-ADDRESS=Westminister Chapel 329 19th Street North Lethbridge Alberta Lethbridge Alberta T1J-4A4 Canada;X-APPLE-RADIUS=500;X-TITLE=329 19th Street North Lethbridge\, Alberta:geo:-112.814634,49.6931758
END:VEVENT
BEGIN:VEVENT
DTSTART;TZID=America/Edmonton:20221211T120000
DTEND;TZID=America/Edmonton:20221211T120000
DTSTAMP:20260423T102439
CREATED:20221126T203929Z
LAST-MODIFIED:20221126T203929Z
UID:10002492-1670760000-1670760000@westminsterchapelpca.ca
SUMMARY:Soup Kitchen Presentation
DESCRIPTION:Bill Ginter \nLethbridge Soup Kitchen Presentation
URL:https://westminsterchapelpca.ca/event/soup-kitchen-presentation/
LOCATION:Westminister Chapel\, 329 19th Street North Lethbridge\, Alberta\, Lethbridge\, Alberta\, T1J-4A4\, Canada
GEO:49.6931758;-112.814634
X-APPLE-STRUCTURED-LOCATION;VALUE=URI;X-ADDRESS=Westminister Chapel 329 19th Street North Lethbridge Alberta Lethbridge Alberta T1J-4A4 Canada;X-APPLE-RADIUS=500;X-TITLE=329 19th Street North Lethbridge\, Alberta:geo:-112.814634,49.6931758
END:VEVENT
BEGIN:VEVENT
DTSTART;TZID=America/Edmonton:20221204T163000
DTEND;TZID=America/Edmonton:20221204T173000
DTSTAMP:20260423T102439
CREATED:20211230T195107Z
LAST-MODIFIED:20220604T023433Z
UID:10001765-1670171400-1670175000@westminsterchapelpca.ca
SUMMARY:PM Worship
DESCRIPTION:Pastor Brad Jones \nActs 3:1-26 \nWhat We Have to Give
URL:https://westminsterchapelpca.ca/event/sunday-pm-worship-28-2022-05-22/2022-12-04/
LOCATION:Westminister Chapel\, 329 19th Street North Lethbridge\, Alberta\, Lethbridge\, Alberta\, T1J-4A4\, Canada
CATEGORIES:Worship Services
GEO:49.6931758;-112.814634
X-APPLE-STRUCTURED-LOCATION;VALUE=URI;X-ADDRESS=Westminister Chapel 329 19th Street North Lethbridge Alberta Lethbridge Alberta T1J-4A4 Canada;X-APPLE-RADIUS=500;X-TITLE=329 19th Street North Lethbridge\, Alberta:geo:-112.814634,49.6931758
END:VEVENT
BEGIN:VEVENT
DTSTART;TZID=America/Edmonton:20221120T163000
DTEND;TZID=America/Edmonton:20221120T173000
DTSTAMP:20260423T102439
CREATED:20211230T195107Z
LAST-MODIFIED:20220604T023433Z
UID:10001763-1668961800-1668965400@westminsterchapelpca.ca
SUMMARY:PM Worship
DESCRIPTION:Pastor Brad Jones \nActs 3:1-26 \nWhat We Have to Give
URL:https://westminsterchapelpca.ca/event/sunday-pm-worship-28-2022-05-22/2022-11-20/
LOCATION:Westminister Chapel\, 329 19th Street North Lethbridge\, Alberta\, Lethbridge\, Alberta\, T1J-4A4\, Canada
CATEGORIES:Worship Services
GEO:49.6931758;-112.814634
X-APPLE-STRUCTURED-LOCATION;VALUE=URI;X-ADDRESS=Westminister Chapel 329 19th Street North Lethbridge Alberta Lethbridge Alberta T1J-4A4 Canada;X-APPLE-RADIUS=500;X-TITLE=329 19th Street North Lethbridge\, Alberta:geo:-112.814634,49.6931758
END:VEVENT
BEGIN:VEVENT
DTSTART;TZID=America/Edmonton:20221113T163000
DTEND;TZID=America/Edmonton:20221113T173000
DTSTAMP:20260423T102439
CREATED:20211230T195107Z
LAST-MODIFIED:20220604T023433Z
UID:10001762-1668357000-1668360600@westminsterchapelpca.ca
SUMMARY:PM Worship
DESCRIPTION:Pastor Brad Jones \nActs 3:1-26 \nWhat We Have to Give
URL:https://westminsterchapelpca.ca/event/sunday-pm-worship-28-2022-05-22/2022-11-13/
LOCATION:Westminister Chapel\, 329 19th Street North Lethbridge\, Alberta\, Lethbridge\, Alberta\, T1J-4A4\, Canada
CATEGORIES:Worship Services
GEO:49.6931758;-112.814634
X-APPLE-STRUCTURED-LOCATION;VALUE=URI;X-ADDRESS=Westminister Chapel 329 19th Street North Lethbridge Alberta Lethbridge Alberta T1J-4A4 Canada;X-APPLE-RADIUS=500;X-TITLE=329 19th Street North Lethbridge\, Alberta:geo:-112.814634,49.6931758
END:VEVENT
BEGIN:VEVENT
DTSTART;TZID=America/Edmonton:20221106T163000
DTEND;TZID=America/Edmonton:20221106T173000
DTSTAMP:20260423T102439
CREATED:20211230T195107Z
LAST-MODIFIED:20220604T023433Z
UID:10001761-1667752200-1667755800@westminsterchapelpca.ca
SUMMARY:PM Worship
DESCRIPTION:Pastor Brad Jones \nActs 3:1-26 \nWhat We Have to Give
URL:https://westminsterchapelpca.ca/event/sunday-pm-worship-28-2022-05-22/2022-11-06/
LOCATION:Westminister Chapel\, 329 19th Street North Lethbridge\, Alberta\, Lethbridge\, Alberta\, T1J-4A4\, Canada
CATEGORIES:Worship Services
GEO:49.6931758;-112.814634
X-APPLE-STRUCTURED-LOCATION;VALUE=URI;X-ADDRESS=Westminister Chapel 329 19th Street North Lethbridge Alberta Lethbridge Alberta T1J-4A4 Canada;X-APPLE-RADIUS=500;X-TITLE=329 19th Street North Lethbridge\, Alberta:geo:-112.814634,49.6931758
END:VEVENT
BEGIN:VEVENT
DTSTART;TZID=America/Edmonton:20221030T163000
DTEND;TZID=America/Edmonton:20221030T173000
DTSTAMP:20260423T102439
CREATED:20211230T195107Z
LAST-MODIFIED:20220604T023433Z
UID:10001760-1667147400-1667151000@westminsterchapelpca.ca
SUMMARY:PM Worship
DESCRIPTION:Pastor Brad Jones \nActs 3:1-26 \nWhat We Have to Give
URL:https://westminsterchapelpca.ca/event/sunday-pm-worship-28-2022-05-22/2022-10-30/
LOCATION:Westminister Chapel\, 329 19th Street North Lethbridge\, Alberta\, Lethbridge\, Alberta\, T1J-4A4\, Canada
CATEGORIES:Worship Services
GEO:49.6931758;-112.814634
X-APPLE-STRUCTURED-LOCATION;VALUE=URI;X-ADDRESS=Westminister Chapel 329 19th Street North Lethbridge Alberta Lethbridge Alberta T1J-4A4 Canada;X-APPLE-RADIUS=500;X-TITLE=329 19th Street North Lethbridge\, Alberta:geo:-112.814634,49.6931758
END:VEVENT
BEGIN:VEVENT
DTSTART;TZID=America/Edmonton:20221023T163000
DTEND;TZID=America/Edmonton:20221023T173000
DTSTAMP:20260423T102439
CREATED:20211230T195107Z
LAST-MODIFIED:20220604T023433Z
UID:10001759-1666542600-1666546200@westminsterchapelpca.ca
SUMMARY:PM Worship
DESCRIPTION:Pastor Brad Jones \nActs 3:1-26 \nWhat We Have to Give
URL:https://westminsterchapelpca.ca/event/sunday-pm-worship-28-2022-05-22/2022-10-23/
LOCATION:Westminister Chapel\, 329 19th Street North Lethbridge\, Alberta\, Lethbridge\, Alberta\, T1J-4A4\, Canada
CATEGORIES:Worship Services
GEO:49.6931758;-112.814634
X-APPLE-STRUCTURED-LOCATION;VALUE=URI;X-ADDRESS=Westminister Chapel 329 19th Street North Lethbridge Alberta Lethbridge Alberta T1J-4A4 Canada;X-APPLE-RADIUS=500;X-TITLE=329 19th Street North Lethbridge\, Alberta:geo:-112.814634,49.6931758
END:VEVENT
BEGIN:VEVENT
DTSTART;TZID=America/Edmonton:20221016T163000
DTEND;TZID=America/Edmonton:20221016T173000
DTSTAMP:20260423T102439
CREATED:20211230T195107Z
LAST-MODIFIED:20220604T023433Z
UID:10001758-1665937800-1665941400@westminsterchapelpca.ca
SUMMARY:PM Worship
DESCRIPTION:Pastor Brad Jones \nActs 3:1-26 \nWhat We Have to Give
URL:https://westminsterchapelpca.ca/event/sunday-pm-worship-28-2022-05-22/2022-10-16/
LOCATION:Westminister Chapel\, 329 19th Street North Lethbridge\, Alberta\, Lethbridge\, Alberta\, T1J-4A4\, Canada
CATEGORIES:Worship Services
GEO:49.6931758;-112.814634
X-APPLE-STRUCTURED-LOCATION;VALUE=URI;X-ADDRESS=Westminister Chapel 329 19th Street North Lethbridge Alberta Lethbridge Alberta T1J-4A4 Canada;X-APPLE-RADIUS=500;X-TITLE=329 19th Street North Lethbridge\, Alberta:geo:-112.814634,49.6931758
END:VEVENT
BEGIN:VEVENT
DTSTART;TZID=America/Edmonton:20221009T163000
DTEND;TZID=America/Edmonton:20221009T173000
DTSTAMP:20260423T102439
CREATED:20211230T195107Z
LAST-MODIFIED:20220604T023433Z
UID:10001757-1665333000-1665336600@westminsterchapelpca.ca
SUMMARY:PM Worship
DESCRIPTION:Pastor Brad Jones \nActs 3:1-26 \nWhat We Have to Give
URL:https://westminsterchapelpca.ca/event/sunday-pm-worship-28-2022-05-22/2022-10-09/
LOCATION:Westminister Chapel\, 329 19th Street North Lethbridge\, Alberta\, Lethbridge\, Alberta\, T1J-4A4\, Canada
CATEGORIES:Worship Services
GEO:49.6931758;-112.814634
X-APPLE-STRUCTURED-LOCATION;VALUE=URI;X-ADDRESS=Westminister Chapel 329 19th Street North Lethbridge Alberta Lethbridge Alberta T1J-4A4 Canada;X-APPLE-RADIUS=500;X-TITLE=329 19th Street North Lethbridge\, Alberta:geo:-112.814634,49.6931758
END:VEVENT
BEGIN:VEVENT
DTSTART;TZID=America/Edmonton:20221002T163000
DTEND;TZID=America/Edmonton:20221002T173000
DTSTAMP:20260423T102439
CREATED:20211230T195107Z
LAST-MODIFIED:20220604T023433Z
UID:10001756-1664728200-1664731800@westminsterchapelpca.ca
SUMMARY:PM Worship
DESCRIPTION:Pastor Brad Jones \nActs 3:1-26 \nWhat We Have to Give
URL:https://westminsterchapelpca.ca/event/sunday-pm-worship-28-2022-05-22/2022-10-02/
LOCATION:Westminister Chapel\, 329 19th Street North Lethbridge\, Alberta\, Lethbridge\, Alberta\, T1J-4A4\, Canada
CATEGORIES:Worship Services
GEO:49.6931758;-112.814634
X-APPLE-STRUCTURED-LOCATION;VALUE=URI;X-ADDRESS=Westminister Chapel 329 19th Street North Lethbridge Alberta Lethbridge Alberta T1J-4A4 Canada;X-APPLE-RADIUS=500;X-TITLE=329 19th Street North Lethbridge\, Alberta:geo:-112.814634,49.6931758
END:VEVENT
BEGIN:VEVENT
DTSTART;TZID=America/Edmonton:20220925T163000
DTEND;TZID=America/Edmonton:20220925T173000
DTSTAMP:20260423T102439
CREATED:20211230T195107Z
LAST-MODIFIED:20220604T023433Z
UID:10001755-1664123400-1664127000@westminsterchapelpca.ca
SUMMARY:PM Worship
DESCRIPTION:Pastor Brad Jones \nActs 3:1-26 \nWhat We Have to Give
URL:https://westminsterchapelpca.ca/event/sunday-pm-worship-28-2022-05-22/2022-09-25/
LOCATION:Westminister Chapel\, 329 19th Street North Lethbridge\, Alberta\, Lethbridge\, Alberta\, T1J-4A4\, Canada
CATEGORIES:Worship Services
GEO:49.6931758;-112.814634
X-APPLE-STRUCTURED-LOCATION;VALUE=URI;X-ADDRESS=Westminister Chapel 329 19th Street North Lethbridge Alberta Lethbridge Alberta T1J-4A4 Canada;X-APPLE-RADIUS=500;X-TITLE=329 19th Street North Lethbridge\, Alberta:geo:-112.814634,49.6931758
END:VEVENT
BEGIN:VEVENT
DTSTART;TZID=America/Edmonton:20220918T163000
DTEND;TZID=America/Edmonton:20220918T173000
DTSTAMP:20260423T102439
CREATED:20211230T195107Z
LAST-MODIFIED:20220604T023433Z
UID:10001754-1663518600-1663522200@westminsterchapelpca.ca
SUMMARY:PM Worship
DESCRIPTION:Pastor Brad Jones \nActs 3:1-26 \nWhat We Have to Give
URL:https://westminsterchapelpca.ca/event/sunday-pm-worship-28-2022-05-22/2022-09-18/
LOCATION:Westminister Chapel\, 329 19th Street North Lethbridge\, Alberta\, Lethbridge\, Alberta\, T1J-4A4\, Canada
CATEGORIES:Worship Services
GEO:49.6931758;-112.814634
X-APPLE-STRUCTURED-LOCATION;VALUE=URI;X-ADDRESS=Westminister Chapel 329 19th Street North Lethbridge Alberta Lethbridge Alberta T1J-4A4 Canada;X-APPLE-RADIUS=500;X-TITLE=329 19th Street North Lethbridge\, Alberta:geo:-112.814634,49.6931758
END:VEVENT
BEGIN:VEVENT
DTSTART;TZID=America/Edmonton:20220911T163000
DTEND;TZID=America/Edmonton:20220911T173000
DTSTAMP:20260423T102439
CREATED:20211230T195107Z
LAST-MODIFIED:20220604T023433Z
UID:10001753-1662913800-1662917400@westminsterchapelpca.ca
SUMMARY:PM Worship
DESCRIPTION:Pastor Brad Jones \nActs 3:1-26 \nWhat We Have to Give
URL:https://westminsterchapelpca.ca/event/sunday-pm-worship-28-2022-05-22/2022-09-11/
LOCATION:Westminister Chapel\, 329 19th Street North Lethbridge\, Alberta\, Lethbridge\, Alberta\, T1J-4A4\, Canada
CATEGORIES:Worship Services
GEO:49.6931758;-112.814634
X-APPLE-STRUCTURED-LOCATION;VALUE=URI;X-ADDRESS=Westminister Chapel 329 19th Street North Lethbridge Alberta Lethbridge Alberta T1J-4A4 Canada;X-APPLE-RADIUS=500;X-TITLE=329 19th Street North Lethbridge\, Alberta:geo:-112.814634,49.6931758
END:VEVENT
BEGIN:VEVENT
DTSTART;TZID=America/Edmonton:20220911T103000
DTEND;TZID=America/Edmonton:20220911T113000
DTSTAMP:20260423T102439
CREATED:20211230T194226Z
LAST-MODIFIED:20220909T020829Z
UID:10001641-1662892200-1662895800@westminsterchapelpca.ca
SUMMARY:AM Worship
DESCRIPTION:Rotary Picnic Shelter\, Giffen Rd N\, Lethbridge\, AB \nPastor Bryan Clark \nZephaniah 3:16-17 \nThe Singing God \n 
URL:https://westminsterchapelpca.ca/event/sunday-am-worship-35-2022-01-09-2022-09-11/
LOCATION:Westminister Chapel\, 329 19th Street North Lethbridge\, Alberta\, Lethbridge\, Alberta\, T1J-4A4\, Canada
CATEGORIES:Worship Services
GEO:49.6931758;-112.814634
X-APPLE-STRUCTURED-LOCATION;VALUE=URI;X-ADDRESS=Westminister Chapel 329 19th Street North Lethbridge Alberta Lethbridge Alberta T1J-4A4 Canada;X-APPLE-RADIUS=500;X-TITLE=329 19th Street North Lethbridge\, Alberta:geo:-112.814634,49.6931758
END:VEVENT
BEGIN:VEVENT
DTSTART;TZID=America/Edmonton:20220904T163000
DTEND;TZID=America/Edmonton:20220904T173000
DTSTAMP:20260423T102439
CREATED:20211230T195107Z
LAST-MODIFIED:20220604T023433Z
UID:10001752-1662309000-1662312600@westminsterchapelpca.ca
SUMMARY:PM Worship
DESCRIPTION:Pastor Brad Jones \nActs 3:1-26 \nWhat We Have to Give
URL:https://westminsterchapelpca.ca/event/sunday-pm-worship-28-2022-05-22/2022-09-04/
LOCATION:Westminister Chapel\, 329 19th Street North Lethbridge\, Alberta\, Lethbridge\, Alberta\, T1J-4A4\, Canada
CATEGORIES:Worship Services
GEO:49.6931758;-112.814634
X-APPLE-STRUCTURED-LOCATION;VALUE=URI;X-ADDRESS=Westminister Chapel 329 19th Street North Lethbridge Alberta Lethbridge Alberta T1J-4A4 Canada;X-APPLE-RADIUS=500;X-TITLE=329 19th Street North Lethbridge\, Alberta:geo:-112.814634,49.6931758
END:VEVENT
BEGIN:VEVENT
DTSTART;TZID=America/Edmonton:20220904T120000
DTEND;TZID=America/Edmonton:20220904T150000
DTSTAMP:20260423T102439
CREATED:20211230T195107Z
LAST-MODIFIED:20220903T160713Z
UID:10002244-1662292800-1662303600@westminsterchapelpca.ca
SUMMARY:Community Groups
DESCRIPTION:
URL:https://westminsterchapelpca.ca/event/sunday-pm-worship-28-2022-05-22-2022-07-24-2022-09-04/
LOCATION:Westminister Chapel\, 329 19th Street North Lethbridge\, Alberta\, Lethbridge\, Alberta\, T1J-4A4\, Canada
CATEGORIES:Worship Services
GEO:49.6931758;-112.814634
X-APPLE-STRUCTURED-LOCATION;VALUE=URI;X-ADDRESS=Westminister Chapel 329 19th Street North Lethbridge Alberta Lethbridge Alberta T1J-4A4 Canada;X-APPLE-RADIUS=500;X-TITLE=329 19th Street North Lethbridge\, Alberta:geo:-112.814634,49.6931758
END:VEVENT
BEGIN:VEVENT
DTSTART;TZID=America/Edmonton:20220904T103000
DTEND;TZID=America/Edmonton:20220904T113000
DTSTAMP:20260423T102439
CREATED:20211230T194226Z
LAST-MODIFIED:20220903T160538Z
UID:10001640-1662287400-1662291000@westminsterchapelpca.ca
SUMMARY:AM Worship
DESCRIPTION:Worship at Amazing Grace Community Church
URL:https://westminsterchapelpca.ca/event/sunday-am-worship-35-2022-01-09-2022-09-04/
LOCATION:Westminister Chapel\, 329 19th Street North Lethbridge\, Alberta\, Lethbridge\, Alberta\, T1J-4A4\, Canada
CATEGORIES:Worship Services
GEO:49.6931758;-112.814634
X-APPLE-STRUCTURED-LOCATION;VALUE=URI;X-ADDRESS=Westminister Chapel 329 19th Street North Lethbridge Alberta Lethbridge Alberta T1J-4A4 Canada;X-APPLE-RADIUS=500;X-TITLE=329 19th Street North Lethbridge\, Alberta:geo:-112.814634,49.6931758
END:VEVENT
BEGIN:VEVENT
DTSTART;TZID=America/Edmonton:20220828T163000
DTEND;TZID=America/Edmonton:20220828T173000
DTSTAMP:20260423T102439
CREATED:20211230T195107Z
LAST-MODIFIED:20220826T021804Z
UID:10002243-1661704200-1661707800@westminsterchapelpca.ca
SUMMARY:PM Worship
DESCRIPTION:Pastor Cameron Fraser \nRevelation 3:14-22 \n“The Duke’s Daughter”
URL:https://westminsterchapelpca.ca/event/sunday-pm-worship-28-2022-05-22-2022-07-24-2022-08-28/
LOCATION:Westminister Chapel\, 329 19th Street North Lethbridge\, Alberta\, Lethbridge\, Alberta\, T1J-4A4\, Canada
CATEGORIES:Worship Services
GEO:49.6931758;-112.814634
X-APPLE-STRUCTURED-LOCATION;VALUE=URI;X-ADDRESS=Westminister Chapel 329 19th Street North Lethbridge Alberta Lethbridge Alberta T1J-4A4 Canada;X-APPLE-RADIUS=500;X-TITLE=329 19th Street North Lethbridge\, Alberta:geo:-112.814634,49.6931758
END:VEVENT
BEGIN:VEVENT
DTSTART;TZID=America/Edmonton:20220828T163000
DTEND;TZID=America/Edmonton:20220828T173000
DTSTAMP:20260423T102439
CREATED:20211230T195107Z
LAST-MODIFIED:20220604T023433Z
UID:10001751-1661704200-1661707800@westminsterchapelpca.ca
SUMMARY:PM Worship
DESCRIPTION:Pastor Brad Jones \nActs 3:1-26 \nWhat We Have to Give
URL:https://westminsterchapelpca.ca/event/sunday-pm-worship-28-2022-05-22/2022-08-28/
LOCATION:Westminister Chapel\, 329 19th Street North Lethbridge\, Alberta\, Lethbridge\, Alberta\, T1J-4A4\, Canada
CATEGORIES:Worship Services
GEO:49.6931758;-112.814634
X-APPLE-STRUCTURED-LOCATION;VALUE=URI;X-ADDRESS=Westminister Chapel 329 19th Street North Lethbridge Alberta Lethbridge Alberta T1J-4A4 Canada;X-APPLE-RADIUS=500;X-TITLE=329 19th Street North Lethbridge\, Alberta:geo:-112.814634,49.6931758
END:VEVENT
BEGIN:VEVENT
DTSTART;TZID=America/Edmonton:20220828T103000
DTEND;TZID=America/Edmonton:20220828T113000
DTSTAMP:20260423T102439
CREATED:20211230T194226Z
LAST-MODIFIED:20220826T021713Z
UID:10001639-1661682600-1661686200@westminsterchapelpca.ca
SUMMARY:AM Worship
DESCRIPTION:Pastor Jim Zondervan \nPsalm 100 \n“God Is Good All the TIme”
URL:https://westminsterchapelpca.ca/event/sunday-am-worship-35-2022-01-09-2022-08-28/
LOCATION:Westminister Chapel\, 329 19th Street North Lethbridge\, Alberta\, Lethbridge\, Alberta\, T1J-4A4\, Canada
CATEGORIES:Worship Services
GEO:49.6931758;-112.814634
X-APPLE-STRUCTURED-LOCATION;VALUE=URI;X-ADDRESS=Westminister Chapel 329 19th Street North Lethbridge Alberta Lethbridge Alberta T1J-4A4 Canada;X-APPLE-RADIUS=500;X-TITLE=329 19th Street North Lethbridge\, Alberta:geo:-112.814634,49.6931758
END:VEVENT
BEGIN:VEVENT
DTSTART;TZID=America/Edmonton:20220821T163000
DTEND;TZID=America/Edmonton:20220821T173000
DTSTAMP:20260423T102439
CREATED:20211230T195107Z
LAST-MODIFIED:20220604T023433Z
UID:10001750-1661099400-1661103000@westminsterchapelpca.ca
SUMMARY:PM Worship
DESCRIPTION:Pastor Brad Jones \nActs 3:1-26 \nWhat We Have to Give
URL:https://westminsterchapelpca.ca/event/sunday-pm-worship-28-2022-05-22/2022-08-21/
LOCATION:Westminister Chapel\, 329 19th Street North Lethbridge\, Alberta\, Lethbridge\, Alberta\, T1J-4A4\, Canada
CATEGORIES:Worship Services
GEO:49.6931758;-112.814634
X-APPLE-STRUCTURED-LOCATION;VALUE=URI;X-ADDRESS=Westminister Chapel 329 19th Street North Lethbridge Alberta Lethbridge Alberta T1J-4A4 Canada;X-APPLE-RADIUS=500;X-TITLE=329 19th Street North Lethbridge\, Alberta:geo:-112.814634,49.6931758
END:VEVENT
BEGIN:VEVENT
DTSTART;TZID=America/Edmonton:20220821T120000
DTEND;TZID=America/Edmonton:20220821T150000
DTSTAMP:20260423T102439
CREATED:20211230T195107Z
LAST-MODIFIED:20220819T020138Z
UID:10001880-1661083200-1661094000@westminsterchapelpca.ca
SUMMARY:Community Groups
DESCRIPTION:Community Groups
URL:https://westminsterchapelpca.ca/event/sunday-pm-worship-28-2022-05-22-2022-07-24-2022-08-21/
LOCATION:Westminister Chapel\, 329 19th Street North Lethbridge\, Alberta\, Lethbridge\, Alberta\, T1J-4A4\, Canada
CATEGORIES:Worship Services
GEO:49.6931758;-112.814634
X-APPLE-STRUCTURED-LOCATION;VALUE=URI;X-ADDRESS=Westminister Chapel 329 19th Street North Lethbridge Alberta Lethbridge Alberta T1J-4A4 Canada;X-APPLE-RADIUS=500;X-TITLE=329 19th Street North Lethbridge\, Alberta:geo:-112.814634,49.6931758
END:VEVENT
BEGIN:VEVENT
DTSTART;TZID=America/Edmonton:20220821T103000
DTEND;TZID=America/Edmonton:20220821T113000
DTSTAMP:20260423T102439
CREATED:20211230T194226Z
LAST-MODIFIED:20220819T020035Z
UID:10001638-1661077800-1661081400@westminsterchapelpca.ca
SUMMARY:AM Worship
DESCRIPTION:Pastor Wes Hynd \nIsaiah 40 \nGod Will Always Come Through
URL:https://westminsterchapelpca.ca/event/sunday-am-worship-35-2022-01-09-2022-08-21/
LOCATION:Westminister Chapel\, 329 19th Street North Lethbridge\, Alberta\, Lethbridge\, Alberta\, T1J-4A4\, Canada
CATEGORIES:Worship Services
GEO:49.6931758;-112.814634
X-APPLE-STRUCTURED-LOCATION;VALUE=URI;X-ADDRESS=Westminister Chapel 329 19th Street North Lethbridge Alberta Lethbridge Alberta T1J-4A4 Canada;X-APPLE-RADIUS=500;X-TITLE=329 19th Street North Lethbridge\, Alberta:geo:-112.814634,49.6931758
END:VEVENT
BEGIN:VEVENT
DTSTART;TZID=America/Edmonton:20220814T163000
DTEND;TZID=America/Edmonton:20220814T173000
DTSTAMP:20260423T102439
CREATED:20211230T195107Z
LAST-MODIFIED:20220604T023433Z
UID:10001749-1660494600-1660498200@westminsterchapelpca.ca
SUMMARY:PM Worship
DESCRIPTION:Pastor Brad Jones \nActs 3:1-26 \nWhat We Have to Give
URL:https://westminsterchapelpca.ca/event/sunday-pm-worship-28-2022-05-22/2022-08-14/
LOCATION:Westminister Chapel\, 329 19th Street North Lethbridge\, Alberta\, Lethbridge\, Alberta\, T1J-4A4\, Canada
CATEGORIES:Worship Services
GEO:49.6931758;-112.814634
X-APPLE-STRUCTURED-LOCATION;VALUE=URI;X-ADDRESS=Westminister Chapel 329 19th Street North Lethbridge Alberta Lethbridge Alberta T1J-4A4 Canada;X-APPLE-RADIUS=500;X-TITLE=329 19th Street North Lethbridge\, Alberta:geo:-112.814634,49.6931758
END:VEVENT
BEGIN:VEVENT
DTSTART;TZID=America/Edmonton:20220814T163000
DTEND;TZID=America/Edmonton:20220814T173000
DTSTAMP:20260423T102439
CREATED:20211230T195107Z
LAST-MODIFIED:20220814T003140Z
UID:10001879-1660494600-1660498200@westminsterchapelpca.ca
SUMMARY:PM Worship
DESCRIPTION:Pastor Yuji Iwata \nScripture Reading: Luke 10:25-37 \nSermon: “Who is my neighbor?” \n 
URL:https://westminsterchapelpca.ca/event/sunday-pm-worship-28-2022-05-22-2022-07-24-2022-08-14/
LOCATION:Westminister Chapel\, 329 19th Street North Lethbridge\, Alberta\, Lethbridge\, Alberta\, T1J-4A4\, Canada
CATEGORIES:Worship Services
GEO:49.6931758;-112.814634
X-APPLE-STRUCTURED-LOCATION;VALUE=URI;X-ADDRESS=Westminister Chapel 329 19th Street North Lethbridge Alberta Lethbridge Alberta T1J-4A4 Canada;X-APPLE-RADIUS=500;X-TITLE=329 19th Street North Lethbridge\, Alberta:geo:-112.814634,49.6931758
END:VEVENT
BEGIN:VEVENT
DTSTART;TZID=America/Edmonton:20220814T103000
DTEND;TZID=America/Edmonton:20220814T113000
DTSTAMP:20260423T102439
CREATED:20211230T194226Z
LAST-MODIFIED:20220814T003042Z
UID:10001637-1660473000-1660476600@westminsterchapelpca.ca
SUMMARY:AM Worship
DESCRIPTION:Pastor Bert Gibson \nScripture Reading: Galatians 3:1-14 \nSermon: “The temptation of tradition”
URL:https://westminsterchapelpca.ca/event/sunday-am-worship-35-2022-01-09-2022-08-14/
LOCATION:Westminister Chapel\, 329 19th Street North Lethbridge\, Alberta\, Lethbridge\, Alberta\, T1J-4A4\, Canada
CATEGORIES:Worship Services
GEO:49.6931758;-112.814634
X-APPLE-STRUCTURED-LOCATION;VALUE=URI;X-ADDRESS=Westminister Chapel 329 19th Street North Lethbridge Alberta Lethbridge Alberta T1J-4A4 Canada;X-APPLE-RADIUS=500;X-TITLE=329 19th Street North Lethbridge\, Alberta:geo:-112.814634,49.6931758
END:VEVENT
END:VCALENDAR