BEGIN:VCALENDAR
VERSION:2.0
PRODID:-//Westminster Chapel - ECPv6.15.13.1//NONSGML v1.0//EN
CALSCALE:GREGORIAN
METHOD:PUBLISH
X-WR-CALNAME:Westminster Chapel
X-ORIGINAL-URL:https://westminsterchapelpca.ca
X-WR-CALDESC:Events for Westminster Chapel
REFRESH-INTERVAL;VALUE=DURATION:PT1H
X-Robots-Tag:noindex
X-PUBLISHED-TTL:PT1H
BEGIN:VTIMEZONE
TZID:America/Edmonton
BEGIN:DAYLIGHT
TZOFFSETFROM:-0700
TZOFFSETTO:-0600
TZNAME:MDT
DTSTART:20200308T090000
END:DAYLIGHT
BEGIN:STANDARD
TZOFFSETFROM:-0600
TZOFFSETTO:-0700
TZNAME:MST
DTSTART:20201101T080000
END:STANDARD
BEGIN:DAYLIGHT
TZOFFSETFROM:-0700
TZOFFSETTO:-0600
TZNAME:MDT
DTSTART:20210314T090000
END:DAYLIGHT
BEGIN:STANDARD
TZOFFSETFROM:-0600
TZOFFSETTO:-0700
TZNAME:MST
DTSTART:20211107T080000
END:STANDARD
BEGIN:DAYLIGHT
TZOFFSETFROM:-0700
TZOFFSETTO:-0600
TZNAME:MDT
DTSTART:20220313T090000
END:DAYLIGHT
BEGIN:STANDARD
TZOFFSETFROM:-0600
TZOFFSETTO:-0700
TZNAME:MST
DTSTART:20221106T080000
END:STANDARD
BEGIN:DAYLIGHT
TZOFFSETFROM:-0700
TZOFFSETTO:-0600
TZNAME:MDT
DTSTART:20230312T090000
END:DAYLIGHT
BEGIN:STANDARD
TZOFFSETFROM:-0600
TZOFFSETTO:-0700
TZNAME:MST
DTSTART:20231105T080000
END:STANDARD
END:VTIMEZONE
BEGIN:VEVENT
DTSTART;TZID=America/Edmonton:20220130T103000
DTEND;TZID=America/Edmonton:20220130T113000
DTSTAMP:20260424T021238
CREATED:20211230T194226Z
LAST-MODIFIED:20220128T035218Z
UID:10002102-1643538600-1643542200@westminsterchapelpca.ca
SUMMARY:AM Worship
DESCRIPTION:Pastor Tom Albaugh \nGalatians 6:11-18 \n“So! Where Does the Church Go\, From Here?”.
URL:https://westminsterchapelpca.ca/event/sunday-am-worship-35-2022-01-09-2022-01-30/
LOCATION:Westminister Chapel\, 329 19th Street North Lethbridge\, Alberta\, Lethbridge\, Alberta\, T1J-4A4\, Canada
CATEGORIES:Worship Services
GEO:49.6931758;-112.814634
X-APPLE-STRUCTURED-LOCATION;VALUE=URI;X-ADDRESS=Westminister Chapel 329 19th Street North Lethbridge Alberta Lethbridge Alberta T1J-4A4 Canada;X-APPLE-RADIUS=500;X-TITLE=329 19th Street North Lethbridge\, Alberta:geo:-112.814634,49.6931758
END:VEVENT
BEGIN:VEVENT
DTSTART;TZID=America/Edmonton:20220125T190000
DTEND;TZID=America/Edmonton:20220125T210000
DTSTAMP:20260424T021238
CREATED:20220107T011706Z
LAST-MODIFIED:20220107T024520Z
UID:10001886-1643137200-1643144400@westminsterchapelpca.ca
SUMMARY:Women's Evening Bible Study
DESCRIPTION:Romans 1-7: The Gifts of God\, a study by Tim Keller \nThe women’s Tuesday evening Bible study will begin a new study on Tuesday\, January 25th at 7pm. We will study Romans 1-7: The Gifts of God\, a study by Tim Keller. This will be a 9-week study\, which includes a break week during Family Week. Please see Victoria de Groot for more information.
URL:https://westminsterchapelpca.ca/event/womens-evening-bible-study/
LOCATION:Westminister Chapel\, 329 19th Street North Lethbridge\, Alberta\, Lethbridge\, Alberta\, T1J-4A4\, Canada
CATEGORIES:Bible Study
GEO:49.6931758;-112.814634
X-APPLE-STRUCTURED-LOCATION;VALUE=URI;X-ADDRESS=Westminister Chapel 329 19th Street North Lethbridge Alberta Lethbridge Alberta T1J-4A4 Canada;X-APPLE-RADIUS=500;X-TITLE=329 19th Street North Lethbridge\, Alberta:geo:-112.814634,49.6931758
END:VEVENT
BEGIN:VEVENT
DTSTART;TZID=America/Edmonton:20220123T163000
DTEND;TZID=America/Edmonton:20220123T173000
DTSTAMP:20260424T021238
CREATED:20211230T195107Z
LAST-MODIFIED:20220121T034801Z
UID:10001736-1642955400-1642959000@westminsterchapelpca.ca
SUMMARY:PM Worship
DESCRIPTION:Pastor Tom Albaugh \nProverbs 3: 5\, 6 \nTrust in the Lord with All your Heart
URL:https://westminsterchapelpca.ca/event/sunday-pm-worship-28-2022-01-23/
LOCATION:Westminister Chapel\, 329 19th Street North Lethbridge\, Alberta\, Lethbridge\, Alberta\, T1J-4A4\, Canada
CATEGORIES:Worship Services
GEO:49.6931758;-112.814634
X-APPLE-STRUCTURED-LOCATION;VALUE=URI;X-ADDRESS=Westminister Chapel 329 19th Street North Lethbridge Alberta Lethbridge Alberta T1J-4A4 Canada;X-APPLE-RADIUS=500;X-TITLE=329 19th Street North Lethbridge\, Alberta:geo:-112.814634,49.6931758
END:VEVENT
BEGIN:VEVENT
DTSTART;TZID=America/Edmonton:20220123T103000
DTEND;TZID=America/Edmonton:20220123T113000
DTSTAMP:20260424T021238
CREATED:20211230T194226Z
LAST-MODIFIED:20220121T034705Z
UID:10002101-1642933800-1642937400@westminsterchapelpca.ca
SUMMARY:AM Worship
DESCRIPTION:Pastor Tom Albaugh \nGalatians 6:6-10 \nThe Fellowship of the Gospel
URL:https://westminsterchapelpca.ca/event/sunday-am-worship-35-2022-01-09-2022-01-23/
LOCATION:Westminister Chapel\, 329 19th Street North Lethbridge\, Alberta\, Lethbridge\, Alberta\, T1J-4A4\, Canada
CATEGORIES:Worship Services
GEO:49.6931758;-112.814634
X-APPLE-STRUCTURED-LOCATION;VALUE=URI;X-ADDRESS=Westminister Chapel 329 19th Street North Lethbridge Alberta Lethbridge Alberta T1J-4A4 Canada;X-APPLE-RADIUS=500;X-TITLE=329 19th Street North Lethbridge\, Alberta:geo:-112.814634,49.6931758
END:VEVENT
BEGIN:VEVENT
DTSTART;TZID=America/Edmonton:20220122T100000
DTEND;TZID=America/Edmonton:20220122T150000
DTSTAMP:20260424T021238
CREATED:20220115T171626Z
LAST-MODIFIED:20220115T171626Z
UID:10001894-1642845600-1642863600@westminsterchapelpca.ca
SUMMARY:Quilting Day
DESCRIPTION:Gather at the church to assemble the quilt for our future pastor. As we are limited to 10 participants\, please contact Martha Albaugh at 403-715-9968 or malbaugh@live.com if you would like to sew\, or if you prefer to cut fabric. Please consider being a part of this exciting project and thank you to those who have contributed by cutting fabric. Many hands make light work.
URL:https://westminsterchapelpca.ca/event/quilting-day/
LOCATION:Westminister Chapel\, 329 19th Street North Lethbridge\, Alberta\, Lethbridge\, Alberta\, T1J-4A4\, Canada
CATEGORIES:Special Event
GEO:49.6931758;-112.814634
X-APPLE-STRUCTURED-LOCATION;VALUE=URI;X-ADDRESS=Westminister Chapel 329 19th Street North Lethbridge Alberta Lethbridge Alberta T1J-4A4 Canada;X-APPLE-RADIUS=500;X-TITLE=329 19th Street North Lethbridge\, Alberta:geo:-112.814634,49.6931758
END:VEVENT
BEGIN:VEVENT
DTSTART;TZID=America/Edmonton:20220116T163000
DTEND;TZID=America/Edmonton:20220116T173000
DTSTAMP:20260424T021238
CREATED:20211230T195107Z
LAST-MODIFIED:20220114T030424Z
UID:10001735-1642350600-1642354200@westminsterchapelpca.ca
SUMMARY:PM Worship
DESCRIPTION:Pastor Tom Albaugh \nGenesis 23:1-20; Hebrews 11:11\, 12 \nTrust in The Lord is Powerful
URL:https://westminsterchapelpca.ca/event/sunday-pm-worship-28-2022-01-16/
LOCATION:Westminister Chapel\, 329 19th Street North Lethbridge\, Alberta\, Lethbridge\, Alberta\, T1J-4A4\, Canada
CATEGORIES:Worship Services
GEO:49.6931758;-112.814634
X-APPLE-STRUCTURED-LOCATION;VALUE=URI;X-ADDRESS=Westminister Chapel 329 19th Street North Lethbridge Alberta Lethbridge Alberta T1J-4A4 Canada;X-APPLE-RADIUS=500;X-TITLE=329 19th Street North Lethbridge\, Alberta:geo:-112.814634,49.6931758
END:VEVENT
BEGIN:VEVENT
DTSTART;TZID=America/Edmonton:20220116T103000
DTEND;TZID=America/Edmonton:20220116T113000
DTSTAMP:20260424T021238
CREATED:20211230T194226Z
LAST-MODIFIED:20220114T030321Z
UID:10002100-1642329000-1642332600@westminsterchapelpca.ca
SUMMARY:AM Worship
DESCRIPTION:Pastor Tom Albaugh \nGalatians 6:1-5 \nDeep in the Walk with Jesus
URL:https://westminsterchapelpca.ca/event/sunday-am-worship-35-2022-01-09-2022-01-16/
LOCATION:Westminister Chapel\, 329 19th Street North Lethbridge\, Alberta\, Lethbridge\, Alberta\, T1J-4A4\, Canada
CATEGORIES:Worship Services
GEO:49.6931758;-112.814634
X-APPLE-STRUCTURED-LOCATION;VALUE=URI;X-ADDRESS=Westminister Chapel 329 19th Street North Lethbridge Alberta Lethbridge Alberta T1J-4A4 Canada;X-APPLE-RADIUS=500;X-TITLE=329 19th Street North Lethbridge\, Alberta:geo:-112.814634,49.6931758
END:VEVENT
BEGIN:VEVENT
DTSTART;TZID=America/Edmonton:20220109T163000
DTEND;TZID=America/Edmonton:20220109T173000
DTSTAMP:20260424T021238
CREATED:20211230T195107Z
LAST-MODIFIED:20220107T034757Z
UID:10001734-1641745800-1641749400@westminsterchapelpca.ca
SUMMARY:PM Worship
DESCRIPTION:Pastor Tom Albaugh \nJames 4:13-15; Lamentations 3:37-40 \nWhere is Your Trust? \n 
URL:https://westminsterchapelpca.ca/event/sunday-pm-worship-28/
LOCATION:Westminister Chapel\, 329 19th Street North Lethbridge\, Alberta\, Lethbridge\, Alberta\, T1J-4A4\, Canada
CATEGORIES:Worship Services
GEO:49.6931758;-112.814634
X-APPLE-STRUCTURED-LOCATION;VALUE=URI;X-ADDRESS=Westminister Chapel 329 19th Street North Lethbridge Alberta Lethbridge Alberta T1J-4A4 Canada;X-APPLE-RADIUS=500;X-TITLE=329 19th Street North Lethbridge\, Alberta:geo:-112.814634,49.6931758
END:VEVENT
BEGIN:VEVENT
DTSTART;TZID=America/Edmonton:20220109T103000
DTEND;TZID=America/Edmonton:20220109T113000
DTSTAMP:20260424T021238
CREATED:20211230T194226Z
LAST-MODIFIED:20220107T034818Z
UID:10002099-1641724200-1641727800@westminsterchapelpca.ca
SUMMARY:AM Worship
DESCRIPTION:Pastor Tom Albaugh \nGalatians 5:19-26 \nBearing the Fruit of Repentance
URL:https://westminsterchapelpca.ca/event/sunday-am-worship-35-2022-01-09/
LOCATION:Westminister Chapel\, 329 19th Street North Lethbridge\, Alberta\, Lethbridge\, Alberta\, T1J-4A4\, Canada
CATEGORIES:Worship Services
GEO:49.6931758;-112.814634
X-APPLE-STRUCTURED-LOCATION;VALUE=URI;X-ADDRESS=Westminister Chapel 329 19th Street North Lethbridge Alberta Lethbridge Alberta T1J-4A4 Canada;X-APPLE-RADIUS=500;X-TITLE=329 19th Street North Lethbridge\, Alberta:geo:-112.814634,49.6931758
END:VEVENT
BEGIN:VEVENT
DTSTART;TZID=America/Edmonton:20220102T163000
DTEND;TZID=America/Edmonton:20220102T173000
DTSTAMP:20260424T021238
CREATED:20211230T194958Z
LAST-MODIFIED:20211230T195452Z
UID:10001733-1641141000-1641144600@westminsterchapelpca.ca
SUMMARY:Sunday PM Worship
DESCRIPTION:Pastor Tom Albaugh \nGalatians 5:16-18  \n“In Step with the Lord for 2022”  
URL:https://westminsterchapelpca.ca/event/sunday-pm-worship-27/
LOCATION:Westminister Chapel\, 329 19th Street North Lethbridge\, Alberta\, Lethbridge\, Alberta\, T1J-4A4\, Canada
CATEGORIES:Worship Services
GEO:49.6931758;-112.814634
X-APPLE-STRUCTURED-LOCATION;VALUE=URI;X-ADDRESS=Westminister Chapel 329 19th Street North Lethbridge Alberta Lethbridge Alberta T1J-4A4 Canada;X-APPLE-RADIUS=500;X-TITLE=329 19th Street North Lethbridge\, Alberta:geo:-112.814634,49.6931758
END:VEVENT
BEGIN:VEVENT
DTSTART;TZID=America/Edmonton:20220102T103000
DTEND;TZID=America/Edmonton:20220102T113000
DTSTAMP:20260424T021238
CREATED:20211230T194226Z
LAST-MODIFIED:20211230T194226Z
UID:10002098-1641119400-1641123000@westminsterchapelpca.ca
SUMMARY:Sunday AM Worship
DESCRIPTION:Pastor Cameron Fraser \nPsalm 67; Matthew 3:13-17 \nA Father’s Smile
URL:https://westminsterchapelpca.ca/event/sunday-am-worship-35/
LOCATION:Westminister Chapel\, 329 19th Street North Lethbridge\, Alberta\, Lethbridge\, Alberta\, T1J-4A4\, Canada
GEO:49.6931758;-112.814634
X-APPLE-STRUCTURED-LOCATION;VALUE=URI;X-ADDRESS=Westminister Chapel 329 19th Street North Lethbridge Alberta Lethbridge Alberta T1J-4A4 Canada;X-APPLE-RADIUS=500;X-TITLE=329 19th Street North Lethbridge\, Alberta:geo:-112.814634,49.6931758
END:VEVENT
BEGIN:VEVENT
DTSTART;TZID=America/Edmonton:20211226T163000
DTEND;TZID=America/Edmonton:20211226T173000
DTSTAMP:20260424T021238
CREATED:20211224T170252Z
LAST-MODIFIED:20211224T170252Z
UID:10002097-1640536200-1640539800@westminsterchapelpca.ca
SUMMARY:Sunday PM Worship
DESCRIPTION:Pastor Rohan Crown \n1 John 4:7-11 \nWhat Do We do With Such a Great Gift?
URL:https://westminsterchapelpca.ca/event/sunday-pm-worship-26/
LOCATION:Westminister Chapel\, 329 19th Street North Lethbridge\, Alberta\, Lethbridge\, Alberta\, T1J-4A4\, Canada
CATEGORIES:Worship Services
GEO:49.6931758;-112.814634
X-APPLE-STRUCTURED-LOCATION;VALUE=URI;X-ADDRESS=Westminister Chapel 329 19th Street North Lethbridge Alberta Lethbridge Alberta T1J-4A4 Canada;X-APPLE-RADIUS=500;X-TITLE=329 19th Street North Lethbridge\, Alberta:geo:-112.814634,49.6931758
END:VEVENT
BEGIN:VEVENT
DTSTART;TZID=America/Edmonton:20211226T103000
DTEND;TZID=America/Edmonton:20211226T113000
DTSTAMP:20260424T021238
CREATED:20211224T170136Z
LAST-MODIFIED:20211224T170136Z
UID:10002096-1640514600-1640518200@westminsterchapelpca.ca
SUMMARY:Sunday AM Worship
DESCRIPTION:Pastor Cameron Fraser \nMatthew 2: 1-12 \nWe Have Seen His Star
URL:https://westminsterchapelpca.ca/event/sunday-am-worship-34/
LOCATION:Westminister Chapel\, 329 19th Street North Lethbridge\, Alberta\, Lethbridge\, Alberta\, T1J-4A4\, Canada
CATEGORIES:Worship Services
GEO:49.6931758;-112.814634
X-APPLE-STRUCTURED-LOCATION;VALUE=URI;X-ADDRESS=Westminister Chapel 329 19th Street North Lethbridge Alberta Lethbridge Alberta T1J-4A4 Canada;X-APPLE-RADIUS=500;X-TITLE=329 19th Street North Lethbridge\, Alberta:geo:-112.814634,49.6931758
END:VEVENT
BEGIN:VEVENT
DTSTART;TZID=America/Edmonton:20211224T180000
DTEND;TZID=America/Edmonton:20211224T190000
DTSTAMP:20260424T021238
CREATED:20211217T025121Z
LAST-MODIFIED:20211217T033301Z
UID:10002095-1640368800-1640372400@westminsterchapelpca.ca
SUMMARY:Christmas Eve Worship
DESCRIPTION:Pastor Jim Zondervan \nPlease contact Ralph Witten at ralphwit@telus.net for service attendance due restrictions of Covid regualtions.
URL:https://westminsterchapelpca.ca/event/christmas-eve-worship-3/
LOCATION:Westminister Chapel\, 329 19th Street North Lethbridge\, Alberta\, Lethbridge\, Alberta\, T1J-4A4\, Canada
CATEGORIES:Worship Services
GEO:49.6931758;-112.814634
X-APPLE-STRUCTURED-LOCATION;VALUE=URI;X-ADDRESS=Westminister Chapel 329 19th Street North Lethbridge Alberta Lethbridge Alberta T1J-4A4 Canada;X-APPLE-RADIUS=500;X-TITLE=329 19th Street North Lethbridge\, Alberta:geo:-112.814634,49.6931758
END:VEVENT
BEGIN:VEVENT
DTSTART;TZID=America/Edmonton:20211224T163000
DTEND;TZID=America/Edmonton:20211224T173000
DTSTAMP:20260424T021238
CREATED:20211217T025012Z
LAST-MODIFIED:20211217T033216Z
UID:10002094-1640363400-1640367000@westminsterchapelpca.ca
SUMMARY:Christmas Eve Worship
DESCRIPTION:Pastor Jim Zondervan \nPlease contact Ralph Witten at ralphwit@telus.net for service attendance due restrictions of Covid regualtions. \n 
URL:https://westminsterchapelpca.ca/event/christmas-eve-worship-2/
LOCATION:Westminister Chapel\, 329 19th Street North Lethbridge\, Alberta\, Lethbridge\, Alberta\, T1J-4A4\, Canada
CATEGORIES:Worship Services
GEO:49.6931758;-112.814634
X-APPLE-STRUCTURED-LOCATION;VALUE=URI;X-ADDRESS=Westminister Chapel 329 19th Street North Lethbridge Alberta Lethbridge Alberta T1J-4A4 Canada;X-APPLE-RADIUS=500;X-TITLE=329 19th Street North Lethbridge\, Alberta:geo:-112.814634,49.6931758
END:VEVENT
BEGIN:VEVENT
DTSTART;TZID=America/Edmonton:20211221T190000
DTEND;TZID=America/Edmonton:20211221T210000
DTSTAMP:20260424T021238
CREATED:20211029T162317Z
LAST-MODIFIED:20211119T204556Z
UID:10001942-1640113200-1640120400@westminsterchapelpca.ca
SUMMARY:Advent Bible Study
DESCRIPTION:The women’s ministry will run a 5-week advent Bible study\, “O Come\, O Come Emmanuel”\, a Lifeway Women advent study. The study will run on Tuesday evenings at 7pm\, beginning November 23rd. Mask wearing and social distancing will be implemented. Please see Victoria de Groot for more details.
URL:https://westminsterchapelpca.ca/event/advent-bible-study-2021-11-30/2021-12-21/
LOCATION:Westminister Chapel\, 329 19th Street North Lethbridge\, Alberta\, Lethbridge\, Alberta\, T1J-4A4\, Canada
CATEGORIES:Bible Study
GEO:49.6931758;-112.814634
X-APPLE-STRUCTURED-LOCATION;VALUE=URI;X-ADDRESS=Westminister Chapel 329 19th Street North Lethbridge Alberta Lethbridge Alberta T1J-4A4 Canada;X-APPLE-RADIUS=500;X-TITLE=329 19th Street North Lethbridge\, Alberta:geo:-112.814634,49.6931758
END:VEVENT
BEGIN:VEVENT
DTSTART;TZID=America/Edmonton:20211219T163000
DTEND;TZID=America/Edmonton:20211219T173000
DTSTAMP:20260424T021238
CREATED:20211217T024846Z
LAST-MODIFIED:20211217T024913Z
UID:10002093-1639931400-1639935000@westminsterchapelpca.ca
SUMMARY:Sunday PM Worship
DESCRIPTION:Pastor Tom Albaugh \nGalatians 5:1-12 \nFighting for your Freedom in Christ
URL:https://westminsterchapelpca.ca/event/sunday-pm-worship-25/
LOCATION:Westminister Chapel\, 329 19th Street North Lethbridge\, Alberta\, Lethbridge\, Alberta\, T1J-4A4\, Canada
CATEGORIES:Worship Services
GEO:49.6931758;-112.814634
X-APPLE-STRUCTURED-LOCATION;VALUE=URI;X-ADDRESS=Westminister Chapel 329 19th Street North Lethbridge Alberta Lethbridge Alberta T1J-4A4 Canada;X-APPLE-RADIUS=500;X-TITLE=329 19th Street North Lethbridge\, Alberta:geo:-112.814634,49.6931758
END:VEVENT
BEGIN:VEVENT
DTSTART;TZID=America/Edmonton:20211219T103000
DTEND;TZID=America/Edmonton:20211219T113000
DTSTAMP:20260424T021238
CREATED:20211217T024714Z
LAST-MODIFIED:20211217T024714Z
UID:10002092-1639909800-1639913400@westminsterchapelpca.ca
SUMMARY:Sunday AM Worship
DESCRIPTION:Pastor Tom Albaugh \nMatthew 1:1-16; 1 Timothy 2:13-15 \nJesus Family Tree: Faithfulness Through Adversity
URL:https://westminsterchapelpca.ca/event/sunday-am-worship-33/
LOCATION:Westminister Chapel\, 329 19th Street North Lethbridge\, Alberta\, Lethbridge\, Alberta\, T1J-4A4\, Canada
CATEGORIES:Worship Services
GEO:49.6931758;-112.814634
X-APPLE-STRUCTURED-LOCATION;VALUE=URI;X-ADDRESS=Westminister Chapel 329 19th Street North Lethbridge Alberta Lethbridge Alberta T1J-4A4 Canada;X-APPLE-RADIUS=500;X-TITLE=329 19th Street North Lethbridge\, Alberta:geo:-112.814634,49.6931758
END:VEVENT
BEGIN:VEVENT
DTSTART;TZID=America/Edmonton:20211214T190000
DTEND;TZID=America/Edmonton:20211214T210000
DTSTAMP:20260424T021238
CREATED:20211029T162317Z
LAST-MODIFIED:20211119T204556Z
UID:10001941-1639508400-1639515600@westminsterchapelpca.ca
SUMMARY:Advent Bible Study
DESCRIPTION:The women’s ministry will run a 5-week advent Bible study\, “O Come\, O Come Emmanuel”\, a Lifeway Women advent study. The study will run on Tuesday evenings at 7pm\, beginning November 23rd. Mask wearing and social distancing will be implemented. Please see Victoria de Groot for more details.
URL:https://westminsterchapelpca.ca/event/advent-bible-study-2021-11-30/2021-12-14/
LOCATION:Westminister Chapel\, 329 19th Street North Lethbridge\, Alberta\, Lethbridge\, Alberta\, T1J-4A4\, Canada
CATEGORIES:Bible Study
GEO:49.6931758;-112.814634
X-APPLE-STRUCTURED-LOCATION;VALUE=URI;X-ADDRESS=Westminister Chapel 329 19th Street North Lethbridge Alberta Lethbridge Alberta T1J-4A4 Canada;X-APPLE-RADIUS=500;X-TITLE=329 19th Street North Lethbridge\, Alberta:geo:-112.814634,49.6931758
END:VEVENT
BEGIN:VEVENT
DTSTART;TZID=America/Edmonton:20211212T163000
DTEND;TZID=America/Edmonton:20211212T173000
DTSTAMP:20260424T021238
CREATED:20211211T043653Z
LAST-MODIFIED:20211211T043653Z
UID:10002091-1639326600-1639330200@westminsterchapelpca.ca
SUMMARY:Sunday PM Worship
DESCRIPTION:Pastor Tom Albaugh \nGalatians 4:21-31 \n“A Tale of Two Mothers” or\, “Are You a Child of the Promise?”
URL:https://westminsterchapelpca.ca/event/sunday-pm-worship-24/
LOCATION:Westminister Chapel\, 329 19th Street North Lethbridge\, Alberta\, Lethbridge\, Alberta\, T1J-4A4\, Canada
CATEGORIES:Worship Services
GEO:49.6931758;-112.814634
X-APPLE-STRUCTURED-LOCATION;VALUE=URI;X-ADDRESS=Westminister Chapel 329 19th Street North Lethbridge Alberta Lethbridge Alberta T1J-4A4 Canada;X-APPLE-RADIUS=500;X-TITLE=329 19th Street North Lethbridge\, Alberta:geo:-112.814634,49.6931758
END:VEVENT
BEGIN:VEVENT
DTSTART;TZID=America/Edmonton:20211212T103000
DTEND;TZID=America/Edmonton:20211212T113000
DTSTAMP:20260424T021238
CREATED:20211211T043528Z
LAST-MODIFIED:20211211T043528Z
UID:10002090-1639305000-1639308600@westminsterchapelpca.ca
SUMMARY:Sunday AM Worship
DESCRIPTION:Pastor Tom Albaugh \nMatthew 5:2-11; Luke 2:8-20 \nChrist’s Birth Brings Peace on Earth
URL:https://westminsterchapelpca.ca/event/sunday-am-worship-32/
LOCATION:Westminister Chapel\, 329 19th Street North Lethbridge\, Alberta\, Lethbridge\, Alberta\, T1J-4A4\, Canada
CATEGORIES:Worship Services
GEO:49.6931758;-112.814634
X-APPLE-STRUCTURED-LOCATION;VALUE=URI;X-ADDRESS=Westminister Chapel 329 19th Street North Lethbridge Alberta Lethbridge Alberta T1J-4A4 Canada;X-APPLE-RADIUS=500;X-TITLE=329 19th Street North Lethbridge\, Alberta:geo:-112.814634,49.6931758
END:VEVENT
BEGIN:VEVENT
DTSTART;TZID=America/Edmonton:20211207T190000
DTEND;TZID=America/Edmonton:20211207T210000
DTSTAMP:20260424T021238
CREATED:20211029T162317Z
LAST-MODIFIED:20211119T204556Z
UID:10001940-1638903600-1638910800@westminsterchapelpca.ca
SUMMARY:Advent Bible Study
DESCRIPTION:The women’s ministry will run a 5-week advent Bible study\, “O Come\, O Come Emmanuel”\, a Lifeway Women advent study. The study will run on Tuesday evenings at 7pm\, beginning November 23rd. Mask wearing and social distancing will be implemented. Please see Victoria de Groot for more details.
URL:https://westminsterchapelpca.ca/event/advent-bible-study-2021-11-30/2021-12-07/
LOCATION:Westminister Chapel\, 329 19th Street North Lethbridge\, Alberta\, Lethbridge\, Alberta\, T1J-4A4\, Canada
CATEGORIES:Bible Study
GEO:49.6931758;-112.814634
X-APPLE-STRUCTURED-LOCATION;VALUE=URI;X-ADDRESS=Westminister Chapel 329 19th Street North Lethbridge Alberta Lethbridge Alberta T1J-4A4 Canada;X-APPLE-RADIUS=500;X-TITLE=329 19th Street North Lethbridge\, Alberta:geo:-112.814634,49.6931758
END:VEVENT
BEGIN:VEVENT
DTSTART;TZID=America/Edmonton:20211205T163000
DTEND;TZID=America/Edmonton:20211205T173000
DTSTAMP:20260424T021238
CREATED:20211204T214449Z
LAST-MODIFIED:20211204T214449Z
UID:10002088-1638721800-1638725400@westminsterchapelpca.ca
SUMMARY:Sunday PM Worship
DESCRIPTION:Pastor Tom Albaugh \nGalatians 4:11-20 \nHelping Someone Who Wants No Help \n 
URL:https://westminsterchapelpca.ca/event/sunday-pm-worship-23/
LOCATION:Westminister Chapel\, 329 19th Street North Lethbridge\, Alberta\, Lethbridge\, Alberta\, T1J-4A4\, Canada
CATEGORIES:Worship Services
GEO:49.6931758;-112.814634
X-APPLE-STRUCTURED-LOCATION;VALUE=URI;X-ADDRESS=Westminister Chapel 329 19th Street North Lethbridge Alberta Lethbridge Alberta T1J-4A4 Canada;X-APPLE-RADIUS=500;X-TITLE=329 19th Street North Lethbridge\, Alberta:geo:-112.814634,49.6931758
END:VEVENT
BEGIN:VEVENT
DTSTART;TZID=America/Edmonton:20211205T103000
DTEND;TZID=America/Edmonton:20211205T113000
DTSTAMP:20260424T021238
CREATED:20211204T214122Z
LAST-MODIFIED:20211204T214122Z
UID:10001984-1638700200-1638703800@westminsterchapelpca.ca
SUMMARY:Sunday AM Worship
DESCRIPTION:Pastor Tom Albaugh \nLuke 2:8-11 \nThe Joy of Salvation
URL:https://westminsterchapelpca.ca/event/sunday-am-worship-31/
LOCATION:Westminister Chapel\, 329 19th Street North Lethbridge\, Alberta\, Lethbridge\, Alberta\, T1J-4A4\, Canada
CATEGORIES:Worship Services
GEO:49.6931758;-112.814634
X-APPLE-STRUCTURED-LOCATION;VALUE=URI;X-ADDRESS=Westminister Chapel 329 19th Street North Lethbridge Alberta Lethbridge Alberta T1J-4A4 Canada;X-APPLE-RADIUS=500;X-TITLE=329 19th Street North Lethbridge\, Alberta:geo:-112.814634,49.6931758
END:VEVENT
BEGIN:VEVENT
DTSTART;TZID=America/Edmonton:20211130T190000
DTEND;TZID=America/Edmonton:20211130T210000
DTSTAMP:20260424T021238
CREATED:20211029T162317Z
LAST-MODIFIED:20211119T204556Z
UID:10001939-1638298800-1638306000@westminsterchapelpca.ca
SUMMARY:Advent Bible Study
DESCRIPTION:The women’s ministry will run a 5-week advent Bible study\, “O Come\, O Come Emmanuel”\, a Lifeway Women advent study. The study will run on Tuesday evenings at 7pm\, beginning November 23rd. Mask wearing and social distancing will be implemented. Please see Victoria de Groot for more details.
URL:https://westminsterchapelpca.ca/event/advent-bible-study-2021-11-30/2021-11-30/
LOCATION:Westminister Chapel\, 329 19th Street North Lethbridge\, Alberta\, Lethbridge\, Alberta\, T1J-4A4\, Canada
CATEGORIES:Bible Study
GEO:49.6931758;-112.814634
X-APPLE-STRUCTURED-LOCATION;VALUE=URI;X-ADDRESS=Westminister Chapel 329 19th Street North Lethbridge Alberta Lethbridge Alberta T1J-4A4 Canada;X-APPLE-RADIUS=500;X-TITLE=329 19th Street North Lethbridge\, Alberta:geo:-112.814634,49.6931758
END:VEVENT
BEGIN:VEVENT
DTSTART;TZID=America/Edmonton:20211128T163000
DTEND;TZID=America/Edmonton:20211128T173000
DTSTAMP:20260424T021238
CREATED:20211126T165018Z
LAST-MODIFIED:20211126T165132Z
UID:10001983-1638117000-1638120600@westminsterchapelpca.ca
SUMMARY:Sunday PM Worship
DESCRIPTION:Pastor Rohan Crown \nIsaiah 54:8 \nIncarnation of Love – An Eternal Love
URL:https://westminsterchapelpca.ca/event/sunday-pm-worship-22/
LOCATION:Westminister Chapel\, 329 19th Street North Lethbridge\, Alberta\, Lethbridge\, Alberta\, T1J-4A4\, Canada
CATEGORIES:Worship Services
GEO:49.6931758;-112.814634
X-APPLE-STRUCTURED-LOCATION;VALUE=URI;X-ADDRESS=Westminister Chapel 329 19th Street North Lethbridge Alberta Lethbridge Alberta T1J-4A4 Canada;X-APPLE-RADIUS=500;X-TITLE=329 19th Street North Lethbridge\, Alberta:geo:-112.814634,49.6931758
END:VEVENT
BEGIN:VEVENT
DTSTART;TZID=America/Edmonton:20211128T103000
DTEND;TZID=America/Edmonton:20211128T233000
DTSTAMP:20260424T021238
CREATED:20211126T164926Z
LAST-MODIFIED:20211126T164926Z
UID:10001982-1638095400-1638142200@westminsterchapelpca.ca
SUMMARY:Sunday AM Worship
DESCRIPTION:Pastor Tom Albaugh \nLuke 1:78-79\, 1 John 4:9 \nGod’s Love Comes to Bethlehem
URL:https://westminsterchapelpca.ca/event/sunday-am-worship-30/
LOCATION:Westminister Chapel\, 329 19th Street North Lethbridge\, Alberta\, Lethbridge\, Alberta\, T1J-4A4\, Canada
CATEGORIES:Worship Services
GEO:49.6931758;-112.814634
X-APPLE-STRUCTURED-LOCATION;VALUE=URI;X-ADDRESS=Westminister Chapel 329 19th Street North Lethbridge Alberta Lethbridge Alberta T1J-4A4 Canada;X-APPLE-RADIUS=500;X-TITLE=329 19th Street North Lethbridge\, Alberta:geo:-112.814634,49.6931758
END:VEVENT
BEGIN:VEVENT
DTSTART;TZID=America/Edmonton:20211123T190000
DTEND;TZID=America/Edmonton:20211123T210000
DTSTAMP:20260424T021238
CREATED:20211029T162317Z
LAST-MODIFIED:20211119T204656Z
UID:10001938-1637694000-1637701200@westminsterchapelpca.ca
SUMMARY:Advent Bible Study
DESCRIPTION:We will discuss questions found in week one of the study. If you need a book\, or have any questions\, please see Victoria de Groot.
URL:https://westminsterchapelpca.ca/event/advent-bible-study/
LOCATION:Westminister Chapel\, 329 19th Street North Lethbridge\, Alberta\, Lethbridge\, Alberta\, T1J-4A4\, Canada
CATEGORIES:Bible Study
GEO:49.6931758;-112.814634
X-APPLE-STRUCTURED-LOCATION;VALUE=URI;X-ADDRESS=Westminister Chapel 329 19th Street North Lethbridge Alberta Lethbridge Alberta T1J-4A4 Canada;X-APPLE-RADIUS=500;X-TITLE=329 19th Street North Lethbridge\, Alberta:geo:-112.814634,49.6931758
END:VEVENT
BEGIN:VEVENT
DTSTART;TZID=America/Edmonton:20211122T190000
DTEND;TZID=America/Edmonton:20211122T200000
DTSTAMP:20260424T021238
CREATED:20211111T214121Z
LAST-MODIFIED:20211111T214121Z
UID:10001948-1637607600-1637611200@westminsterchapelpca.ca
SUMMARY:Congregational Meeting
DESCRIPTION:Upon receiving notice from the Board of Trustees that they accepted an offer for our south side land\, subject to approval by the congregation\, Session is calling the congregation together for a meeting on Monday\, November 22\, at 7:00 p.m.\, at the church. The agenda will be limited to the one item – discuss and approve a motion to accept the offer we have received for our land.  The motion will require a 2/3 majority to pass. If you have any questions\, please contact an elder.
URL:https://westminsterchapelpca.ca/event/congregational-meeting-2/
LOCATION:Westminister Chapel\, 329 19th Street North Lethbridge\, Alberta\, Lethbridge\, Alberta\, T1J-4A4\, Canada
CATEGORIES:Meeting
GEO:49.6931758;-112.814634
X-APPLE-STRUCTURED-LOCATION;VALUE=URI;X-ADDRESS=Westminister Chapel 329 19th Street North Lethbridge Alberta Lethbridge Alberta T1J-4A4 Canada;X-APPLE-RADIUS=500;X-TITLE=329 19th Street North Lethbridge\, Alberta:geo:-112.814634,49.6931758
END:VEVENT
BEGIN:VEVENT
DTSTART;TZID=America/Edmonton:20211121T103000
DTEND;TZID=America/Edmonton:20211121T113000
DTSTAMP:20260424T021238
CREATED:20211119T204325Z
LAST-MODIFIED:20211119T204325Z
UID:10001979-1637490600-1637494200@westminsterchapelpca.ca
SUMMARY:Sunday AM Worship
DESCRIPTION:Pastor Tom Albaugh \nGalatians 3:15-4:11 \nRight with God and Free in Christ
URL:https://westminsterchapelpca.ca/event/sunday-am-worship-29/
LOCATION:Westminister Chapel\, 329 19th Street North Lethbridge\, Alberta\, Lethbridge\, Alberta\, T1J-4A4\, Canada
CATEGORIES:Worship Services
GEO:49.6931758;-112.814634
X-APPLE-STRUCTURED-LOCATION;VALUE=URI;X-ADDRESS=Westminister Chapel 329 19th Street North Lethbridge Alberta Lethbridge Alberta T1J-4A4 Canada;X-APPLE-RADIUS=500;X-TITLE=329 19th Street North Lethbridge\, Alberta:geo:-112.814634,49.6931758
END:VEVENT
END:VCALENDAR