BEGIN:VCALENDAR
VERSION:2.0
PRODID:-//Westminster Chapel - ECPv6.15.13.1//NONSGML v1.0//EN
CALSCALE:GREGORIAN
METHOD:PUBLISH
X-ORIGINAL-URL:https://westminsterchapelpca.ca
X-WR-CALDESC:Events for Westminster Chapel
REFRESH-INTERVAL;VALUE=DURATION:PT1H
X-Robots-Tag:noindex
X-PUBLISHED-TTL:PT1H
BEGIN:VTIMEZONE
TZID:America/Edmonton
BEGIN:DAYLIGHT
TZOFFSETFROM:-0700
TZOFFSETTO:-0600
TZNAME:MDT
DTSTART:20200308T090000
END:DAYLIGHT
BEGIN:STANDARD
TZOFFSETFROM:-0600
TZOFFSETTO:-0700
TZNAME:MST
DTSTART:20201101T080000
END:STANDARD
BEGIN:DAYLIGHT
TZOFFSETFROM:-0700
TZOFFSETTO:-0600
TZNAME:MDT
DTSTART:20210314T090000
END:DAYLIGHT
BEGIN:STANDARD
TZOFFSETFROM:-0600
TZOFFSETTO:-0700
TZNAME:MST
DTSTART:20211107T080000
END:STANDARD
BEGIN:DAYLIGHT
TZOFFSETFROM:-0700
TZOFFSETTO:-0600
TZNAME:MDT
DTSTART:20220313T090000
END:DAYLIGHT
BEGIN:STANDARD
TZOFFSETFROM:-0600
TZOFFSETTO:-0700
TZNAME:MST
DTSTART:20221106T080000
END:STANDARD
END:VTIMEZONE
BEGIN:VEVENT
DTSTART;TZID=America/Edmonton:20211212T103000
DTEND;TZID=America/Edmonton:20211212T113000
DTSTAMP:20260424T050346
CREATED:20211211T043528Z
LAST-MODIFIED:20211211T043528Z
UID:10002090-1639305000-1639308600@westminsterchapelpca.ca
SUMMARY:Sunday AM Worship
DESCRIPTION:Pastor Tom Albaugh \nMatthew 5:2-11; Luke 2:8-20 \nChrist’s Birth Brings Peace on Earth
URL:https://westminsterchapelpca.ca/event/sunday-am-worship-32/
LOCATION:Westminister Chapel\, 329 19th Street North Lethbridge\, Alberta\, Lethbridge\, Alberta\, T1J-4A4\, Canada
CATEGORIES:Worship Services
GEO:49.6931758;-112.814634
X-APPLE-STRUCTURED-LOCATION;VALUE=URI;X-ADDRESS=Westminister Chapel 329 19th Street North Lethbridge Alberta Lethbridge Alberta T1J-4A4 Canada;X-APPLE-RADIUS=500;X-TITLE=329 19th Street North Lethbridge\, Alberta:geo:-112.814634,49.6931758
END:VEVENT
BEGIN:VEVENT
DTSTART;TZID=America/Edmonton:20211207T190000
DTEND;TZID=America/Edmonton:20211207T210000
DTSTAMP:20260424T050346
CREATED:20211029T162317Z
LAST-MODIFIED:20211119T204556Z
UID:10001940-1638903600-1638910800@westminsterchapelpca.ca
SUMMARY:Advent Bible Study
DESCRIPTION:The women’s ministry will run a 5-week advent Bible study\, “O Come\, O Come Emmanuel”\, a Lifeway Women advent study. The study will run on Tuesday evenings at 7pm\, beginning November 23rd. Mask wearing and social distancing will be implemented. Please see Victoria de Groot for more details.
URL:https://westminsterchapelpca.ca/event/advent-bible-study-2021-11-30/2021-12-07/
LOCATION:Westminister Chapel\, 329 19th Street North Lethbridge\, Alberta\, Lethbridge\, Alberta\, T1J-4A4\, Canada
CATEGORIES:Bible Study
GEO:49.6931758;-112.814634
X-APPLE-STRUCTURED-LOCATION;VALUE=URI;X-ADDRESS=Westminister Chapel 329 19th Street North Lethbridge Alberta Lethbridge Alberta T1J-4A4 Canada;X-APPLE-RADIUS=500;X-TITLE=329 19th Street North Lethbridge\, Alberta:geo:-112.814634,49.6931758
END:VEVENT
BEGIN:VEVENT
DTSTART;TZID=America/Edmonton:20211205T163000
DTEND;TZID=America/Edmonton:20211205T173000
DTSTAMP:20260424T050346
CREATED:20211204T214449Z
LAST-MODIFIED:20211204T214449Z
UID:10002088-1638721800-1638725400@westminsterchapelpca.ca
SUMMARY:Sunday PM Worship
DESCRIPTION:Pastor Tom Albaugh \nGalatians 4:11-20 \nHelping Someone Who Wants No Help \n 
URL:https://westminsterchapelpca.ca/event/sunday-pm-worship-23/
LOCATION:Westminister Chapel\, 329 19th Street North Lethbridge\, Alberta\, Lethbridge\, Alberta\, T1J-4A4\, Canada
CATEGORIES:Worship Services
GEO:49.6931758;-112.814634
X-APPLE-STRUCTURED-LOCATION;VALUE=URI;X-ADDRESS=Westminister Chapel 329 19th Street North Lethbridge Alberta Lethbridge Alberta T1J-4A4 Canada;X-APPLE-RADIUS=500;X-TITLE=329 19th Street North Lethbridge\, Alberta:geo:-112.814634,49.6931758
END:VEVENT
BEGIN:VEVENT
DTSTART;TZID=America/Edmonton:20211205T103000
DTEND;TZID=America/Edmonton:20211205T113000
DTSTAMP:20260424T050346
CREATED:20211204T214122Z
LAST-MODIFIED:20211204T214122Z
UID:10001984-1638700200-1638703800@westminsterchapelpca.ca
SUMMARY:Sunday AM Worship
DESCRIPTION:Pastor Tom Albaugh \nLuke 2:8-11 \nThe Joy of Salvation
URL:https://westminsterchapelpca.ca/event/sunday-am-worship-31/
LOCATION:Westminister Chapel\, 329 19th Street North Lethbridge\, Alberta\, Lethbridge\, Alberta\, T1J-4A4\, Canada
CATEGORIES:Worship Services
GEO:49.6931758;-112.814634
X-APPLE-STRUCTURED-LOCATION;VALUE=URI;X-ADDRESS=Westminister Chapel 329 19th Street North Lethbridge Alberta Lethbridge Alberta T1J-4A4 Canada;X-APPLE-RADIUS=500;X-TITLE=329 19th Street North Lethbridge\, Alberta:geo:-112.814634,49.6931758
END:VEVENT
BEGIN:VEVENT
DTSTART;TZID=America/Edmonton:20211130T190000
DTEND;TZID=America/Edmonton:20211130T210000
DTSTAMP:20260424T050346
CREATED:20211029T162317Z
LAST-MODIFIED:20211119T204556Z
UID:10001939-1638298800-1638306000@westminsterchapelpca.ca
SUMMARY:Advent Bible Study
DESCRIPTION:The women’s ministry will run a 5-week advent Bible study\, “O Come\, O Come Emmanuel”\, a Lifeway Women advent study. The study will run on Tuesday evenings at 7pm\, beginning November 23rd. Mask wearing and social distancing will be implemented. Please see Victoria de Groot for more details.
URL:https://westminsterchapelpca.ca/event/advent-bible-study-2021-11-30/2021-11-30/
LOCATION:Westminister Chapel\, 329 19th Street North Lethbridge\, Alberta\, Lethbridge\, Alberta\, T1J-4A4\, Canada
CATEGORIES:Bible Study
GEO:49.6931758;-112.814634
X-APPLE-STRUCTURED-LOCATION;VALUE=URI;X-ADDRESS=Westminister Chapel 329 19th Street North Lethbridge Alberta Lethbridge Alberta T1J-4A4 Canada;X-APPLE-RADIUS=500;X-TITLE=329 19th Street North Lethbridge\, Alberta:geo:-112.814634,49.6931758
END:VEVENT
BEGIN:VEVENT
DTSTART;TZID=America/Edmonton:20211128T163000
DTEND;TZID=America/Edmonton:20211128T173000
DTSTAMP:20260424T050346
CREATED:20211126T165018Z
LAST-MODIFIED:20211126T165132Z
UID:10001983-1638117000-1638120600@westminsterchapelpca.ca
SUMMARY:Sunday PM Worship
DESCRIPTION:Pastor Rohan Crown \nIsaiah 54:8 \nIncarnation of Love – An Eternal Love
URL:https://westminsterchapelpca.ca/event/sunday-pm-worship-22/
LOCATION:Westminister Chapel\, 329 19th Street North Lethbridge\, Alberta\, Lethbridge\, Alberta\, T1J-4A4\, Canada
CATEGORIES:Worship Services
GEO:49.6931758;-112.814634
X-APPLE-STRUCTURED-LOCATION;VALUE=URI;X-ADDRESS=Westminister Chapel 329 19th Street North Lethbridge Alberta Lethbridge Alberta T1J-4A4 Canada;X-APPLE-RADIUS=500;X-TITLE=329 19th Street North Lethbridge\, Alberta:geo:-112.814634,49.6931758
END:VEVENT
BEGIN:VEVENT
DTSTART;TZID=America/Edmonton:20211128T103000
DTEND;TZID=America/Edmonton:20211128T233000
DTSTAMP:20260424T050346
CREATED:20211126T164926Z
LAST-MODIFIED:20211126T164926Z
UID:10001982-1638095400-1638142200@westminsterchapelpca.ca
SUMMARY:Sunday AM Worship
DESCRIPTION:Pastor Tom Albaugh \nLuke 1:78-79\, 1 John 4:9 \nGod’s Love Comes to Bethlehem
URL:https://westminsterchapelpca.ca/event/sunday-am-worship-30/
LOCATION:Westminister Chapel\, 329 19th Street North Lethbridge\, Alberta\, Lethbridge\, Alberta\, T1J-4A4\, Canada
CATEGORIES:Worship Services
GEO:49.6931758;-112.814634
X-APPLE-STRUCTURED-LOCATION;VALUE=URI;X-ADDRESS=Westminister Chapel 329 19th Street North Lethbridge Alberta Lethbridge Alberta T1J-4A4 Canada;X-APPLE-RADIUS=500;X-TITLE=329 19th Street North Lethbridge\, Alberta:geo:-112.814634,49.6931758
END:VEVENT
BEGIN:VEVENT
DTSTART;TZID=America/Edmonton:20211123T190000
DTEND;TZID=America/Edmonton:20211123T210000
DTSTAMP:20260424T050346
CREATED:20211029T162317Z
LAST-MODIFIED:20211119T204656Z
UID:10001938-1637694000-1637701200@westminsterchapelpca.ca
SUMMARY:Advent Bible Study
DESCRIPTION:We will discuss questions found in week one of the study. If you need a book\, or have any questions\, please see Victoria de Groot.
URL:https://westminsterchapelpca.ca/event/advent-bible-study/
LOCATION:Westminister Chapel\, 329 19th Street North Lethbridge\, Alberta\, Lethbridge\, Alberta\, T1J-4A4\, Canada
CATEGORIES:Bible Study
GEO:49.6931758;-112.814634
X-APPLE-STRUCTURED-LOCATION;VALUE=URI;X-ADDRESS=Westminister Chapel 329 19th Street North Lethbridge Alberta Lethbridge Alberta T1J-4A4 Canada;X-APPLE-RADIUS=500;X-TITLE=329 19th Street North Lethbridge\, Alberta:geo:-112.814634,49.6931758
END:VEVENT
BEGIN:VEVENT
DTSTART;TZID=America/Edmonton:20211122T190000
DTEND;TZID=America/Edmonton:20211122T200000
DTSTAMP:20260424T050346
CREATED:20211111T214121Z
LAST-MODIFIED:20211111T214121Z
UID:10001948-1637607600-1637611200@westminsterchapelpca.ca
SUMMARY:Congregational Meeting
DESCRIPTION:Upon receiving notice from the Board of Trustees that they accepted an offer for our south side land\, subject to approval by the congregation\, Session is calling the congregation together for a meeting on Monday\, November 22\, at 7:00 p.m.\, at the church. The agenda will be limited to the one item – discuss and approve a motion to accept the offer we have received for our land.  The motion will require a 2/3 majority to pass. If you have any questions\, please contact an elder.
URL:https://westminsterchapelpca.ca/event/congregational-meeting-2/
LOCATION:Westminister Chapel\, 329 19th Street North Lethbridge\, Alberta\, Lethbridge\, Alberta\, T1J-4A4\, Canada
CATEGORIES:Meeting
GEO:49.6931758;-112.814634
X-APPLE-STRUCTURED-LOCATION;VALUE=URI;X-ADDRESS=Westminister Chapel 329 19th Street North Lethbridge Alberta Lethbridge Alberta T1J-4A4 Canada;X-APPLE-RADIUS=500;X-TITLE=329 19th Street North Lethbridge\, Alberta:geo:-112.814634,49.6931758
END:VEVENT
BEGIN:VEVENT
DTSTART;TZID=America/Edmonton:20211121T103000
DTEND;TZID=America/Edmonton:20211121T113000
DTSTAMP:20260424T050346
CREATED:20211119T204325Z
LAST-MODIFIED:20211119T204325Z
UID:10001979-1637490600-1637494200@westminsterchapelpca.ca
SUMMARY:Sunday AM Worship
DESCRIPTION:Pastor Tom Albaugh \nGalatians 3:15-4:11 \nRight with God and Free in Christ
URL:https://westminsterchapelpca.ca/event/sunday-am-worship-29/
LOCATION:Westminister Chapel\, 329 19th Street North Lethbridge\, Alberta\, Lethbridge\, Alberta\, T1J-4A4\, Canada
CATEGORIES:Worship Services
GEO:49.6931758;-112.814634
X-APPLE-STRUCTURED-LOCATION;VALUE=URI;X-ADDRESS=Westminister Chapel 329 19th Street North Lethbridge Alberta Lethbridge Alberta T1J-4A4 Canada;X-APPLE-RADIUS=500;X-TITLE=329 19th Street North Lethbridge\, Alberta:geo:-112.814634,49.6931758
END:VEVENT
BEGIN:VEVENT
DTSTART;TZID=America/Edmonton:20211119T080000
DTEND;TZID=America/Edmonton:20211119T170000
DTSTAMP:20260424T050346
CREATED:20211119T204421Z
LAST-MODIFIED:20211119T204421Z
UID:10001980-1637308800-1637341200@westminsterchapelpca.ca
SUMMARY:Sunday PM Worship
DESCRIPTION:Pastor Tom Albaugh \nPsalm 147 \nGod Is Spirit
URL:https://westminsterchapelpca.ca/event/sunday-pm-worship-21/
LOCATION:Westminister Chapel\, 329 19th Street North Lethbridge\, Alberta\, Lethbridge\, Alberta\, T1J-4A4\, Canada
CATEGORIES:Worship Services
GEO:49.6931758;-112.814634
X-APPLE-STRUCTURED-LOCATION;VALUE=URI;X-ADDRESS=Westminister Chapel 329 19th Street North Lethbridge Alberta Lethbridge Alberta T1J-4A4 Canada;X-APPLE-RADIUS=500;X-TITLE=329 19th Street North Lethbridge\, Alberta:geo:-112.814634,49.6931758
END:VEVENT
BEGIN:VEVENT
DTSTART;TZID=America/Edmonton:20211114T163000
DTEND;TZID=America/Edmonton:20211114T173000
DTSTAMP:20260424T050346
CREATED:20211111T235159Z
LAST-MODIFIED:20211112T151154Z
UID:10001978-1636907400-1636911000@westminsterchapelpca.ca
SUMMARY:Sunday PM Worship
DESCRIPTION:Pastor Tom Albaugh \nPsalm 22 \nWisdom from Brokenness
URL:https://westminsterchapelpca.ca/event/sunday-pm-worship-20/
LOCATION:Westminister Chapel\, 329 19th Street North Lethbridge\, Alberta\, Lethbridge\, Alberta\, T1J-4A4\, Canada
CATEGORIES:Worship Services
GEO:49.6931758;-112.814634
X-APPLE-STRUCTURED-LOCATION;VALUE=URI;X-ADDRESS=Westminister Chapel 329 19th Street North Lethbridge Alberta Lethbridge Alberta T1J-4A4 Canada;X-APPLE-RADIUS=500;X-TITLE=329 19th Street North Lethbridge\, Alberta:geo:-112.814634,49.6931758
END:VEVENT
BEGIN:VEVENT
DTSTART;TZID=America/Edmonton:20211114T103000
DTEND;TZID=America/Edmonton:20211114T113000
DTSTAMP:20260424T050346
CREATED:20211111T235006Z
LAST-MODIFIED:20211111T235006Z
UID:10001977-1636885800-1636889400@westminsterchapelpca.ca
SUMMARY:Sunday AM Worship
DESCRIPTION:Pastor Tom Albaugh \nGalatians 3:1-14 \nPaul’s Defense of the Gospel
URL:https://westminsterchapelpca.ca/event/sunday-am-worship-28/
LOCATION:Westminister Chapel\, 329 19th Street North Lethbridge\, Alberta\, Lethbridge\, Alberta\, T1J-4A4\, Canada
CATEGORIES:Worship Services
GEO:49.6931758;-112.814634
X-APPLE-STRUCTURED-LOCATION;VALUE=URI;X-ADDRESS=Westminister Chapel 329 19th Street North Lethbridge Alberta Lethbridge Alberta T1J-4A4 Canada;X-APPLE-RADIUS=500;X-TITLE=329 19th Street North Lethbridge\, Alberta:geo:-112.814634,49.6931758
END:VEVENT
BEGIN:VEVENT
DTSTART;TZID=America/Edmonton:20211113T140000
DTEND;TZID=America/Edmonton:20211113T160000
DTSTAMP:20260424T050346
CREATED:20211029T162457Z
LAST-MODIFIED:20211105T175138Z
UID:10001943-1636812000-1636819200@westminsterchapelpca.ca
SUMMARY:Virtual Paint "Night"
DESCRIPTION:There will be a virtual paint “night” women’s fellowship on Saturday\, November 6th. The fellowship will run from 2-4pm via Zoom. Please see Victoria de Groot – in person\, or contact via email at vwoodford@gmail.com – for more details and to be added to the event email list. Participants will be responsible for purchasing needed supplies before the event; a list will be provided.
URL:https://westminsterchapelpca.ca/event/virtual-paint-night/
LOCATION:Westminister Chapel\, 329 19th Street North Lethbridge\, Alberta\, Lethbridge\, Alberta\, T1J-4A4\, Canada
CATEGORIES:Woman's Fellowship
GEO:49.6931758;-112.814634
X-APPLE-STRUCTURED-LOCATION;VALUE=URI;X-ADDRESS=Westminister Chapel 329 19th Street North Lethbridge Alberta Lethbridge Alberta T1J-4A4 Canada;X-APPLE-RADIUS=500;X-TITLE=329 19th Street North Lethbridge\, Alberta:geo:-112.814634,49.6931758
END:VEVENT
BEGIN:VEVENT
DTSTART;TZID=America/Edmonton:20211107T163000
DTEND;TZID=America/Edmonton:20211107T173000
DTSTAMP:20260424T050346
CREATED:20211105T175344Z
LAST-MODIFIED:20211105T175344Z
UID:10001947-1636302600-1636306200@westminsterchapelpca.ca
SUMMARY:Sunday PM Worship
DESCRIPTION:Pastor Tom Albaugh \nPsalm 37:1-11\, 23-26 \nYou Are Not Forsaken
URL:https://westminsterchapelpca.ca/event/sunday-pm-worship-19/
LOCATION:Westminister Chapel\, 329 19th Street North Lethbridge\, Alberta\, Lethbridge\, Alberta\, T1J-4A4\, Canada
CATEGORIES:Worship Services
GEO:49.6931758;-112.814634
X-APPLE-STRUCTURED-LOCATION;VALUE=URI;X-ADDRESS=Westminister Chapel 329 19th Street North Lethbridge Alberta Lethbridge Alberta T1J-4A4 Canada;X-APPLE-RADIUS=500;X-TITLE=329 19th Street North Lethbridge\, Alberta:geo:-112.814634,49.6931758
END:VEVENT
BEGIN:VEVENT
DTSTART;TZID=America/Edmonton:20211107T103000
DTEND;TZID=America/Edmonton:20211107T113000
DTSTAMP:20260424T050346
CREATED:20211105T175246Z
LAST-MODIFIED:20211105T175246Z
UID:10001946-1636281000-1636284600@westminsterchapelpca.ca
SUMMARY:Sunday AM Worship
DESCRIPTION:Pastor Tom Albaugh \nGalatians 2:15-21 \nLiving the Gospel by Faith
URL:https://westminsterchapelpca.ca/event/sunday-am-worship-27/
LOCATION:Westminister Chapel\, 329 19th Street North Lethbridge\, Alberta\, Lethbridge\, Alberta\, T1J-4A4\, Canada
CATEGORIES:Worship Services
GEO:49.6931758;-112.814634
X-APPLE-STRUCTURED-LOCATION;VALUE=URI;X-ADDRESS=Westminister Chapel 329 19th Street North Lethbridge Alberta Lethbridge Alberta T1J-4A4 Canada;X-APPLE-RADIUS=500;X-TITLE=329 19th Street North Lethbridge\, Alberta:geo:-112.814634,49.6931758
END:VEVENT
BEGIN:VEVENT
DTSTART;TZID=America/Edmonton:20211031T163000
DTEND;TZID=America/Edmonton:20211031T173000
DTSTAMP:20260424T050346
CREATED:20211029T165046Z
LAST-MODIFIED:20211029T165046Z
UID:10001945-1635697800-1635701400@westminsterchapelpca.ca
SUMMARY:Sunday PM Worship
DESCRIPTION:Pastor Tom Albaugh \nPsalm 73 \nAssurance of Salvation
URL:https://westminsterchapelpca.ca/event/sunday-pm-worship-18/
LOCATION:Westminister Chapel\, 329 19th Street North Lethbridge\, Alberta\, Lethbridge\, Alberta\, T1J-4A4\, Canada
CATEGORIES:Worship Services
GEO:49.6931758;-112.814634
X-APPLE-STRUCTURED-LOCATION;VALUE=URI;X-ADDRESS=Westminister Chapel 329 19th Street North Lethbridge Alberta Lethbridge Alberta T1J-4A4 Canada;X-APPLE-RADIUS=500;X-TITLE=329 19th Street North Lethbridge\, Alberta:geo:-112.814634,49.6931758
END:VEVENT
BEGIN:VEVENT
DTSTART;TZID=America/Edmonton:20211031T103000
DTEND;TZID=America/Edmonton:20211031T113000
DTSTAMP:20260424T050346
CREATED:20211029T164652Z
LAST-MODIFIED:20211029T164652Z
UID:10001944-1635676200-1635679800@westminsterchapelpca.ca
SUMMARY:Sunday AM Worship
DESCRIPTION:Pastor Tom Albaugh \nGalatians 2:11-14 \nThe Gospel in Confrontation
URL:https://westminsterchapelpca.ca/event/sunday-am-worship-26/
LOCATION:Westminister Chapel\, 329 19th Street North Lethbridge\, Alberta\, Lethbridge\, Alberta\, T1J-4A4\, Canada
CATEGORIES:Worship Services
GEO:49.6931758;-112.814634
X-APPLE-STRUCTURED-LOCATION;VALUE=URI;X-ADDRESS=Westminister Chapel 329 19th Street North Lethbridge Alberta Lethbridge Alberta T1J-4A4 Canada;X-APPLE-RADIUS=500;X-TITLE=329 19th Street North Lethbridge\, Alberta:geo:-112.814634,49.6931758
END:VEVENT
BEGIN:VEVENT
DTSTART;TZID=America/Edmonton:20211024T163000
DTEND;TZID=America/Edmonton:20211024T173000
DTSTAMP:20260424T050346
CREATED:20211022T160331Z
LAST-MODIFIED:20211022T160331Z
UID:10001937-1635093000-1635096600@westminsterchapelpca.ca
SUMMARY:Sunday PM Worship
DESCRIPTION:Pastor Tom Albaugh \nPsalm 51 \nSalvation Belongs to the LORD
URL:https://westminsterchapelpca.ca/event/sunday-pm-worship-17/
LOCATION:Westminister Chapel\, 329 19th Street North Lethbridge\, Alberta\, Lethbridge\, Alberta\, T1J-4A4\, Canada
CATEGORIES:Worship Services
GEO:49.6931758;-112.814634
X-APPLE-STRUCTURED-LOCATION;VALUE=URI;X-ADDRESS=Westminister Chapel 329 19th Street North Lethbridge Alberta Lethbridge Alberta T1J-4A4 Canada;X-APPLE-RADIUS=500;X-TITLE=329 19th Street North Lethbridge\, Alberta:geo:-112.814634,49.6931758
END:VEVENT
BEGIN:VEVENT
DTSTART;TZID=America/Edmonton:20211024T103000
DTEND;TZID=America/Edmonton:20211024T113000
DTSTAMP:20260424T050346
CREATED:20211022T160150Z
LAST-MODIFIED:20211022T160150Z
UID:10001936-1635071400-1635075000@westminsterchapelpca.ca
SUMMARY:Sunday AM Worship
DESCRIPTION:Pastor Tom Albaugh \nGalatians 2:1-10 \nGospel Living
URL:https://westminsterchapelpca.ca/event/sunday-am-worship-25/
LOCATION:Westminister Chapel\, 329 19th Street North Lethbridge\, Alberta\, Lethbridge\, Alberta\, T1J-4A4\, Canada
CATEGORIES:Worship Services
GEO:49.6931758;-112.814634
X-APPLE-STRUCTURED-LOCATION;VALUE=URI;X-ADDRESS=Westminister Chapel 329 19th Street North Lethbridge Alberta Lethbridge Alberta T1J-4A4 Canada;X-APPLE-RADIUS=500;X-TITLE=329 19th Street North Lethbridge\, Alberta:geo:-112.814634,49.6931758
END:VEVENT
BEGIN:VEVENT
DTSTART;TZID=America/Edmonton:20211017T163000
DTEND;TZID=America/Edmonton:20211017T173000
DTSTAMP:20260424T050346
CREATED:20211016T154410Z
LAST-MODIFIED:20211016T154410Z
UID:10001910-1634488200-1634491800@westminsterchapelpca.ca
SUMMARY:Sunday PM Worship
DESCRIPTION:Pastor Tom Albaugh \nPsalm 46 \nGod\, Our Refuge and Strength
URL:https://westminsterchapelpca.ca/event/sunday-pm-worship-16/
LOCATION:Westminister Chapel\, 329 19th Street North Lethbridge\, Alberta\, Lethbridge\, Alberta\, T1J-4A4\, Canada
CATEGORIES:Worship Services
GEO:49.6931758;-112.814634
X-APPLE-STRUCTURED-LOCATION;VALUE=URI;X-ADDRESS=Westminister Chapel 329 19th Street North Lethbridge Alberta Lethbridge Alberta T1J-4A4 Canada;X-APPLE-RADIUS=500;X-TITLE=329 19th Street North Lethbridge\, Alberta:geo:-112.814634,49.6931758
END:VEVENT
BEGIN:VEVENT
DTSTART;TZID=America/Edmonton:20211017T103000
DTEND;TZID=America/Edmonton:20211017T113000
DTSTAMP:20260424T050346
CREATED:20211016T154253Z
LAST-MODIFIED:20211016T154253Z
UID:10001909-1634466600-1634470200@westminsterchapelpca.ca
SUMMARY:Sunday AM Worship
DESCRIPTION:Pastor Tom Albaugh \nGalatians 1:11-24 \nThe Conversion Religion \n 
URL:https://westminsterchapelpca.ca/event/sunday-am-worship-24/
LOCATION:Westminister Chapel\, 329 19th Street North Lethbridge\, Alberta\, Lethbridge\, Alberta\, T1J-4A4\, Canada
CATEGORIES:Worship Services
GEO:49.6931758;-112.814634
X-APPLE-STRUCTURED-LOCATION;VALUE=URI;X-ADDRESS=Westminister Chapel 329 19th Street North Lethbridge Alberta Lethbridge Alberta T1J-4A4 Canada;X-APPLE-RADIUS=500;X-TITLE=329 19th Street North Lethbridge\, Alberta:geo:-112.814634,49.6931758
END:VEVENT
BEGIN:VEVENT
DTSTART;TZID=America/Edmonton:20211010T163000
DTEND;TZID=America/Edmonton:20211010T173000
DTSTAMP:20260424T050346
CREATED:20211008T154349Z
LAST-MODIFIED:20211008T154349Z
UID:10001908-1633883400-1633887000@westminsterchapelpca.ca
SUMMARY:Sunday PM Worship
DESCRIPTION:Pastor Tom Albaugh \n2Timothy 4:6-8 \nHow to Finish Your Life
URL:https://westminsterchapelpca.ca/event/sunday-pm-worship-15/
LOCATION:Westminister Chapel\, 329 19th Street North Lethbridge\, Alberta\, Lethbridge\, Alberta\, T1J-4A4\, Canada
CATEGORIES:Worship Services
GEO:49.6931758;-112.814634
X-APPLE-STRUCTURED-LOCATION;VALUE=URI;X-ADDRESS=Westminister Chapel 329 19th Street North Lethbridge Alberta Lethbridge Alberta T1J-4A4 Canada;X-APPLE-RADIUS=500;X-TITLE=329 19th Street North Lethbridge\, Alberta:geo:-112.814634,49.6931758
END:VEVENT
BEGIN:VEVENT
DTSTART;TZID=America/Edmonton:20211010T103000
DTEND;TZID=America/Edmonton:20211010T113000
DTSTAMP:20260424T050346
CREATED:20211008T154203Z
LAST-MODIFIED:20211008T154446Z
UID:10001907-1633861800-1633865400@westminsterchapelpca.ca
SUMMARY:Sunday AM Worship
DESCRIPTION:Pastor Tom Albaugh \nGalatians 1:1-10 \nWhy We Preach Good News
URL:https://westminsterchapelpca.ca/event/sunday-am-worship-23/
LOCATION:Westminister Chapel\, 329 19th Street North Lethbridge\, Alberta\, Lethbridge\, Alberta\, T1J-4A4\, Canada
CATEGORIES:Worship Services
GEO:49.6931758;-112.814634
X-APPLE-STRUCTURED-LOCATION;VALUE=URI;X-ADDRESS=Westminister Chapel 329 19th Street North Lethbridge Alberta Lethbridge Alberta T1J-4A4 Canada;X-APPLE-RADIUS=500;X-TITLE=329 19th Street North Lethbridge\, Alberta:geo:-112.814634,49.6931758
END:VEVENT
BEGIN:VEVENT
DTSTART;TZID=America/Edmonton:20211003T163000
DTEND;TZID=America/Edmonton:20211003T173000
DTSTAMP:20260424T050346
CREATED:20211001T143256Z
LAST-MODIFIED:20211001T143256Z
UID:10001906-1633278600-1633282200@westminsterchapelpca.ca
SUMMARY:Sunday PM Worship
DESCRIPTION:Pastor Bryan Clarke \nJohn 8:58 \nIt is Jesus the I Am
URL:https://westminsterchapelpca.ca/event/sunday-pm-worship-14/
LOCATION:Westminister Chapel\, 329 19th Street North Lethbridge\, Alberta\, Lethbridge\, Alberta\, T1J-4A4\, Canada
CATEGORIES:Worship Services
GEO:49.6931758;-112.814634
X-APPLE-STRUCTURED-LOCATION;VALUE=URI;X-ADDRESS=Westminister Chapel 329 19th Street North Lethbridge Alberta Lethbridge Alberta T1J-4A4 Canada;X-APPLE-RADIUS=500;X-TITLE=329 19th Street North Lethbridge\, Alberta:geo:-112.814634,49.6931758
END:VEVENT
BEGIN:VEVENT
DTSTART;TZID=America/Edmonton:20211003T103000
DTEND;TZID=America/Edmonton:20211003T113000
DTSTAMP:20260424T050346
CREATED:20211001T143141Z
LAST-MODIFIED:20211001T143141Z
UID:10001905-1633257000-1633260600@westminsterchapelpca.ca
SUMMARY:Sunday AM Worship
DESCRIPTION:Pastor Theo Lodder \nDeuteronomy 19:15-21\, John 8:1-11 \nWhere are you standing?
URL:https://westminsterchapelpca.ca/event/sunday-am-worship-22/
LOCATION:Westminister Chapel\, 329 19th Street North Lethbridge\, Alberta\, Lethbridge\, Alberta\, T1J-4A4\, Canada
CATEGORIES:Worship Services
GEO:49.6931758;-112.814634
X-APPLE-STRUCTURED-LOCATION;VALUE=URI;X-ADDRESS=Westminister Chapel 329 19th Street North Lethbridge Alberta Lethbridge Alberta T1J-4A4 Canada;X-APPLE-RADIUS=500;X-TITLE=329 19th Street North Lethbridge\, Alberta:geo:-112.814634,49.6931758
END:VEVENT
END:VCALENDAR