BEGIN:VCALENDAR
VERSION:2.0
PRODID:-//Westminster Chapel - ECPv6.15.13.1//NONSGML v1.0//EN
CALSCALE:GREGORIAN
METHOD:PUBLISH
X-WR-CALNAME:Westminster Chapel
X-ORIGINAL-URL:https://westminsterchapelpca.ca
X-WR-CALDESC:Events for Westminster Chapel
REFRESH-INTERVAL;VALUE=DURATION:PT1H
X-Robots-Tag:noindex
X-PUBLISHED-TTL:PT1H
BEGIN:VTIMEZONE
TZID:America/Edmonton
BEGIN:DAYLIGHT
TZOFFSETFROM:-0700
TZOFFSETTO:-0600
TZNAME:MDT
DTSTART:20240310T090000
END:DAYLIGHT
BEGIN:STANDARD
TZOFFSETFROM:-0600
TZOFFSETTO:-0700
TZNAME:MST
DTSTART:20241103T080000
END:STANDARD
BEGIN:DAYLIGHT
TZOFFSETFROM:-0700
TZOFFSETTO:-0600
TZNAME:MDT
DTSTART:20250309T090000
END:DAYLIGHT
BEGIN:STANDARD
TZOFFSETFROM:-0600
TZOFFSETTO:-0700
TZNAME:MST
DTSTART:20251102T080000
END:STANDARD
BEGIN:DAYLIGHT
TZOFFSETFROM:-0700
TZOFFSETTO:-0600
TZNAME:MDT
DTSTART:20260308T090000
END:DAYLIGHT
BEGIN:STANDARD
TZOFFSETFROM:-0600
TZOFFSETTO:-0700
TZNAME:MST
DTSTART:20261101T080000
END:STANDARD
END:VTIMEZONE
BEGIN:VEVENT
DTSTART;TZID=America/Edmonton:20251203T190000
DTEND;TZID=America/Edmonton:20251203T210000
DTSTAMP:20260421T035811
CREATED:20251203T052407Z
LAST-MODIFIED:20251203T052407Z
UID:10005055-1764788400-1764795600@westminsterchapelpca.ca
SUMMARY:Men's Evening Bible Study
DESCRIPTION:The men will continue their study of Guy Waters’ How Jesus Runs the Church. We’ll be discussing Chapter 2: The Government of the Church. Contact Pastor Adam for more information.
URL:https://westminsterchapelpca.ca/event/mens-evening-bible-study-2/
LOCATION:Westminister Chapel\, 329 19th Street North Lethbridge\, Alberta\, Lethbridge\, Alberta\, T1J-4A4\, Canada
GEO:49.6931758;-112.814634
X-APPLE-STRUCTURED-LOCATION;VALUE=URI;X-ADDRESS=Westminister Chapel 329 19th Street North Lethbridge Alberta Lethbridge Alberta T1J-4A4 Canada;X-APPLE-RADIUS=500;X-TITLE=329 19th Street North Lethbridge\, Alberta:geo:-112.814634,49.6931758
END:VEVENT
BEGIN:VEVENT
DTSTART;VALUE=DATE:20251130
DTEND;VALUE=DATE:20251201
DTSTAMP:20260421T035811
CREATED:20251126T184607Z
LAST-MODIFIED:20251126T184607Z
UID:10005389-1764460800-1764547199@westminsterchapelpca.ca
SUMMARY:4:30PM Worship
DESCRIPTION:Pastor Adam Harris \nGenesis 49:29-50:14 \nA Famous Funeral
URL:https://westminsterchapelpca.ca/event/pm-service-13/
LOCATION:Westminister Chapel\, 329 19th Street North Lethbridge\, Alberta\, Lethbridge\, Alberta\, T1J-4A4\, Canada
CATEGORIES:Worship Services
GEO:49.6931758;-112.814634
X-APPLE-STRUCTURED-LOCATION;VALUE=URI;X-ADDRESS=Westminister Chapel 329 19th Street North Lethbridge Alberta Lethbridge Alberta T1J-4A4 Canada;X-APPLE-RADIUS=500;X-TITLE=329 19th Street North Lethbridge\, Alberta:geo:-112.814634,49.6931758
END:VEVENT
BEGIN:VEVENT
DTSTART;VALUE=DATE:20251130
DTEND;VALUE=DATE:20251201
DTSTAMP:20260421T035811
CREATED:20251126T184506Z
LAST-MODIFIED:20251204T145310Z
UID:10005129-1764460800-1764547199@westminsterchapelpca.ca
SUMMARY:10:30AM Worship
DESCRIPTION:Pastor Adam Harris \nIsaiah 42:1-9 \nThe Coming Servant: Our King
URL:https://westminsterchapelpca.ca/event/am-worship-118-16/
LOCATION:Westminister Chapel\, 329 19th Street North Lethbridge\, Alberta\, Lethbridge\, Alberta\, T1J-4A4\, Canada
GEO:49.6931758;-112.814634
X-APPLE-STRUCTURED-LOCATION;VALUE=URI;X-ADDRESS=Westminister Chapel 329 19th Street North Lethbridge Alberta Lethbridge Alberta T1J-4A4 Canada;X-APPLE-RADIUS=500;X-TITLE=329 19th Street North Lethbridge\, Alberta:geo:-112.814634,49.6931758
END:VEVENT
BEGIN:VEVENT
DTSTART;VALUE=DATE:20251130
DTEND;VALUE=DATE:20251201
DTSTAMP:20260421T035811
CREATED:20251121T000521Z
LAST-MODIFIED:20251121T000646Z
UID:10005699-1764460800-1764547199@westminsterchapelpca.ca
SUMMARY:9:30AM Sunday School
DESCRIPTION:
URL:https://westminsterchapelpca.ca/event/930am-sunday-school/
LOCATION:Westminister Chapel\, 329 19th Street North Lethbridge\, Alberta\, Lethbridge\, Alberta\, T1J-4A4\, Canada
GEO:49.6931758;-112.814634
X-APPLE-STRUCTURED-LOCATION;VALUE=URI;X-ADDRESS=Westminister Chapel 329 19th Street North Lethbridge Alberta Lethbridge Alberta T1J-4A4 Canada;X-APPLE-RADIUS=500;X-TITLE=329 19th Street North Lethbridge\, Alberta:geo:-112.814634,49.6931758
END:VEVENT
BEGIN:VEVENT
DTSTART;TZID=America/Edmonton:20251126T190000
DTEND;TZID=America/Edmonton:20251126T210000
DTSTAMP:20260421T035811
CREATED:20250425T185402Z
LAST-MODIFIED:20250503T020256Z
UID:10004308-1764183600-1764190800@westminsterchapelpca.ca
SUMMARY:Prayer Meeting and Hymn Sing
DESCRIPTION:
URL:https://westminsterchapelpca.ca/event/prayer-meeting-and-hymn-sing-2/2025-11-26/
LOCATION:Westminister Chapel\, 329 19th Street North Lethbridge\, Alberta\, Lethbridge\, Alberta\, T1J-4A4\, Canada
CATEGORIES:Prayer
GEO:49.6931758;-112.814634
X-APPLE-STRUCTURED-LOCATION;VALUE=URI;X-ADDRESS=Westminister Chapel 329 19th Street North Lethbridge Alberta Lethbridge Alberta T1J-4A4 Canada;X-APPLE-RADIUS=500;X-TITLE=329 19th Street North Lethbridge\, Alberta:geo:-112.814634,49.6931758
END:VEVENT
BEGIN:VEVENT
DTSTART;VALUE=DATE:20251123
DTEND;VALUE=DATE:20251124
DTSTAMP:20260421T035811
CREATED:20251118T152745Z
LAST-MODIFIED:20251120T235649Z
UID:10005388-1763856000-1763942399@westminsterchapelpca.ca
SUMMARY:4:30PM Worship
DESCRIPTION:Pastor Adam Harris \nGenesis 49:1-28 \nTribal Blessings
URL:https://westminsterchapelpca.ca/event/pm-service-12/
LOCATION:Westminister Chapel\, 329 19th Street North Lethbridge\, Alberta\, Lethbridge\, Alberta\, T1J-4A4\, Canada
CATEGORIES:Worship Services
GEO:49.6931758;-112.814634
X-APPLE-STRUCTURED-LOCATION;VALUE=URI;X-ADDRESS=Westminister Chapel 329 19th Street North Lethbridge Alberta Lethbridge Alberta T1J-4A4 Canada;X-APPLE-RADIUS=500;X-TITLE=329 19th Street North Lethbridge\, Alberta:geo:-112.814634,49.6931758
END:VEVENT
BEGIN:VEVENT
DTSTART;VALUE=DATE:20251123
DTEND;VALUE=DATE:20251124
DTSTAMP:20260421T035811
CREATED:20251118T152703Z
LAST-MODIFIED:20251118T152704Z
UID:10005128-1763856000-1763942399@westminsterchapelpca.ca
SUMMARY:10:30AM Worship
DESCRIPTION:Pastor Adam Harris \nTitus 2:13-14 \nGospel Orientation
URL:https://westminsterchapelpca.ca/event/am-worship-118-15/
LOCATION:Westminister Chapel\, 329 19th Street North Lethbridge\, Alberta\, Lethbridge\, Alberta\, T1J-4A4\, Canada
GEO:49.6931758;-112.814634
X-APPLE-STRUCTURED-LOCATION;VALUE=URI;X-ADDRESS=Westminister Chapel 329 19th Street North Lethbridge Alberta Lethbridge Alberta T1J-4A4 Canada;X-APPLE-RADIUS=500;X-TITLE=329 19th Street North Lethbridge\, Alberta:geo:-112.814634,49.6931758
END:VEVENT
BEGIN:VEVENT
DTSTART;VALUE=DATE:20251123
DTEND;VALUE=DATE:20251124
DTSTAMP:20260421T035811
CREATED:20250821T193807Z
LAST-MODIFIED:20250925T030020Z
UID:10005650-1763856000-1763942399@westminsterchapelpca.ca
SUMMARY:9:30AM Sunday School
DESCRIPTION:Please join us for one of our Sunday School classes. We start with PreK/ KG and offer classes through adult.
URL:https://westminsterchapelpca.ca/event/sunday-school-8/2025-11-23/
LOCATION:Westminister Chapel\, 329 19th Street North Lethbridge\, Alberta\, Lethbridge\, Alberta\, T1J-4A4\, Canada
CATEGORIES:Sunday School
GEO:49.6931758;-112.814634
X-APPLE-STRUCTURED-LOCATION;VALUE=URI;X-ADDRESS=Westminister Chapel 329 19th Street North Lethbridge Alberta Lethbridge Alberta T1J-4A4 Canada;X-APPLE-RADIUS=500;X-TITLE=329 19th Street North Lethbridge\, Alberta:geo:-112.814634,49.6931758
END:VEVENT
BEGIN:VEVENT
DTSTART;TZID=America/Edmonton:20251119T190000
DTEND;TZID=America/Edmonton:20251119T210000
DTSTAMP:20260421T035811
CREATED:20250821T193000Z
LAST-MODIFIED:20250821T193000Z
UID:10005042-1763578800-1763586000@westminsterchapelpca.ca
SUMMARY:Youth Study
DESCRIPTION:
URL:https://westminsterchapelpca.ca/event/youth-study-3/2025-11-19/
LOCATION:Westminister Chapel\, 329 19th Street North Lethbridge\, Alberta\, Lethbridge\, Alberta\, T1J-4A4\, Canada
CATEGORIES:Bible Study
GEO:49.6931758;-112.814634
X-APPLE-STRUCTURED-LOCATION;VALUE=URI;X-ADDRESS=Westminister Chapel 329 19th Street North Lethbridge Alberta Lethbridge Alberta T1J-4A4 Canada;X-APPLE-RADIUS=500;X-TITLE=329 19th Street North Lethbridge\, Alberta:geo:-112.814634,49.6931758
END:VEVENT
BEGIN:VEVENT
DTSTART;VALUE=DATE:20251116
DTEND;VALUE=DATE:20251117
DTSTAMP:20260421T035811
CREATED:20251112T141623Z
LAST-MODIFIED:20251113T025010Z
UID:10005387-1763251200-1763337599@westminsterchapelpca.ca
SUMMARY:4:30PM Worship
DESCRIPTION:Pastor Adam Harris \nGenesis 48 \nCovenantal Crisscross
URL:https://westminsterchapelpca.ca/event/pm-service-11/
LOCATION:Westminister Chapel\, 329 19th Street North Lethbridge\, Alberta\, Lethbridge\, Alberta\, T1J-4A4\, Canada
CATEGORIES:Worship Services
GEO:49.6931758;-112.814634
X-APPLE-STRUCTURED-LOCATION;VALUE=URI;X-ADDRESS=Westminister Chapel 329 19th Street North Lethbridge Alberta Lethbridge Alberta T1J-4A4 Canada;X-APPLE-RADIUS=500;X-TITLE=329 19th Street North Lethbridge\, Alberta:geo:-112.814634,49.6931758
END:VEVENT
BEGIN:VEVENT
DTSTART;VALUE=DATE:20251116
DTEND;VALUE=DATE:20251117
DTSTAMP:20260421T035811
CREATED:20251112T141516Z
LAST-MODIFIED:20251113T042215Z
UID:10005127-1763251200-1763337599@westminsterchapelpca.ca
SUMMARY:10:30AM Worship
DESCRIPTION:Pastor Adam Harris \nTitus 2:11-12 \nGrowth in Grace
URL:https://westminsterchapelpca.ca/event/am-worship-118-14/
LOCATION:Westminister Chapel\, 329 19th Street North Lethbridge\, Alberta\, Lethbridge\, Alberta\, T1J-4A4\, Canada
GEO:49.6931758;-112.814634
X-APPLE-STRUCTURED-LOCATION;VALUE=URI;X-ADDRESS=Westminister Chapel 329 19th Street North Lethbridge Alberta Lethbridge Alberta T1J-4A4 Canada;X-APPLE-RADIUS=500;X-TITLE=329 19th Street North Lethbridge\, Alberta:geo:-112.814634,49.6931758
END:VEVENT
BEGIN:VEVENT
DTSTART;VALUE=DATE:20251116
DTEND;VALUE=DATE:20251117
DTSTAMP:20260421T035811
CREATED:20250821T193807Z
LAST-MODIFIED:20250925T030020Z
UID:10005649-1763251200-1763337599@westminsterchapelpca.ca
SUMMARY:9:30AM Sunday School
DESCRIPTION:Please join us for one of our Sunday School classes. We start with PreK/ KG and offer classes through adult.
URL:https://westminsterchapelpca.ca/event/sunday-school-8/2025-11-16/
LOCATION:Westminister Chapel\, 329 19th Street North Lethbridge\, Alberta\, Lethbridge\, Alberta\, T1J-4A4\, Canada
CATEGORIES:Sunday School
GEO:49.6931758;-112.814634
X-APPLE-STRUCTURED-LOCATION;VALUE=URI;X-ADDRESS=Westminister Chapel 329 19th Street North Lethbridge Alberta Lethbridge Alberta T1J-4A4 Canada;X-APPLE-RADIUS=500;X-TITLE=329 19th Street North Lethbridge\, Alberta:geo:-112.814634,49.6931758
END:VEVENT
BEGIN:VEVENT
DTSTART;TZID=America/Edmonton:20251112T190000
DTEND;TZID=America/Edmonton:20251112T210000
DTSTAMP:20260421T035811
CREATED:20251029T022249Z
LAST-MODIFIED:20251029T022825Z
UID:10005024-1762974000-1762981200@westminsterchapelpca.ca
SUMMARY:Ladies' Evening Bible Study
DESCRIPTION:This year\, we are studying the book of Ecclesiastes. This week we are on Lesson 5 and will be at Hoogerdyk’s.
URL:https://westminsterchapelpca.ca/event/ladies-evening-bible-study-2/
LOCATION:Westminister Chapel\, 329 19th Street North Lethbridge\, Alberta\, Lethbridge\, Alberta\, T1J-4A4\, Canada
CATEGORIES:Bible Study
GEO:49.6931758;-112.814634
X-APPLE-STRUCTURED-LOCATION;VALUE=URI;X-ADDRESS=Westminister Chapel 329 19th Street North Lethbridge Alberta Lethbridge Alberta T1J-4A4 Canada;X-APPLE-RADIUS=500;X-TITLE=329 19th Street North Lethbridge\, Alberta:geo:-112.814634,49.6931758
END:VEVENT
BEGIN:VEVENT
DTSTART;TZID=America/Edmonton:20251111T180000
DTEND;TZID=America/Edmonton:20251111T200000
DTSTAMP:20260421T035811
CREATED:20251113T042913Z
LAST-MODIFIED:20251113T042913Z
UID:10005695-1762884000-1762891200@westminsterchapelpca.ca
SUMMARY:Youth Event
DESCRIPTION:6pm – pizza \n7pm – laser tag
URL:https://westminsterchapelpca.ca/event/youth-event-3/
LOCATION:Westminister Chapel\, 329 19th Street North Lethbridge\, Alberta\, Lethbridge\, Alberta\, T1J-4A4\, Canada
CATEGORIES:Youth
GEO:49.6931758;-112.814634
X-APPLE-STRUCTURED-LOCATION;VALUE=URI;X-ADDRESS=Westminister Chapel 329 19th Street North Lethbridge Alberta Lethbridge Alberta T1J-4A4 Canada;X-APPLE-RADIUS=500;X-TITLE=329 19th Street North Lethbridge\, Alberta:geo:-112.814634,49.6931758
END:VEVENT
BEGIN:VEVENT
DTSTART;VALUE=DATE:20251111
DTEND;VALUE=DATE:20251112
DTSTAMP:20260421T035811
CREATED:20250924T123210Z
LAST-MODIFIED:20250924T123210Z
UID:10005118-1762819200-1762905599@westminsterchapelpca.ca
SUMMARY:Remembrance Day
DESCRIPTION:
URL:https://westminsterchapelpca.ca/event/remembrance-day/
LOCATION:Westminister Chapel\, 329 19th Street North Lethbridge\, Alberta\, Lethbridge\, Alberta\, T1J-4A4\, Canada
GEO:49.6931758;-112.814634
X-APPLE-STRUCTURED-LOCATION;VALUE=URI;X-ADDRESS=Westminister Chapel 329 19th Street North Lethbridge Alberta Lethbridge Alberta T1J-4A4 Canada;X-APPLE-RADIUS=500;X-TITLE=329 19th Street North Lethbridge\, Alberta:geo:-112.814634,49.6931758
END:VEVENT
BEGIN:VEVENT
DTSTART;VALUE=DATE:20251109
DTEND;VALUE=DATE:20251110
DTSTAMP:20260421T035811
CREATED:20251106T212501Z
LAST-MODIFIED:20251106T212501Z
UID:10005386-1762646400-1762732799@westminsterchapelpca.ca
SUMMARY:4:30PM Worship
DESCRIPTION:Pastor Adam Harris \nGenesis 47:13-31 \nThe Saving Prince
URL:https://westminsterchapelpca.ca/event/pm-service-10/
LOCATION:Westminister Chapel\, 329 19th Street North Lethbridge\, Alberta\, Lethbridge\, Alberta\, T1J-4A4\, Canada
CATEGORIES:Worship Services
GEO:49.6931758;-112.814634
X-APPLE-STRUCTURED-LOCATION;VALUE=URI;X-ADDRESS=Westminister Chapel 329 19th Street North Lethbridge Alberta Lethbridge Alberta T1J-4A4 Canada;X-APPLE-RADIUS=500;X-TITLE=329 19th Street North Lethbridge\, Alberta:geo:-112.814634,49.6931758
END:VEVENT
BEGIN:VEVENT
DTSTART;VALUE=DATE:20251109
DTEND;VALUE=DATE:20251110
DTSTAMP:20260421T035811
CREATED:20251103T211722Z
LAST-MODIFIED:20251105T205715Z
UID:10005126-1762646400-1762732799@westminsterchapelpca.ca
SUMMARY:10:30AM Worship
DESCRIPTION:Pastor Adam Harris \nTitus 2:9-10 \nLabour in the Lord
URL:https://westminsterchapelpca.ca/event/am-worship-118-13/
LOCATION:Westminister Chapel\, 329 19th Street North Lethbridge\, Alberta\, Lethbridge\, Alberta\, T1J-4A4\, Canada
GEO:49.6931758;-112.814634
X-APPLE-STRUCTURED-LOCATION;VALUE=URI;X-ADDRESS=Westminister Chapel 329 19th Street North Lethbridge Alberta Lethbridge Alberta T1J-4A4 Canada;X-APPLE-RADIUS=500;X-TITLE=329 19th Street North Lethbridge\, Alberta:geo:-112.814634,49.6931758
END:VEVENT
BEGIN:VEVENT
DTSTART;VALUE=DATE:20251109
DTEND;VALUE=DATE:20251110
DTSTAMP:20260421T035811
CREATED:20250821T193807Z
LAST-MODIFIED:20250925T030020Z
UID:10005648-1762646400-1762732799@westminsterchapelpca.ca
SUMMARY:9:30AM Sunday School
DESCRIPTION:Please join us for one of our Sunday School classes. We start with PreK/ KG and offer classes through adult.
URL:https://westminsterchapelpca.ca/event/sunday-school-8/2025-11-09/
LOCATION:Westminister Chapel\, 329 19th Street North Lethbridge\, Alberta\, Lethbridge\, Alberta\, T1J-4A4\, Canada
CATEGORIES:Sunday School
GEO:49.6931758;-112.814634
X-APPLE-STRUCTURED-LOCATION;VALUE=URI;X-ADDRESS=Westminister Chapel 329 19th Street North Lethbridge Alberta Lethbridge Alberta T1J-4A4 Canada;X-APPLE-RADIUS=500;X-TITLE=329 19th Street North Lethbridge\, Alberta:geo:-112.814634,49.6931758
END:VEVENT
BEGIN:VEVENT
DTSTART;TZID=America/Edmonton:20251105T190000
DTEND;TZID=America/Edmonton:20251105T210000
DTSTAMP:20260421T035811
CREATED:20250821T193103Z
LAST-MODIFIED:20250821T193103Z
UID:10005054-1762369200-1762376400@westminsterchapelpca.ca
SUMMARY:Men's Evening Bible Study
DESCRIPTION:
URL:https://westminsterchapelpca.ca/event/mens-evening-bible-study/2025-11-05/
LOCATION:Westminister Chapel\, 329 19th Street North Lethbridge\, Alberta\, Lethbridge\, Alberta\, T1J-4A4\, Canada
GEO:49.6931758;-112.814634
X-APPLE-STRUCTURED-LOCATION;VALUE=URI;X-ADDRESS=Westminister Chapel 329 19th Street North Lethbridge Alberta Lethbridge Alberta T1J-4A4 Canada;X-APPLE-RADIUS=500;X-TITLE=329 19th Street North Lethbridge\, Alberta:geo:-112.814634,49.6931758
END:VEVENT
BEGIN:VEVENT
DTSTART;VALUE=DATE:20251102
DTEND;VALUE=DATE:20251103
DTSTAMP:20260421T035811
CREATED:20251029T022944Z
LAST-MODIFIED:20251031T031603Z
UID:10005125-1762041600-1762127999@westminsterchapelpca.ca
SUMMARY:10:30AM Worship
DESCRIPTION:Pastor Adam Harris \nTitus 2:6-8 \nGodly Guys \n 
URL:https://westminsterchapelpca.ca/event/am-worship-118-12/
LOCATION:Westminister Chapel\, 329 19th Street North Lethbridge\, Alberta\, Lethbridge\, Alberta\, T1J-4A4\, Canada
GEO:49.6931758;-112.814634
X-APPLE-STRUCTURED-LOCATION;VALUE=URI;X-ADDRESS=Westminister Chapel 329 19th Street North Lethbridge Alberta Lethbridge Alberta T1J-4A4 Canada;X-APPLE-RADIUS=500;X-TITLE=329 19th Street North Lethbridge\, Alberta:geo:-112.814634,49.6931758
END:VEVENT
BEGIN:VEVENT
DTSTART;VALUE=DATE:20251102
DTEND;VALUE=DATE:20251103
DTSTAMP:20260421T035811
CREATED:20250821T193807Z
LAST-MODIFIED:20250925T030020Z
UID:10005647-1762041600-1762124399@westminsterchapelpca.ca
SUMMARY:9:30AM Sunday School
DESCRIPTION:Please join us for one of our Sunday School classes. We start with PreK/ KG and offer classes through adult.
URL:https://westminsterchapelpca.ca/event/sunday-school-8/2025-11-02/
LOCATION:Westminister Chapel\, 329 19th Street North Lethbridge\, Alberta\, Lethbridge\, Alberta\, T1J-4A4\, Canada
CATEGORIES:Sunday School
GEO:49.6931758;-112.814634
X-APPLE-STRUCTURED-LOCATION;VALUE=URI;X-ADDRESS=Westminister Chapel 329 19th Street North Lethbridge Alberta Lethbridge Alberta T1J-4A4 Canada;X-APPLE-RADIUS=500;X-TITLE=329 19th Street North Lethbridge\, Alberta:geo:-112.814634,49.6931758
END:VEVENT
BEGIN:VEVENT
DTSTART;VALUE=DATE:20251031
DTEND;VALUE=DATE:20251101
DTSTAMP:20260421T035811
CREATED:20251023T033628Z
LAST-MODIFIED:20251029T023106Z
UID:10005688-1761868800-1761955199@westminsterchapelpca.ca
SUMMARY:Reformation Day
DESCRIPTION:
URL:https://westminsterchapelpca.ca/event/reformation-day/
LOCATION:Westminister Chapel\, 329 19th Street North Lethbridge\, Alberta\, Lethbridge\, Alberta\, T1J-4A4\, Canada
CATEGORIES:Special Event
GEO:49.6931758;-112.814634
X-APPLE-STRUCTURED-LOCATION;VALUE=URI;X-ADDRESS=Westminister Chapel 329 19th Street North Lethbridge Alberta Lethbridge Alberta T1J-4A4 Canada;X-APPLE-RADIUS=500;X-TITLE=329 19th Street North Lethbridge\, Alberta:geo:-112.814634,49.6931758
END:VEVENT
BEGIN:VEVENT
DTSTART;TZID=America/Edmonton:20251028T190000
DTEND;TZID=America/Edmonton:20251028T210000
DTSTAMP:20260421T035811
CREATED:20250925T234255Z
LAST-MODIFIED:20250925T234255Z
UID:10005678-1761678000-1761685200@westminsterchapelpca.ca
SUMMARY:New Members Class
DESCRIPTION:
URL:https://westminsterchapelpca.ca/event/new-members-class-4/
LOCATION:Westminister Chapel\, 329 19th Street North Lethbridge\, Alberta\, Lethbridge\, Alberta\, T1J-4A4\, Canada
CATEGORIES:Meeting
GEO:49.6931758;-112.814634
X-APPLE-STRUCTURED-LOCATION;VALUE=URI;X-ADDRESS=Westminister Chapel 329 19th Street North Lethbridge Alberta Lethbridge Alberta T1J-4A4 Canada;X-APPLE-RADIUS=500;X-TITLE=329 19th Street North Lethbridge\, Alberta:geo:-112.814634,49.6931758
END:VEVENT
BEGIN:VEVENT
DTSTART;VALUE=DATE:20251026
DTEND;VALUE=DATE:20251027
DTSTAMP:20260421T035811
CREATED:20251023T033551Z
LAST-MODIFIED:20251024T214656Z
UID:10005384-1761436800-1761523199@westminsterchapelpca.ca
SUMMARY:4:30PM Worship
DESCRIPTION:Pastor Adam Harris \nGenesis 46:1 – 47:12 \nJacob’s Last Journey
URL:https://westminsterchapelpca.ca/event/pm-service-9/
LOCATION:Westminister Chapel\, 329 19th Street North Lethbridge\, Alberta\, Lethbridge\, Alberta\, T1J-4A4\, Canada
CATEGORIES:Worship Services
GEO:49.6931758;-112.814634
X-APPLE-STRUCTURED-LOCATION;VALUE=URI;X-ADDRESS=Westminister Chapel 329 19th Street North Lethbridge Alberta Lethbridge Alberta T1J-4A4 Canada;X-APPLE-RADIUS=500;X-TITLE=329 19th Street North Lethbridge\, Alberta:geo:-112.814634,49.6931758
END:VEVENT
BEGIN:VEVENT
DTSTART;VALUE=DATE:20251026
DTEND;VALUE=DATE:20251027
DTSTAMP:20260421T035811
CREATED:20251023T033502Z
LAST-MODIFIED:20251023T033502Z
UID:10005124-1761436800-1761523199@westminsterchapelpca.ca
SUMMARY:10:30AM Worship
DESCRIPTION:Pastor Adam Harris \nTitus 2:4-8 \nYoung\, Restless\, and Transformed
URL:https://westminsterchapelpca.ca/event/am-worship-118-11/
LOCATION:Westminister Chapel\, 329 19th Street North Lethbridge\, Alberta\, Lethbridge\, Alberta\, T1J-4A4\, Canada
GEO:49.6931758;-112.814634
X-APPLE-STRUCTURED-LOCATION;VALUE=URI;X-ADDRESS=Westminister Chapel 329 19th Street North Lethbridge Alberta Lethbridge Alberta T1J-4A4 Canada;X-APPLE-RADIUS=500;X-TITLE=329 19th Street North Lethbridge\, Alberta:geo:-112.814634,49.6931758
END:VEVENT
BEGIN:VEVENT
DTSTART;VALUE=DATE:20251026
DTEND;VALUE=DATE:20251027
DTSTAMP:20260421T035811
CREATED:20250821T193807Z
LAST-MODIFIED:20250925T030020Z
UID:10005646-1761436800-1761523199@westminsterchapelpca.ca
SUMMARY:9:30AM Sunday School
DESCRIPTION:Please join us for one of our Sunday School classes. We start with PreK/ KG and offer classes through adult.
URL:https://westminsterchapelpca.ca/event/sunday-school-8/2025-10-26/
LOCATION:Westminister Chapel\, 329 19th Street North Lethbridge\, Alberta\, Lethbridge\, Alberta\, T1J-4A4\, Canada
CATEGORIES:Sunday School
GEO:49.6931758;-112.814634
X-APPLE-STRUCTURED-LOCATION;VALUE=URI;X-ADDRESS=Westminister Chapel 329 19th Street North Lethbridge Alberta Lethbridge Alberta T1J-4A4 Canada;X-APPLE-RADIUS=500;X-TITLE=329 19th Street North Lethbridge\, Alberta:geo:-112.814634,49.6931758
END:VEVENT
BEGIN:VEVENT
DTSTART;TZID=America/Edmonton:20251022T190000
DTEND;TZID=America/Edmonton:20251022T210000
DTSTAMP:20260421T035811
CREATED:20250425T185402Z
LAST-MODIFIED:20250503T020256Z
UID:10004307-1761159600-1761166800@westminsterchapelpca.ca
SUMMARY:Prayer Meeting and Hymn Sing
DESCRIPTION:
URL:https://westminsterchapelpca.ca/event/prayer-meeting-and-hymn-sing-2/2025-10-22/
LOCATION:Westminister Chapel\, 329 19th Street North Lethbridge\, Alberta\, Lethbridge\, Alberta\, T1J-4A4\, Canada
CATEGORIES:Prayer
GEO:49.6931758;-112.814634
X-APPLE-STRUCTURED-LOCATION;VALUE=URI;X-ADDRESS=Westminister Chapel 329 19th Street North Lethbridge Alberta Lethbridge Alberta T1J-4A4 Canada;X-APPLE-RADIUS=500;X-TITLE=329 19th Street North Lethbridge\, Alberta:geo:-112.814634,49.6931758
END:VEVENT
BEGIN:VEVENT
DTSTART;TZID=America/Edmonton:20251021T190000
DTEND;TZID=America/Edmonton:20251021T210000
DTSTAMP:20260421T035811
CREATED:20250924T122938Z
LAST-MODIFIED:20250924T122938Z
UID:10005117-1761073200-1761080400@westminsterchapelpca.ca
SUMMARY:New Members Class
DESCRIPTION:Session will be conducting a new members class for all who are interested in formal membership at WC. Four Tuesday evenings\, 7pm at the church: Sept 30\, Oct 7\, Oct 21\, Oct 28. All visitors and regular attendees are invited to come and learn about the distinctives of Westminster
URL:https://westminsterchapelpca.ca/event/new-members-class-3/2025-10-21/
LOCATION:Westminister Chapel\, 329 19th Street North Lethbridge\, Alberta\, Lethbridge\, Alberta\, T1J-4A4\, Canada
CATEGORIES:Meeting
GEO:49.6931758;-112.814634
X-APPLE-STRUCTURED-LOCATION;VALUE=URI;X-ADDRESS=Westminister Chapel 329 19th Street North Lethbridge Alberta Lethbridge Alberta T1J-4A4 Canada;X-APPLE-RADIUS=500;X-TITLE=329 19th Street North Lethbridge\, Alberta:geo:-112.814634,49.6931758
END:VEVENT
BEGIN:VEVENT
DTSTART;VALUE=DATE:20251019
DTEND;VALUE=DATE:20251020
DTSTAMP:20260421T035811
CREATED:20251017T204216Z
LAST-MODIFIED:20251017T204216Z
UID:10005383-1760832000-1760918399@westminsterchapelpca.ca
SUMMARY:4:30PM Worship
DESCRIPTION:Pastor Ryan Case \nPsalm 96
URL:https://westminsterchapelpca.ca/event/pm-service-8/
LOCATION:Westminister Chapel\, 329 19th Street North Lethbridge\, Alberta\, Lethbridge\, Alberta\, T1J-4A4\, Canada
CATEGORIES:Worship Services
GEO:49.6931758;-112.814634
X-APPLE-STRUCTURED-LOCATION;VALUE=URI;X-ADDRESS=Westminister Chapel 329 19th Street North Lethbridge Alberta Lethbridge Alberta T1J-4A4 Canada;X-APPLE-RADIUS=500;X-TITLE=329 19th Street North Lethbridge\, Alberta:geo:-112.814634,49.6931758
END:VEVENT
BEGIN:VEVENT
DTSTART;VALUE=DATE:20251019
DTEND;VALUE=DATE:20251020
DTSTAMP:20260421T035811
CREATED:20251017T204044Z
LAST-MODIFIED:20251017T204044Z
UID:10005123-1760832000-1760918399@westminsterchapelpca.ca
SUMMARY:10:30AM Worship
DESCRIPTION:Reverend Peter Coyne \nColossians 2:6-7 \nRooted in the Gospel
URL:https://westminsterchapelpca.ca/event/am-worship-118-10/
LOCATION:Westminister Chapel\, 329 19th Street North Lethbridge\, Alberta\, Lethbridge\, Alberta\, T1J-4A4\, Canada
GEO:49.6931758;-112.814634
X-APPLE-STRUCTURED-LOCATION;VALUE=URI;X-ADDRESS=Westminister Chapel 329 19th Street North Lethbridge Alberta Lethbridge Alberta T1J-4A4 Canada;X-APPLE-RADIUS=500;X-TITLE=329 19th Street North Lethbridge\, Alberta:geo:-112.814634,49.6931758
END:VEVENT
END:VCALENDAR